Workbook

Sheet S1_Copied Data
A1: Feasibility: cost
C2: South/equatorial Window | D2: North /non equatorial window | E2: East/west window | F2: Light tube | G2: Skilight | H2: Operable windows | I2: Solar chimneys | J2: Solar access | K2: PV on roofs | L2: PV on facades | M2: PV in neighborhood surfaces | N2: Semi-transparent PV | O2: PV/thermal technologies | P2: PV+heat pump | Q2: STC on Facades | R2: STC on roofs | S2: STC in neighborhoods
A3: 1 | B3: anonymous | C3: Medium | D3: Medium | E3: Medium | F3: high /Medium | G3: high /Medium | H3: high /Medium | I3: high /Medium | J3: Medium | K3: high /Medium | L3: high /Medium | M3: high /Medium | N3: high /Medium | O3: high /Medium | P3: high /Medium | Q3: high /Medium | R3: high /Medium | S3: high /Medium
A4: 2 | B4: anonymous | C4: Medium/low | D4: Medium/low | E4: Medium/low | F4: High | G4: High | H4: High | I4: High | J4: Medium | K4: Medium | L4: Medium | M4: Medium | N4: Medium | O4: Medium | P4: high /Medium | Q4: Medium | R4: Medium | S4: Medium
A5: 3 | B5: anonymous | C5: Medium | D5: Medium | E5: Medium | F5: Low | G5: Low | H5: Medium | I5: Medium | J5: Medium/low | K5: high /Medium | L5: high /Medium | M5: high /Medium | N5: high /Medium | O5: high /Medium | P5: high /Medium | Q5: high /Medium | R5: high /Medium | S5: high /Medium
A6: 4 | B6: anonymous | C6: Low | D6: Low | E6: Low | F6: Medium/low | G6: high /Medium | H6: high /Medium | I6: High | J6: Medium | K6: Medium/low | L6: Medium/low | M6: Medium/low | N6: Medium | O6: Medium/low | P6: Medium | Q6: Medium | R6: Medium | S6: Medium/low
A7: 5 | B7: anonymous | C7: Medium/low | D7: Medium/low | E7: Medium/low | G7: Medium/low | H7: Low | J7: Low | K7: high /Medium | L7: high /Medium | M7: high /Medium | P7: High
A8: 6 | B8: anonymous | C8: Low | D8: Low | E8: Low | F8: Low | G8: Low | H8: Low | I8: high /Medium | J8: Low | K8: Low | L8: high /Medium | M8: Medium | N8: Medium/low | O8: Medium | P8: Medium/low | Q8: high /Medium | R8: Medium/low | S8: Medium/low
A9: 7 | B9: anonymous | C9: Low | D9: Low | E9: Low | F9: Medium | G9: Medium/low | H9: Low | I9: Medium | J9: Low | K9: Medium | L9: high /Medium | M9: Medium | N9: Medium | O9: Medium | P9: Medium | Q9: Medium | R9: Medium | S9: Medium
A10: 8 | B10: anonymous | C10: Medium | D10: Medium | E10: Medium | F10: High | G10: high /Medium | H10: Low | I10: high /Medium | J10: Medium/low | K10: Medium/low | L10: Medium | M10: Medium/low | N10: Medium | O10: Medium | P10: high /Medium | Q10: high /Medium | R10: high /Medium | S10: high /Medium
A11: 9 | B11: anonymous | C11: Low | D11: Low | E11: Low | F11: Medium/low | G11: Medium/low | H11: Low | I11: Medium | J11: Low | K11: Medium | L11: high /Medium | M11: Medium | N11: high /Medium | O11: high /Medium | P11: high /Medium | Q11: high /Medium | R11: high /Medium | S11: high /Medium
A12: 10 | B12: anonymous | C12: Low | D12: Low | E12: Low | F12: Medium/low | G12: Medium/low | H12: high /Medium | I12: Medium/low | J12: Low | K12: high /Medium | L12: high /Medium | M12: high /Medium | N12: High | O12: High | P12: High | Q12: High | R12: High | S12: High
A13: 11 | B13: anonymous | C13: Low | D13: Low | E13: Low | F13: high /Medium | G13: Medium | H13: Low | I13: high /Medium | J13: Low | K13: Medium | L13: high /Medium | M13: high /Medium | N13: High | O13: Medium | P13: high /Medium | Q13: High | R13: Medium | S13: high /Medium
A14: 12 | B14: anonymous | C14: Medium/low | D14: Medium/low | E14: Medium/low | F14: high /Medium | G14: Medium | H14: Medium/low | I14: high /Medium | J14: high /Medium | K14: Low | L14: Medium/low | M14: Low | N14: high /Medium | O14: Medium | P14: high /Medium | Q14: High | R14: high /Medium | S14: high /Medium
A15: 13 | B15: anonymous | C15: Medium/low | D15: Medium/low | E15: Medium/low | G15: Medium | H15: Medium/low | I15: High | J15: Low | K15: Medium/low | L15: Medium | M15: Medium | N15: high /Medium | O15: high /Medium | P15: Medium | Q15: high /Medium | R15: Medium | S15: high /Medium
A16: 14 | B16: anonymous | C16: Low | D16: Low | E16: Low | F16: Medium | G16: Medium/low | H16: Medium/low | I16: high /Medium | J16: Medium | K16: Medium | L16: high /Medium | M16: high /Medium | N16: High | O16: Medium | P16: high /Medium | Q16: High | R16: Medium | S16: High
A17: 15 | B17: anonymous | C17: Low | D17: Low | E17: Low | F17: Medium/low | G17: Medium/low | H17: Low | I17: Medium | J17: Low | K17: Medium/low | L17: Medium | M17: Medium | N17: high /Medium | O17: Medium/low | P17: Medium | Q17: Medium | R17: Medium | S17: Medium
A18: 16 | B18: anonymous | C18: High | D18: High | E18: High | F18: High | G18: high /Medium | H18: high /Medium | I18: Medium | J18: high /Medium | K18: High | L18: Medium | M18: Medium/low | N18: Medium | O18: high /Medium | P18: high /Medium | Q18: Medium/low | R18: High | S18: Low
A19: 17 | B19: anonymous | C19: Low | D19: Low | E19: Low | F19: Medium | G19: Medium/low | H19: Low | I19: high /Medium | J19: Low | K19: Medium | L19: Medium | M19: Medium | N19: Medium | O19: Medium | P19: Medium | Q19: Medium | R19: Medium | S19: Medium
A20: Feasibility: accessibility
C21: South/equatorial Window | D21: North /non equatorial window | E21: East/west window | F21: Light tube | G21: Skilight | H21: Operable windows | I21: Solar chimneys | J21: Solar access | K21: PV on roofs | L21: PV on facades | M21: PV in neighborhood surfaces | N21: Semi-transparent PV | O21: PV/thermal technologies | P21: PV+heat pump | Q21: STC on Facades | R21: STC on roofs | S21: STC in neighborhoods
A22: 1 | B22: anonymous | C22: Medium | D22: Medium | E22: Medium | F22: high /Medium | G22: high /Medium | H22: high /Medium | I22: Medium | J22: Medium | K22: Medium | L22: Medium | M22: Medium | N22: Medium | O22: Medium | P22: Medium | Q22: Medium | R22: Medium | S22: Medium
A23: 2 | B23: anonymous | C23: High | D23: High | E23: High | F23: Low | G23: high /Medium | H23: Medium | I23: Low | J23: High | K23: Medium | L23: Medium/low | M23: Medium | N23: high /Medium | O23: Medium | P23: high /Medium | Q23: Medium | R23: Medium | S23: Medium
A24: 3 | B24: anonymous | C24: High | D24: High | E24: High | F24: High | G24: High | H24: Medium | I24: Medium | J24: high /Medium | K24: High | L24: High | M24: High | N24: Medium | O24: high /Medium | P24: High | Q24: Low | R24: High | S24: Medium
A25: 4 | B25: anonymous | C25: High | D25: High | E25: High | F25: high /Medium | G25: High | H25: high /Medium | I25: Medium | J25: high /Medium | K25: high /Medium | L25: high /Medium | M25: high /Medium | N25: high /Medium | O25: high /Medium | P25: high /Medium | Q25: high /Medium | R25: high /Medium | S25: high /Medium
A26: 5 | B26: anonymous | C26: High | D26: High | E26: High | G26: High | H26: High | J26: High | K26: High | L26: high /Medium | N26: high /Medium | O26: High | P26: High | Q26: high /Medium | R26: High | S26: high /Medium
A27: 6 | B27: anonymous | C27: high /Medium | D27: high /Medium | E27: high /Medium | F27: high /Medium | G27: high /Medium | H27: high /Medium | I27: Medium/low | J27: High | K27: High | L27: Medium | M27: Medium/low | N27: Medium/low | O27: Medium | P27: high /Medium | Q27: Low | R27: High | S27: Medium/low
A28: 7 | B28: anonymous | C28: High | D28: High | E28: High | F28: Medium | G28: High | H28: High | I28: Medium/low | J28: High | K28: high /Medium | L28: high /Medium | M28: high /Medium | N28: high /Medium | O28: high /Medium | P28: high /Medium | Q28: high /Medium | R28: high /Medium | S28: high /Medium
A29: 8 | B29: anonymous | C29: High | D29: High | E29: High | F29: Medium | G29: high /Medium | H29: High | I29: high /Medium | J29: High | K29: High | L29: high /Medium | M29: Medium/low | N29: Medium | O29: Medium | P29: high /Medium | Q29: Medium | R29: Medium | S29: Low
A30: 9 | B30: anonymous | C30: High | D30: High | E30: High | F30: high /Medium | G30: High | H30: High | I30: high /Medium | J30: High | K30: High | L30: high /Medium | M30: high /Medium | N30: Medium | O30: Medium | P30: Medium | Q30: Medium | R30: high /Medium | S30: Medium
A31: 10 | B31: anonymous | C31: High | D31: High | E31: High | F31: Medium | G31: Medium | H31: Medium | I31: Medium | J31: High | K31: Medium/low | L31: Medium/low | M31: Medium/low | N31: Medium/low | O31: Medium/low | P31: Medium/low | Q31: Medium/low | R31: Medium/low | S31: Medium/low
A32: 11 | B32: anonymous | C32: High | D32: High | E32: High | F32: Low | G32: high /Medium | H32: High | I32: Medium/low | J32: High | K32: High | L32: Medium | M32: Medium | N32: Medium/low | O32: High | P32: High | Q32: Medium | R32: High | S32: Medium
A33: 12 | B33: anonymous | C33: high /Medium | D33: high /Medium | E33: high /Medium | F33: Medium/low | G33: Medium | H33: high /Medium | I33: Medium/low | J33: Medium | K33: high /Medium | L33: Medium/low | M33: Medium | N33: Medium/low | O33: Medium/low | P33: High | Q33: Medium/low | R33: Medium | S33: Medium/low
A34: 13 | B34: anonymous | C34: High | D34: High | E34: High | F34: Low | G34: Low | H34: High | I34: Low | J34: High | K34: high /Medium | L34: Low | M34: Low | N34: Low | O34: Low | P34: Medium | Q34: Low | R34: Medium | S34: Low
A35: 14 | B35: anonymous | C35: High | D35: High | E35: High | F35: Medium/low | G35: high /Medium | H35: High | I35: Medium/low | J35: high /Medium | K35: high /Medium | L35: high /Medium | M35: Medium | N35: Medium/low | O35: high /Medium | P35: high /Medium | Q35: Medium | R35: high /Medium | S35: Medium
A36: 15 | B36: anonymous | C36: Medium | D36: Medium | E36: Medium | F36: Medium/low | G36: Medium/low | H36: High | I36: Medium/low | J36: High | K36: High | L36: high /Medium | M36: Medium | N36: high /Medium | O36: high /Medium | P36: high /Medium | Q36: Medium | R36: Medium | S36: Medium
A37: 16 | B37: anonymous | C37: High | D37: High | E37: High | F37: High | G37: High | H37: High | I37: high /Medium | J37: High | K37: High | L37: Medium | M37: Medium/low | N37: high /Medium | O37: High | P37: high /Medium | Q37: Medium/low | R37: High | S37: Low
A38: 17 | B38: anonymous | C38: High | D38: High | E38: High | F38: High | G38: High | H38: High | I38: Medium/low | J38: high /Medium | K38: high /Medium | L38: high /Medium | M38: Medium | N38: high /Medium | O38: high /Medium | P38: high /Medium | Q38: high /Medium | R38: high /Medium | S38: high /Medium
A39: Environmental impact
C40: South/equatorial Window | D40: North /non equatorial window | E40: East/west window | F40: Light tube | G40: Skilight | H40: Operable windows | I40: Solar chimneys | J40: Solar access | K40: PV on roofs | L40: PV on facades | M40: PV in neighborhood surfaces | N40: Semi-transparent PV | O40: PV/thermal technologies | P40: PV+heat pump | Q40: STC on Facades | R40: STC on roofs | S40: STC in neighborhoods
A41: 1 | B41: anonymous | C41: High | D41: High | E41: high /Medium | F41: Medium/low | G41: Medium | H41: Medium | I41: high /Medium | J41: high /Medium | K41: Medium | L41: high /Medium | M41: high /Medium | N41: Medium | O41: high /Medium | P41: high /Medium | Q41: high /Medium | R41: high /Medium | S41: high /Medium
A42: 2 | B42: anonymous | C42: Medium/low | D42: Medium/low | E42: Medium/low | F42: high /Medium | G42: high /Medium | H42: Medium | I42: high /Medium | J42: High | K42: high /Medium | L42: high /Medium | M42: high /Medium | N42: high /Medium | O42: high /Medium | P42: Medium | Q42: high /Medium | R42: high /Medium | S42: high /Medium
A43: 3 | B43: anonymous | C43: Medium | D43: Low | E43: Medium/low | F43: Low | G43: Low | H43: Medium/low | I43: Medium/low | J43: Medium | K43: high /Medium | L43: high /Medium | M43: high /Medium | N43: High | O43: high /Medium | P43: high /Medium | Q43: High | R43: Medium | S43: Medium
A44: 4 | B44: anonymous | C44: Medium/low | D44: Medium | E44: Medium/low | F44: Medium/low | G44: Medium | H44: Medium | I44: Medium | J44: Low | K44: high /Medium | L44: high /Medium | M44: high /Medium | N44: high /Medium | O44: high /Medium | P44: high /Medium | Q44: high /Medium | R44: high /Medium | S44: high /Medium
A45: 5 | B45: anonymous | C45: Medium/low | D45: Medium/low | E45: Medium/low | F45: Medium | G45: Medium/low | H45: Medium | I45: Medium | J45: Low | K45: Medium | L45: Medium | M45: Medium | N45: Medium | O45: Medium | P45: Medium | Q45: Medium | R45: Medium | S45: Medium
A46: 6 | B46: anonymous | C46: Low | D46: Low | E46: Low | F46: Low | G46: Low | H46: Low | I46: Medium/low | J46: Low | K46: Medium/low | L46: Medium | M46: Medium/low | N46: high /Medium | O46: Medium | P46: Medium/low | Q46: Medium | R46: Medium/low | S46: Medium/low
A47: 7 | B47: anonymous | C47: Medium/low | D47: Medium/low | E47: Medium/low | F47: Medium | G47: Medium/low | H47: Medium/low | I47: Medium/low | J47: Low | K47: Medium/low | L47: Medium/low | M47: Medium/low | N47: Medium/low | O47: Medium/low | P47: Medium/low | Q47: Medium/low | R47: Medium/low | S47: Medium/low
A48: 8 | B48: anonymous | C48: Medium/low | D48: Medium/low | E48: Medium/low | F48: Medium | G48: Medium | H48: high /Medium | I48: Medium | J48: Medium/low | K48: High | L48: High | M48: High | N48: Medium | O48: high /Medium | P48: High | Q48: high /Medium | R48: high /Medium | S48: high /Medium
A49: 9 | B49: anonymous | C49: Low | D49: Low | E49: Low | F49: Low | G49: Low | H49: Medium/low | I49: Medium/low | J49: Low | K49: Medium | L49: Medium | M49: Medium | N49: Medium | O49: high /Medium | P49: high /Medium | Q49: high /Medium | R49: high /Medium | S49: high /Medium
A50: 10 | B50: anonymous | C50: Low | D50: Low | E50: Low | F50: Low | G50: Low | H50: Medium/low | I50: Low | J50: Low | K50: high /Medium | L50: high /Medium | M50: high /Medium | N50: high /Medium | O50: high /Medium | P50: High | Q50: high /Medium | R50: high /Medium | S50: high /Medium
A51: 11 | B51: anonymous | C51: Medium/low | D51: Medium/low | E51: Medium/low | F51: Medium | G51: Medium | H51: Medium/low | I51: Medium/low | J51: Low | K51: high /Medium | L51: high /Medium | M51: high /Medium | N51: high /Medium | O51: high /Medium | P51: High | Q51: high /Medium | R51: high /Medium | S51: high /Medium
A52: 12 | B52: anonymous | C52: Medium/low | D52: Medium/low | E52: Medium/low | F52: high /Medium | G52: Medium | H52: Medium/low | I52: high /Medium | J52: Low | K52: high /Medium | L52: High | M52: high /Medium | N52: high /Medium | O52: High | P52: High | Q52: High | R52: High | S52: High
... A57: 17 | B57: anonymous | C57: Low | D57: Low | E57: Low | F57: Low | G57: Low | H57: Low | I57: Medium/low | J57: Low | K57: Medium | L57: Medium | M57: Medium | N57: Medium | O57: Medium | P57: Medium | Q57: Medium | R57: Medium | S57: Medium
A58: Acceptance
C59: South/equatorial Window | D59: North /non equatorial window | E59: East/west window | F59: Light tube | G59: Skilight | H59: Operable windows | I59: Solar chimneys | J59: Solar access | K59: PV on roofs | L59: PV on facades | M59: PV in neighborhood surfaces | N59: Semi-transparent PV | O59: PV/thermal technologies | P59: PV+heat pump | Q59: STC on Facades | R59: STC on roofs | S59: STC in neighborhoods
A60: 1 | B60: anonymous | C60: High | D60: Medium | E60: high /Medium | F60: Medium | G60: Medium | H60: high /Medium | I60: Medium | J60: Medium | K60: Medium | L60: Medium/low | M60: Medium/low | N60: Medium | O60: Medium/low | P60: Medium/low | Q60: Medium/low | R60: Medium/low | S60: Medium/low
A61: 2 | B61: anonymous | C61: High | D61: High | E61: High | F61: Low | G61: Medium | H61: Medium | I61: Medium/low | J61: high /Medium | K61: Medium | L61: Medium | M61: Medium | N61: Medium | O61: Medium | P61: Medium | Q61: Medium | R61: Medium | S61: Medium
A62: 3 | B62: anonymous | C62: High | D62: High | E62: High | F62: High | G62: High | H62: Medium | I62: Medium | J62: Medium | K62: High | L62: Medium | M62: Medium/low | N62: Medium/low | O62: Medium/low | P62: Medium | Q62: Medium/low | R62: high /Medium | S62: Medium/low
A63: 4 | B63: anonymous | C63: High | D63: high /Medium | E63: High | F63: Medium/low | G63: high /Medium | H63: Medium | I63: Low | J63: High | K63: high /Medium | L63: Medium | M63: High | N63: high /Medium | O63: high /Medium | P63: high /Medium | Q63: Medium | R63: high /Medium | S63: High
A64: 5 | B64: anonymous | C64: High | D64: High | E64: High | G64: High | H64: High | J64: High | K64: high /Medium | L64: Medium | M64: high /Medium | N64: Medium | P64: high /Medium | Q64: Medium | R64: High | S64: high /Medium
A65: 6 | B65: anonymous | C65: High | D65: High | E65: High | F65: High | G65: High | H65: High | I65: Medium/low | J65: High | K65: High | L65: Medium | M65: Medium/low | N65: Medium/low | O65: high /Medium | P65: high /Medium | Q65: Low | R65: High | S65: Medium/low
A66: 7 | B66: anonymous | C66: High | D66: High | E66: High | F66: high /Medium | G66: High | H66: High | I66: Medium | J66: High | K66: high /Medium | L66: high /Medium | M66: high /Medium | N66: high /Medium | O66: high /Medium | P66: high /Medium | Q66: high /Medium | R66: high /Medium | S66: high /Medium
A67: 8 | B67: anonymous | C67: High | D67: High | E67: High | F67: Medium | G67: Medium | H67: High | I67: Medium | J67: High | K67: High | L67: Medium | M67: Medium | N67: high /Medium | O67: High | P67: High | Q67: Medium | R67: High | S67: Medium
A68: 9 | B68: anonymous | C68: High | D68: High | E68: High | F68: High | G68: High | H68: High | I68: high /Medium | J68: High | K68: High | L68: Medium | M68: high /Medium | N68: Medium | O68: high /Medium | P68: high /Medium | Q68: Medium | R68: High | S68: High
A69: 10 | B69: anonymous | C69: High | D69: High | E69: High | F69: High | G69: High | H69: High | I69: High | J69: High | K69: High | L69: High | M69: High | N69: High | O69: High | P69: high /Medium | Q69: high /Medium | R69: high /Medium | S69: high /Medium
A70: 11 | B70: anonymous | C70: High | D70: High | E70: High | F70: Medium | G70: high /Medium | H70: high /Medium | I70: high /Medium | J70: High | K70: Medium | L70: Medium/low | M70: Medium/low | N70: Medium/low | O70: high /Medium | P70: high /Medium | Q70: Medium/low | R70: Medium | S70: Medium/low
A71: 12 | B71: anonymous | C71: High | D71: High | E71: High | F71: Low | G71: Medium | H71: Medium | I71: Low | J71: High | K71: High | L71: Medium/low | M71: Low | N71: Medium/low | O71: High | P71: High | Q71: Low | R71: Medium | S71: Low
A72: 13 | B72: anonymous | D72: High | E72: High | F72: Medium | G72: high /Medium | H72: High | I72: Low | J72: High | K72: High | L72: high /Medium | M72: high /Medium | N72: Medium | O72: Medium | P72: high /Medium | Q72: Medium/low | R72: high /Medium | S72: Medium/low
A73: 14 | B73: anonymous | C73: High | D73: High | E73: High | F73: Medium | G73: high /Medium | H73: High | I73: high /Medium | J73: High | K73: high /Medium | L73: Medium | M73: Medium | N73: Medium | O73: high /Medium | P73: high /Medium | Q73: Medium | R73: high /Medium | S73: Medium
A74: 15 | B74: anonymous | C74: High | D74: High | E74: High | F74: Low | G74: Medium/low | H74: High | I74: Medium | J74: High | K74: High | L74: Medium | M74: Medium/low | N74: Medium | O74: Medium | P74: High | Q74: Medium/low | R74: Medium/low | S74: Medium/low
A75: 16 | B75: anonymous | C75: High | D75: High | E75: High | F75: High | G75: high /Medium | H75: high /Medium | I75: Medium | J75: High | K75: High | L75: high /Medium | M75: Medium | N75: high /Medium | O75: High | P75: High | Q75: Low | R75: high /Medium | S75: Medium/low
A76: 17 | B76: anonymous | C76: High | D76: High | E76: High | F76: High | G76: High | H76: High | I76: Medium | J76: High | K76: High | L76: high /Medium | M76: high /Medium | N76: high /Medium | O76: High | P76: High | Q76: high /Medium | R76: High | S76: high /Medium

Sheet Existing MAIN
A1: Strategy | B1: Implementation in exisiting building and neighborhoods | C1: Feasibility: cost | D1: Feasibility: accessibility | E1: Environmental impact | F1: Acceptance | G1: Overall Score
A2: South/equatorial Window | B2: =D21 -> 7.2592593 | C2: =D39 -> 4 | D2: =D57 -> 8.4444444 | E2: =D75 -> 4.1481481 | F2: =D93 -> 8.962963 | G2: =(((B2*'User Interface'!$F$24)-(C2*'User Interface'!$F$25)+(D2*'User Interface'!$F$26)+(E2*'User Interface'!$F$27)+(F2*'User Interface'!$F$28))) -> 4.962963 | I2: =B2-C2+D2+E2+F2 -> 24.814815 | J2: =(I2/40)*10 -> 6.2037037
A3: North /non equatorial window | B3: =D22 -> 7.2592593 | C3: =D40 -> 4.0740741 | D3: =D58 -> 8.4444444 | E3: =D76 -> 3.9259259 | F3: =D94 -> 8.8148148 | G3: =(((B3*'User Interface'!$F$24)-(C3*'User Interface'!$F$25)+(D3*'User Interface'!$F$26)+(E3*'User Interface'!$F$27)+(F3*'User Interface'!$F$28))) -> 4.8740741
A4: East/west window | B4: =D23 -> 7.3333333 | C4: =D41 -> 4 | D4: =D59 -> 8.0740741 | E4: =D77 -> 4 | F4: =D95 -> 8.8148148 | G4: =(((B4*'User Interface'!$F$24)-(C4*'User Interface'!$F$25)+(D4*'User Interface'!$F$26)+(E4*'User Interface'!$F$27)+(F4*'User Interface'!$F$28))) -> 4.8444444
A5: Light tube | B5: =D24 -> 6.5925926 | C5: =D42 -> 5.2592593 | D5: =D60 -> 5.7037037 | E5: =D78 -> 4.1481481 | F5: =D96 -> 6.0740741 | G5: =(((B5*'User Interface'!$F$24)-(C5*'User Interface'!$F$25)+(D5*'User Interface'!$F$26)+(E5*'User Interface'!$F$27)+(F5*'User Interface'!$F$28))) -> 3.4518519
A6: Skylight | B6: =D25 -> 6.6666667 | C6: =D43 -> 5.4074074 | D6: =D61 -> 7.3333333 | E6: =D79 -> 4.5185185 | F6: =D97 -> 7.7777778 | G6: =(((B6*'User Interface'!$F$24)-(C6*'User Interface'!$F$25)+(D6*'User Interface'!$F$26)+(E6*'User Interface'!$F$27)+(F6*'User Interface'!$F$28))) -> 4.1777778
A7: Operable windows | B7: =D26 -> 8.5185185 | C7: =D44 -> 4.7407407 | D7: =D62 -> 8.2222222 | E7: =D80 -> 4.4444444 | F7: =D98 -> 8.2222222 | G7: =(((B7*'User Interface'!$F$24)-(C7*'User Interface'!$F$25)+(D7*'User Interface'!$F$26)+(E7*'User Interface'!$F$27)+(F7*'User Interface'!$F$28))) -> 4.9333333
A8: Solar chimneys | B8: =D27 -> 5.1111111 | C8: =D45 -> 6.8148148 | D8: =D63 -> 5.037037 | E8: =D81 -> 5.037037 | F8: =D99 -> 5.1111111 | G8: =(((B8*'User Interface'!$F$24)-(C8*'User Interface'!$F$25)+(D8*'User Interface'!$F$26)+(E8*'User Interface'!$F$27)+(F8*'User Interface'!$F$28))) -> 2.6962963
A9: Solar access | B9: =D28 -> 6.2222222 | C9: =D46 -> 4.5925926 | D9: =D64 -> 8.2222222 | E9: =D82 -> 4.2222222 | F9: =D100 -> 8.962963 | G9: =(((B9*'User Interface'!$F$24)-(C9*'User Interface'!$F$25)+(D9*'User Interface'!$F$26)+(E9*'User Interface'!$F$27)+(F9*'User Interface'!$F$28))) -> 4.6074074
A10: PV on roofs | B10: =D29 -> 8.6666667 | C10: =D47 -> 5.7777778 | D10: =D65 -> 7.6296296 | E10: =D83 -> 6.0740741 | F10: =D101 -> 8.2962963 | G10: =(((B10*'User Interface'!$F$24)-(C10*'User Interface'!$F$25)+(D10*'User Interface'!$F$26)+(E10*'User Interface'!$F$27)+(F10*'User Interface'!$F$28))) -> 4.9777778
A11: PV on facades | B11: =D30 -> 7.4074074 | C11: =D48 -> 6.5925926 | D11: =D66 -> 6.3703704 | E11: =D84 -> 6.5925926 | F11: =D102 -> 6.0740741 | G11: =(((B11*'User Interface'!$F$24)-(C11*'User Interface'!$F$25)+(D11*'User Interface'!$F$26)+(E11*'User Interface'!$F$27)+(F11*'User Interface'!$F$28))) -> 3.9703704
A12: PV in neighborhood surfaces | B12: =D31 -> 7.7777778 | C12: =D49 -> 6.1481481 | D12: =D67 -> 5.4814815 | E12: =D85 -> 6.3703704 | F12: =D103 -> 5.9259259 | G12: =(((B12*'User Interface'!$F$24)-(C12*'User Interface'!$F$25)+(D12*'User Interface'!$F$26)+(E12*'User Interface'!$F$27)+(F12*'User Interface'!$F$28))) -> 3.8814815
A13: Semi-transparent PV | B13: =D32 -> 7.6296296 | C13: =D50 -> 7.037037 | D13: =D68 -> 5.7037037 | E13: =D86 -> 6.5185185 | F13: =D104 -> 6.0740741 | G13: =(((B13*'User Interface'!$F$24)-(C13*'User Interface'!$F$25)+(D13*'User Interface'!$F$26)+(E13*'User Interface'!$F$27)+(F13*'User Interface'!$F$28))) -> 3.7777778
A14: PV/thermal technologies | B14: =D33 -> 8 | C14: =D51 -> 6.5185185 | D14: =D69 -> 6.6666667 | E14: =D87 -> 6.5185185 | F14: =D105 -> 6.5925926 | G14: =(((B14*'User Interface'!$F$24)-(C14*'User Interface'!$F$25)+(D14*'User Interface'!$F$26)+(E14*'User Interface'!$F$27)+(F14*'User Interface'!$F$28))) -> 4.2518519
... A18: STC in neighborhoods | B18: =D37 -> 6.962963 | C18: =D55 -> 6.5925926 | D18: =D73 -> 5.1851852 | E18: =D91 -> 6.5185185 | F18: =D109 -> 5.5555556 | G18: =(((B18*'User Interface'!$F$24)-(C18*'User Interface'!$F$25)+(D18*'User Interface'!$F$26)+(E18*'User Interface'!$F$27)+(F18*'User Interface'!$F$28))) -> 3.5259259
A20: Solar Strategy | B20: Outcome | C20: Rounded off Weighted Score | D20: Weighted Score | E20: Easy | F20: Need some renovation | G20: Need deep renovation | H20: Hard | I20: Not possible
A21: South/equatorial window | B21: =VLOOKUP(C21,Backend!$A$2:$B$9,2,FALSE) -> Need some/deep renovation | C21: =ROUND(D21,0) -> 7 | D21: =((E21*Backend!$I$2)+(F21*Backend!$I$4)+(G21*Backend!$I$6)+(H21*Backend!$I$8)+(I21*Backend!$I$10))/27 -> 7.2592593 | E21: =COUNTIF($J21:$AJ21,Backend!$B$2) -> 5 | F21: =COUNTIF($J21:$AJ21,Backend!$B$4) -> 11 | G21: =COUNTIF($J21:$AJ21,Backend!$B$6) -> 9 | H21: =COUNTIF($J21:$AJ21,Backend!$B$8) -> 1 | I21: =COUNTIF($J21:$AJ21,Backend!$B$9) -> 0 | J21: need deep renovation | K21: need some renovation | L21: need deep renovation | M21: easy | N21: need some renovation | O21: need deep renovation | P21: need some renovation | Q21: need deep renovation | R21: need some renovation | S21: need deep renovation | T21: need deep renovation | U21: need some renovation | V21: easy | W21: need deep renovation | X21: hard | Y21: need some renovation | Z21: easy | AA21: need deep renovation | AB21: need deep renovation | AC21: need some renovation | AD21: need some renovation | AE21: easy | AF21: need some renovation | AG21: need some renovation | AH21: need some renovation | AI21: easy
A22: North /non equatorial window | B22: =VLOOKUP(C22,Backend!$A$2:$B$9,2,FALSE) -> Need some/deep renovation | C22: =ROUND(D22,0) -> 7 | D22: =((E22*Backend!$I$2)+(F22*Backend!$I$4)+(G22*Backend!$I$6)+(H22*Backend!$I$8)+(I22*Backend!$I$10))/27 -> 7.2592593 | E22: =COUNTIF($J22:$AJ22,Backend!$B$2) -> 5 | F22: =COUNTIF($J22:$AJ22,Backend!$B$4) -> 11 | G22: =COUNTIF($J22:$AJ22,Backend!$B$6) -> 9 | H22: =COUNTIF($J22:$AJ22,Backend!$B$8) -> 1 | I22: =COUNTIF($J22:$AJ22,Backend!$B$9) -> 0 | J22: need deep renovation | K22: need some renovation | L22: need deep renovation | M22: easy | N22: need some renovation | O22: need deep renovation | P22: need some renovation | Q22: need deep renovation | R22: need some renovation | S22: need deep renovation | T22: need deep renovation | U22: need some renovation | V22: easy | W22: need deep renovation | X22: hard | Y22: need some renovation | Z22: easy | AA22: need deep renovation | AB22: need deep renovation | AC22: need some renovation | AD22: need some renovation | AE22: easy | AF22: need some renovation | AG22: need some renovation | AH22: need some renovation | AI22: easy
A23: East/west window | B23: =VLOOKUP(C23,Backend!$A$2:$B$9,2,FALSE) -> Need some/deep renovation | C23: =ROUND(D23,0) -> 7 | D23: =((E23*Backend!$I$2)+(F23*Backend!$I$4)+(G23*Backend!$I$6)+(H23*Backend!$I$8)+(I23*Backend!$I$10))/27 -> 7.3333333 | E23: =COUNTIF($J23:$AJ23,Backend!$B$2) -> 6 | F23: =COUNTIF($J23:$AJ23,Backend!$B$4) -> 10 | G23: =COUNTIF($J23:$AJ23,Backend!$B$6) -> 9 | H23: =COUNTIF($J23:$AJ23,Backend!$B$8) -> 1 | I23: =COUNTIF($J23:$AJ23,Backend!$B$9) -> 0 | J23: need deep renovation | K23: need some renovation | L23: need deep renovation | M23: easy | N23: need some renovation | O23: need deep renovation | P23: need some renovation | Q23: need deep renovation | R23: easy | S23: need deep renovation | T23: need deep renovation | U23: need some renovation | V23: easy | W23: need deep renovation | X23: hard | Y23: need some renovation | Z23: easy | AA23: need deep renovation | AB23: need deep renovation | AC23: need some renovation | AD23: need some renovation | AE23: easy | AF23: need some renovation | AG23: need some renovation | AH23: need some renovation | AI23: easy
A24: Light tube | B24: =VLOOKUP(C24,Backend!$A$2:$B$9,2,FALSE) -> Need some/deep renovation | C24: =ROUND(D24,0) -> 7 | D24: =((E24*Backend!$I$2)+(F24*Backend!$I$4)+(G24*Backend!$I$6)+(H24*Backend!$I$8)+(I24*Backend!$I$10))/27 -> 6.5925926 | E24: =COUNTIF($J24:$AJ24,Backend!$B$2) -> 6 | F24: =COUNTIF($J24:$AJ24,Backend!$B$4) -> 4 | G24: =COUNTIF($J24:$AJ24,Backend!$B$6) -> 9 | H24: =COUNTIF($J24:$AJ24,Backend!$B$8) -> 8 | I24: =COUNTIF($J24:$AJ24,Backend!$B$9) -> 0 | J24: need some renovation | K24: hard | L24: easy | M24: easy | N24: need deep renovation | O24: easy | P24: need deep renovation | Q24: need deep renovation | R24: hard | S24: hard | T24: need deep renovation | U24: hard | V24: need some renovation | W24: need some renovation | X24: hard | Y24: easy | Z24: need deep renovation | AA24: need deep renovation | AB24: hard | AC24: need deep renovation | AD24: hard | AE24: easy | AF24: easy | AG24: need deep renovation | AH24: hard | AI24: need some renovation | AJ24: need deep renovation
A25: Skylight | B25: =VLOOKUP(C25,Backend!$A$2:$B$9,2,FALSE) -> Need some/deep renovation | C25: =ROUND(D25,0) -> 7 | D25: =((E25*Backend!$I$2)+(F25*Backend!$I$4)+(G25*Backend!$I$6)+(H25*Backend!$I$8)+(I25*Backend!$I$10))/27 -> 6.6666667 | E25: =COUNTIF($J25:$AJ25,Backend!$B$2) -> 2 | F25: =COUNTIF($J25:$AJ25,Backend!$B$4) -> 11 | G25: =COUNTIF($J25:$AJ25,Backend!$B$6) -> 8 | H25: =COUNTIF($J25:$AJ25,Backend!$B$8) -> 6 | I25: =COUNTIF($J25:$AJ25,Backend!$B$9) -> 0 | J25: hard | K25: need deep renovation | L25: need some renovation | M25: need some renovation | N25: need deep renovation | O25: need some renovation | P25: need deep renovation | Q25: need deep renovation | R25: need some renovation | S25: hard | T25: need some renovation | U25: need deep renovation | V25: need some renovation | W25: need deep renovation | X25: hard | Y25: need some renovation | Z25: need some renovation | AA25: need deep renovation | AB25: need deep renovation | AC25: need some renovation | AD25: hard | AE25: need some renovation | AF25: easy | AG25: need some renovation | AH25: hard | AI25: easy | AJ25: hard
A26: Operable windows | B26: =VLOOKUP(C26,Backend!$A$2:$B$9,2,FALSE) -> Need some renovation/easy | C26: =ROUND(D26,0) -> 9 | D26: =((E26*Backend!$I$2)+(F26*Backend!$I$4)+(G26*Backend!$I$6)+(H26*Backend!$I$8)+(I26*Backend!$I$10))/27 -> 8.5185185 | E26: =COUNTIF($J26:$AJ26,Backend!$B$2) -> 10 | F26: =COUNTIF($J26:$AJ26,Backend!$B$4) -> 15 | G26: =COUNTIF($J26:$AJ26,Backend!$B$6) -> 1 | H26: =COUNTIF($J26:$AJ26,Backend!$B$8) -> 1 | I26: =COUNTIF($J26:$AJ26,Backend!$B$9) -> 0 | J26: need some renovation | K26: need some renovation | L26: need some renovation | M26: easy | N26: easy | O26: need some renovation | P26: need some renovation | Q26: need some renovation | R26: easy | S26: need deep renovation | T26: need some renovation | U26: need some renovation | V26: easy | W26: easy | X26: easy | Y26: need some renovation | Z26: easy | AA26: need some renovation | AB26: need some renovation | AC26: easy | AD26: need some renovation | AE26: need some renovation | AF26: easy | AG26: need some renovation | AH26: hard | AI26: easy | AJ26: need some renovation
A27: Solar chimneys | B27: =VLOOKUP(C27,Backend!$A$2:$B$9,2,FALSE) -> Need deep renovation/hard | C27: =ROUND(D27,0) -> 5 | D27: =((E27*Backend!$I$2)+(F27*Backend!$I$4)+(G27*Backend!$I$6)+(H27*Backend!$I$8)+(I27*Backend!$I$10))/27 -> 5.1111111 | E27: =COUNTIF($J27:$AJ27,Backend!$B$2) -> 0 | F27: =COUNTIF($J27:$AJ27,Backend!$B$4) -> 1 | G27: =COUNTIF($J27:$AJ27,Backend!$B$6) -> 13 | H27: =COUNTIF($J27:$AJ27,Backend!$B$8) -> 13 | I27: =COUNTIF($J27:$AJ27,Backend!$B$9) -> 0 | J27: hard | K27: hard | L27: hard | M27: need deep renovation | N27: need deep renovation | O27: need deep renovation | P27: need deep renovation | Q27: need deep renovation | R27: need deep renovation | S27: hard | T27: hard | U27: hard | V27: hard | W27: need deep renovation | X27: hard | Y27: hard | Z27: hard | AA27: need deep renovation | AB27: need deep renovation | AC27: need deep renovation | AD27: need deep renovation | AE27: need deep renovation | AF27: need deep renovation | AG27: need some renovation | AH27: hard | AI27: hard | AJ27: hard
A28: Solar access | B28: =VLOOKUP(C28,Backend!$A$2:$B$9,2,FALSE) -> Need deep renovation | C28: =ROUND(D28,0) -> 6 | D28: =((E28*Backend!$I$2)+(F28*Backend!$I$4)+(G28*Backend!$I$6)+(H28*Backend!$I$8)+(I28*Backend!$I$10))/27 -> 6.2222222 | E28: =COUNTIF($J28:$AJ28,Backend!$B$2) -> 3 | F28: =COUNTIF($J28:$AJ28,Backend!$B$4) -> 10 | G28: =COUNTIF($J28:$AJ28,Backend!$B$6) -> 4 | H28: =COUNTIF($J28:$AJ28,Backend!$B$8) -> 7 | I28: =COUNTIF($J28:$AJ28,Backend!$B$9) -> 3 | J28: hard | K28: need some renovation | L28: need deep renovation | M28: need some renovation | N28: not possible | O28: need some renovation | P28: easy | Q28: need deep renovation | R28: hard | S28: hard | T28: need some renovation | U28: hard | V28: not possible | W28: hard | X28: need deep renovation | Y28: need some renovation | Z28: need deep renovation | AA28: not possible | AB28: need some renovation | AC28: need some renovation | AD28: easy | AE28: need some renovation | AF28: need some renovation | AG28: need some renovation | AH28: hard | AI28: hard | AJ28: easy
A29: PV on roofs | B29: =VLOOKUP(C29,Backend!$A$2:$B$9,2,FALSE) -> Need some renovation/easy | C29: =ROUND(D29,0) -> 9 | D29: =((E29*Backend!$I$2)+(F29*Backend!$I$4)+(G29*Backend!$I$6)+(H29*Backend!$I$8)+(I29*Backend!$I$10))/27 -> 8.6666667 | E29: =COUNTIF($J29:$AJ29,Backend!$B$2) -> 14 | F29: =COUNTIF($J29:$AJ29,Backend!$B$4) -> 10 | G29: =COUNTIF($J29:$AJ29,Backend!$B$6) -> 1 | H29: =COUNTIF($J29:$AJ29,Backend!$B$8) -> 2 | I29: =COUNTIF($J29:$AJ29,Backend!$B$9) -> 0 | J29: hard | K29: need some renovation | L29: easy | M29: easy | N29: easy | O29: need some renovation | P29: need some renovation | Q29: easy | R29: need some renovation | S29: hard | T29: easy | U29: easy | V29: easy | W29: need some renovation | X29: easy | Y29: easy | Z29: need some renovation | AA29: need some renovation | AB29: need some renovation | AC29: easy | AD29: easy | AE29: need some renovation | AF29: easy | AG29: need some renovation | AH29: easy | AI29: easy | AJ29: need deep renovation
A30: PV on facades | B30: =VLOOKUP(C30,Backend!$A$2:$B$9,2,FALSE) -> Need some/deep renovation | C30: =ROUND(D30,0) -> 7 | D30: =((E30*Backend!$I$2)+(F30*Backend!$I$4)+(G30*Backend!$I$6)+(H30*Backend!$I$8)+(I30*Backend!$I$10))/27 -> 7.4074074 | E30: =COUNTIF($J30:$AJ30,Backend!$B$2) -> 4 | F30: =COUNTIF($J30:$AJ30,Backend!$B$4) -> 14 | G30: =COUNTIF($J30:$AJ30,Backend!$B$6) -> 6 | H30: =COUNTIF($J30:$AJ30,Backend!$B$8) -> 3 | I30: =COUNTIF($J30:$AJ30,Backend!$B$9) -> 0 | J30: hard | K30: need some renovation | L30: need some renovation | M30: easy | N30: need some renovation | O30: need deep renovation | P30: need some renovation | Q30: need deep renovation | R30: need deep renovation | S30: hard | T30: need some renovation | U30: need some renovation | V30: easy | W30: easy | X30: need some renovation | Y30: need some renovation | Z30: need deep renovation | AA30: need some renovation | AB30: need deep renovation | AC30: need some renovation | AD30: need some renovation | AE30: hard | AF30: need some renovation | AG30: need some renovation | AH30: need some renovation | AI30: easy | AJ30: need deep renovation
A31: PV in neighborhood surfaces | B31: =VLOOKUP(C31,Backend!$A$2:$B$9,2,FALSE) -> Need some renovation | C31: =ROUND(D31,0) -> 8 | D31: =((E31*Backend!$I$2)+(F31*Backend!$I$4)+(G31*Backend!$I$6)+(H31*Backend!$I$8)+(I31*Backend!$I$10))/27 -> 7.7777778 | E31: =COUNTIF($J31:$AJ31,Backend!$B$2) -> 10 | F31: =COUNTIF($J31:$AJ31,Backend!$B$4) -> 8 | G31: =COUNTIF($J31:$AJ31,Backend!$B$6) -> 5 | H31: =COUNTIF($J31:$AJ31,Backend!$B$8) -> 4 | I31: =COUNTIF($J31:$AJ31,Backend!$B$9) -> 0 | J31: hard | K31: need some renovation | L31: easy | M31: easy | N31: easy | O31: need deep renovation | P31: need some renovation | Q31: easy | R31: need some renovation | S31: hard | T31: easy | U31: need deep renovation | V31: easy | W31: easy | X31: hard | Y31: need deep renovation | Z31: need some renovation | AA31: need some renovation | AB31: hard | AC31: easy | AD31: need some renovation | AE31: need deep renovation | AF31: easy | AG31: need some renovation | AH31: need some renovation | AI31: easy | AJ31: need deep renovation
A32: Semi-transparent PV | B32: =VLOOKUP(C32,Backend!$A$2:$B$9,2,FALSE) -> Need some renovation | C32: =ROUND(D32,0) -> 8 | D32: =((E32*Backend!$I$2)+(F32*Backend!$I$4)+(G32*Backend!$I$6)+(H32*Backend!$I$8)+(I32*Backend!$I$10))/27 -> 7.6296296 | E32: =COUNTIF($J32:$AJ32,Backend!$B$2) -> 7 | F32: =COUNTIF($J32:$AJ32,Backend!$B$4) -> 13 | G32: =COUNTIF($J32:$AJ32,Backend!$B$6) -> 4 | H32: =COUNTIF($J32:$AJ32,Backend!$B$8) -> 2 | I32: =COUNTIF($J32:$AJ32,Backend!$B$9) -> 0 | J32: hard | K32: need some renovation | L32: easy | M32: easy | N32: need some renovation | O32: need deep renovation | P32: need some renovation | Q32: easy | R32: need some renovation | S32: need deep renovation | T32: need some renovation | U32: need deep renovation | W32: easy | X32: need some renovation | Y32: need some renovation | Z32: need some renovation | AA32: need some renovation | AB32: need some renovation | AC32: easy | AD32: hard | AE32: need some renovation | AF32: easy | AG32: need some renovation | AH32: easy | AI32: need some renovation | AJ32: need deep renovation
A33: PV/thermal technologies | B33: =VLOOKUP(C33,Backend!$A$2:$B$9,2,FALSE) -> Need some renovation | C33: =ROUND(D33,0) -> 8 | D33: =((E33*Backend!$I$2)+(F33*Backend!$I$4)+(G33*Backend!$I$6)+(H33*Backend!$I$8)+(I33*Backend!$I$10))/27 -> 8 | E33: =COUNTIF($J33:$AJ33,Backend!$B$2) -> 9 | F33: =COUNTIF($J33:$AJ33,Backend!$B$4) -> 10 | G33: =COUNTIF($J33:$AJ33,Backend!$B$6) -> 7 | H33: =COUNTIF($J33:$AJ33,Backend!$B$8) -> 1 | I33: =COUNTIF($J33:$AJ33,Backend!$B$9) -> 0 | J33: hard | K33: need some renovation | L33: easy | M33: easy | N33: need some renovation | O33: need some renovation | P33: need some renovation | Q33: easy | R33: need deep renovation | S33: need deep renovation | T33: easy | U33: need deep renovation | V33: need some renovation | W33: easy | X33: need some renovation | Y33: easy | Z33: easy | AA33: need deep renovation | AB33: need some renovation | AC33: need some renovation | AD33: need deep renovation | AE33: need some renovation | AF33: easy | AG33: need deep renovation | AH33: easy | AI33: need some renovation | AJ33: need deep renovation
A34: PV+heat pump | B34: =VLOOKUP(C34,Backend!$A$2:$B$9,2,FALSE) -> Need some/deep renovation | C34: =ROUND(D34,0) -> 7 | D34: =((E34*Backend!$I$2)+(F34*Backend!$I$4)+(G34*Backend!$I$6)+(H34*Backend!$I$8)+(I34*Backend!$I$10))/27 -> 7.1851852 | E34: =COUNTIF($J34:$AJ34,Backend!$B$2) -> 2 | F34: =COUNTIF($J34:$AJ34,Backend!$B$4) -> 13 | G34: =COUNTIF($J34:$AJ34,Backend!$B$6) -> 11 | H34: =COUNTIF($J34:$AJ34,Backend!$B$8) -> 1 | I34: =COUNTIF($J34:$AJ34,Backend!$B$9) -> 0 | J34: hard | K34: need some renovation | L34: need some renovation | M34: need some renovation | N34: need deep renovation | O34: need deep renovation | P34: need some renovation | Q34: need deep renovation | R34: need deep renovation | S34: need deep renovation | T34: need some renovation | U34: need some renovation | V34: need some renovation | W34: need some renovation | X34: easy | Y34: need deep renovation | Z34: easy | AA34: need deep renovation | AB34: need some renovation | AC34: need some renovation | AD34: need deep renovation | AE34: need deep renovation | AF34: need some renovation | AG34: need some renovation | AH34: need deep renovation | AI34: need some renovation | AJ34: need deep renovation
A35: STC on facades | B35: =VLOOKUP(C35,Backend!$A$2:$B$9,2,FALSE) -> Need deep renovation | C35: =ROUND(D35,0) -> 6 | D35: =((E35*Backend!$I$2)+(F35*Backend!$I$4)+(G35*Backend!$I$6)+(H35*Backend!$I$8)+(I35*Backend!$I$10))/27 -> 6.4444444 | E35: =COUNTIF($J35:$AJ35,Backend!$B$2) -> 2 | F35: =COUNTIF($J35:$AJ35,Backend!$B$4) -> 9 | G35: =COUNTIF($J35:$AJ35,Backend!$B$6) -> 10 | H35: =COUNTIF($J35:$AJ35,Backend!$B$8) -> 5 | I35: =COUNTIF($J35:$AJ35,Backend!$B$9) -> 1 | J35: hard | K35: need some renovation | L35: need some renovation | M35: easy | N35: need some renovation | O35: hard | P35: need some renovation | Q35: hard | R35: need some renovation | S35: hard | T35: need some renovation | U35: need deep renovation | V35: need deep renovation | W35: easy | X35: need deep renovation | Y35: need deep renovation | Z35: need some renovation | AA35: need deep renovation | AB35: need deep renovation | AC35: need deep renovation | AD35: hard | AE35: not possible | AF35: need some renovation | AG35: need deep renovation | AH35: need deep renovation | AI35: need some renovation | AJ35: need deep renovation
A36: STC on roofs | B36: =VLOOKUP(C36,Backend!$A$2:$B$9,2,FALSE) -> Need some renovation | C36: =ROUND(D36,0) -> 8 | D36: =((E36*Backend!$I$2)+(F36*Backend!$I$4)+(G36*Backend!$I$6)+(H36*Backend!$I$8)+(I36*Backend!$I$10))/27 -> 7.7037037 | E36: =COUNTIF($J36:$AJ36,Backend!$B$2) -> 6 | F36: =COUNTIF($J36:$AJ36,Backend!$B$4) -> 14 | G36: =COUNTIF($J36:$AJ36,Backend!$B$6) -> 4 | H36: =COUNTIF($J36:$AJ36,Backend!$B$8) -> 3 | I36: =COUNTIF($J36:$AJ36,Backend!$B$9) -> 0 | J36: hard | K36: need some renovation | L36: easy | M36: easy | N36: easy | O36: need some renovation | P36: need some renovation | Q36: need some renovation | R36: need some renovation | S36: hard | T36: easy | U36: need deep renovation | V36: need some renovation | W36: need some renovation | X36: need deep renovation | Y36: easy | Z36: need some renovation | AA36: need some renovation | AB36: need some renovation | AC36: need some renovation | AD36: hard | AE36: need some renovation | AF36: need some renovation | AG36: need deep renovation | AH36: easy | AI36: need some renovation | AJ36: need deep renovation
A37: STC in neighborhoods | B37: =VLOOKUP(C37,Backend!$A$2:$B$9,2,FALSE) -> Need some/deep renovation | C37: =ROUND(D37,0) -> 7 | D37: =((E37*Backend!$I$2)+(F37*Backend!$I$4)+(G37*Backend!$I$6)+(H37*Backend!$I$8)+(I37*Backend!$I$10))/27 -> 6.962963 | E37: =COUNTIF($J37:$AJ37,Backend!$B$2) -> 5 | F37: =COUNTIF($J37:$AJ37,Backend!$B$4) -> 11 | G37: =COUNTIF($J37:$AJ37,Backend!$B$6) -> 5 | H37: =COUNTIF($J37:$AJ37,Backend!$B$8) -> 5 | I37: =COUNTIF($J37:$AJ37,Backend!$B$9) -> 0 | J37: hard | K37: need some renovation | L37: easy | M37: easy | N37: easy | O37: need some renovation | P37: need some renovation | Q37: need some renovation | R37: need some renovation | S37: hard | T37: easy | U37: need deep renovation | V37: need some renovation | W37: easy | X37: hard | Y37: need some renovation | Z37: need deep renovation | AA37: need some renovation | AB37: hard | AC37: need deep renovation | AD37: hard | AE37: need deep renovation | AF37: need some renovation | AG37: need some renovation | AH37: need some renovation | AJ37: need deep renovation
A38: COST | B38: Majority | D38: Score | E38: High | F38: High/Medium | G38: Medium | H38: Medium/Low | I38: Low
A39: South/equatorial window | B39: =VLOOKUP(C39,Backend!$G$2:$H$10,2,FALSE) -> Medium/Low | C39: =ROUND(D39,0) -> 4 | D39: =((E39*Backend!$I$2)+(F39*Backend!$I$4)+(G39*Backend!$I$6)+(H39*Backend!$I$8)+(I39*Backend!$I$10))/27 -> 4 | E39: =COUNTIF($J39:$AJ39,Backend!$H$2) -> 1 | F39: =COUNTIF($J39:$AJ39,Backend!$H$4) -> 2 | G39: =COUNTIF($J39:$AJ39,Backend!$H$6) -> 5 | H39: =COUNTIF($J39:$AJ39,Backend!$H$8) -> 7 | I39: =COUNTIF($J39:$AJ39,Backend!$H$10) -> 12 | J39: Medium | K39: Medium/low | L39: Medium | M39: Low | N39: Medium/low | O39: Low | P39: Low | Q39: Medium | R39: Low | S39: Low | T39: Low | U39: Medium/low | V39: Medium/low | W39: Low | X39: Low | Y39: High | Z39: Low | AA39: high/medium | AB39: medium/low | AC39: low | AD39: low | AE39: high/medium | AF39: medium | AG39: medium/low | AH39: low | AI39: medium | AJ39: medium/low
A40: North /non equatorial window | B40: =VLOOKUP(C40,Backend!$G$2:$H$10,2,FALSE) -> Medium/Low | C40: =ROUND(D40,0) -> 4 | D40: =((E40*Backend!$I$2)+(F40*Backend!$I$4)+(G40*Backend!$I$6)+(H40*Backend!$I$8)+(I40*Backend!$I$10))/27 -> 4.0740741 | E40: =COUNTIF($J40:$AJ40,Backend!$H$2) -> 1 | F40: =COUNTIF($J40:$AJ40,Backend!$H$4) -> 2 | G40: =COUNTIF($J40:$AJ40,Backend!$H$6) -> 6 | H40: =COUNTIF($J40:$AJ40,Backend!$H$8) -> 6 | I40: =COUNTIF($J40:$AJ40,Backend!$H$10) -> 12 | J40: Medium | K40: Medium/low | L40: Medium | M40: Low | N40: Medium/low | O40: Low | P40: Low | Q40: Medium | R40: Low | S40: Low | T40: Low | U40: Medium/low | V40: Medium/low | W40: Low | X40: Low | Y40: High | Z40: Low | AA40: high/medium | AB40: medium/low | AC40: low | AD40: low | AE40: high/medium | AF40: medium | AG40: medium/low | AH40: low | AI40: medium | AJ40: medium
A41: East/west window | B41: =VLOOKUP(C41,Backend!$G$2:$H$10,2,FALSE) -> Medium/Low | C41: =ROUND(D41,0) -> 4 | D41: =((E41*Backend!$I$2)+(F41*Backend!$I$4)+(G41*Backend!$I$6)+(H41*Backend!$I$8)+(I41*Backend!$I$10))/27 -> 4 | E41: =COUNTIF($J41:$AJ41,Backend!$H$2) -> 1 | F41: =COUNTIF($J41:$AJ41,Backend!$H$4) -> 2 | G41: =COUNTIF($J41:$AJ41,Backend!$H$6) -> 5 | H41: =COUNTIF($J41:$AJ41,Backend!$H$8) -> 7 | I41: =COUNTIF($J41:$AJ41,Backend!$H$10) -> 12 | J41: Medium | K41: Medium/low | L41: Medium | M41: Low | N41: Medium/low | O41: Low | P41: Low | Q41: Medium | R41: Low | S41: Low | T41: Low | U41: Medium/low | V41: Medium/low | W41: Low | X41: Low | Y41: High | Z41: Low | AA41: high/medium | AB41: medium/low | AC41: low | AD41: low | AE41: high/medium | AF41: medium | AG41: medium/low | AH41: low | AI41: medium | AJ41: medium/low
A42: Light tube | B42: =VLOOKUP(C42,Backend!$G$2:$H$10,2,FALSE) -> Medium/Low | C42: =ROUND(D42,0) -> 5 | D42: =((E42*Backend!$I$2)+(F42*Backend!$I$4)+(G42*Backend!$I$6)+(H42*Backend!$I$8)+(I42*Backend!$I$10))/27 -> 5.2592593 | E42: =COUNTIF($J42:$AJ42,Backend!$H$2) -> 3 | F42: =COUNTIF($J42:$AJ42,Backend!$H$4) -> 5 | G42: =COUNTIF($J42:$AJ42,Backend!$H$6) -> 7 | H42: =COUNTIF($J42:$AJ42,Backend!$H$8) -> 6 | I42: =COUNTIF($J42:$AJ42,Backend!$H$10) -> 3 | J42: high/medium | K42: High | L42: Low | M42: Medium/low | O42: Low | P42: Medium | Q42: High | R42: Medium/low | S42: Medium/low | T42: high/medium | U42: high/medium | W42: Medium | X42: Medium/low | Y42: High | Z42: Medium | AA42: high/medium | AB42: medium | AC42: medium | AD42: medium | AF42: low | AG42: medium/low | AH42: high/medium | AI42: medium | AJ42: medium/low
A43: Skylight | B43: =VLOOKUP(C43,Backend!$G$2:$H$10,2,FALSE) -> Medium/Low | C43: =ROUND(D43,0) -> 5 | D43: =((E43*Backend!$I$2)+(F43*Backend!$I$4)+(G43*Backend!$I$6)+(H43*Backend!$I$8)+(I43*Backend!$I$10))/27 -> 5.4074074 | E43: =COUNTIF($J43:$AJ43,Backend!$H$2) -> 1 | F43: =COUNTIF($J43:$AJ43,Backend!$H$4) -> 8 | G43: =COUNTIF($J43:$AJ43,Backend!$H$6) -> 5 | H43: =COUNTIF($J43:$AJ43,Backend!$H$8) -> 9 | I43: =COUNTIF($J43:$AJ43,Backend!$H$10) -> 3 | J43: high/medium | K43: High | L43: Low | M43: high/medium | N43: Medium/low | O43: Low | P43: Medium/low | Q43: high/medium | R43: Medium/low | S43: Medium/low | T43: Medium | U43: Medium | V43: Medium | W43: Medium/low | X43: Medium/low | Y43: high/medium | Z43: Medium/low | AB43: medium/low | AC43: medium/low | AD43: high/medium | AE43: high/medium | AF43: low | AG43: medium | AH43: high/medium | AI43: medium | AJ43: high/medium
A44: Operable windows | B44: =VLOOKUP(C44,Backend!$G$2:$H$10,2,FALSE) -> Medium/Low | C44: =ROUND(D44,0) -> 5 | D44: =((E44*Backend!$I$2)+(F44*Backend!$I$4)+(G44*Backend!$I$6)+(H44*Backend!$I$8)+(I44*Backend!$I$10))/27 -> 4.7407407 | E44: =COUNTIF($J44:$AJ44,Backend!$H$2) -> 1 | F44: =COUNTIF($J44:$AJ44,Backend!$H$4) -> 6 | G44: =COUNTIF($J44:$AJ44,Backend!$H$6) -> 5 | H44: =COUNTIF($J44:$AJ44,Backend!$H$8) -> 5 | I44: =COUNTIF($J44:$AJ44,Backend!$H$10) -> 10 | J44: high/medium | K44: High | L44: Medium | M44: high/medium | N44: Low | O44: Low | P44: Low | Q44: Low | R44: Low | S44: high/medium | T44: Low | U44: Medium/low | V44: Medium/low | W44: Medium/low | X44: Low | Y44: high/medium | Z44: Low | AA44: high/medium | AB44: high/medium | AC44: low | AD44: low | AE44: medium | AF44: medium | AG44: medium/low | AH44: medium/low | AI44: medium | AJ44: medium
A45: Solar chimneys | B45: =VLOOKUP(C45,Backend!$G$2:$H$10,2,FALSE) -> High/Medium | C45: =ROUND(D45,0) -> 7 | D45: =((E45*Backend!$I$2)+(F45*Backend!$I$4)+(G45*Backend!$I$6)+(H45*Backend!$I$8)+(I45*Backend!$I$10))/27 -> 6.8148148 | E45: =COUNTIF($J45:$AJ45,Backend!$H$2) -> 4 | F45: =COUNTIF($J45:$AJ45,Backend!$H$4) -> 11 | G45: =COUNTIF($J45:$AJ45,Backend!$H$6) -> 8 | H45: =COUNTIF($J45:$AJ45,Backend!$H$8) -> 2 | I45: =COUNTIF($J45:$AJ45,Backend!$H$10) -> 0 | J45: high/medium | K45: High | L45: Medium | M45: High | O45: high/medium | P45: Medium | Q45: high/medium | R45: Medium | S45: Medium/low | T45: high/medium | U45: high/medium | V45: High | W45: high/medium | X45: Medium | Y45: Medium | Z45: high/medium | AA45: high/medium | AB45: high/medium | AC45: medium/low | AD45: medium | AE45: medium | AF45: high/medium | AG45: medium | AH45: high | AJ45: high/medium
A46: Solar access | B46: =VLOOKUP(C46,Backend!$G$2:$H$10,2,FALSE) -> Medium/Low | C46: =ROUND(D46,0) -> 5 | D46: =((E46*Backend!$I$2)+(F46*Backend!$I$4)+(G46*Backend!$I$6)+(H46*Backend!$I$8)+(I46*Backend!$I$10))/27 -> 4.5925926 | E46: =COUNTIF($J46:$AJ46,Backend!$H$2) -> 1 | F46: =COUNTIF($J46:$AJ46,Backend!$H$4) -> 4 | G46: =COUNTIF($J46:$AJ46,Backend!$H$6) -> 7 | H46: =COUNTIF($J46:$AJ46,Backend!$H$8) -> 5 | I46: =COUNTIF($J46:$AJ46,Backend!$H$10) -> 10 | J46: Medium | K46: Medium | L46: Medium/low | M46: Medium | N46: Low | O46: Low | P46: Low | Q46: Medium/low | R46: Low | S46: Low | T46: Low | U46: high/medium | V46: Low | W46: Medium | X46: Low | Y46: high/medium | Z46: Low | AA46: high/medium | AB46: high/medium | AC46: low | AD46: medium/low | AE46: high | AF46: medium | AG46: medium | AH46: medium/low | AI46: medium/low | AJ46: medium
A47: PV on roofs | B47: =VLOOKUP(C47,Backend!$G$2:$H$10,2,FALSE) -> Medium | C47: =ROUND(D47,0) -> 6 | D47: =((E47*Backend!$I$2)+(F47*Backend!$I$4)+(G47*Backend!$I$6)+(H47*Backend!$I$8)+(I47*Backend!$I$10))/27 -> 5.7777778 | E47: =COUNTIF($J47:$AJ47,Backend!$H$2) -> 2 | F47: =COUNTIF($J47:$AJ47,Backend!$H$4) -> 6 | G47: =COUNTIF($J47:$AJ47,Backend!$H$6) -> 9 | H47: =COUNTIF($J47:$AJ47,Backend!$H$8) -> 7 | I47: =COUNTIF($J47:$AJ47,Backend!$H$10) -> 3 | J47: high/medium | K47: Medium | L47: high/medium | M47: Medium/low | N47: high/medium | O47: Low | P47: Medium | Q47: Medium/low | R47: Medium | S47: high/medium | T47: Medium | U47: Low | V47: Medium/low | W47: Medium | X47: Medium/low | Y47: High | Z47: Medium | AA47: medium | AB47: medium | AC47: low | AD47: medium/low | AE47: high | AF47: medium | AG47: high/medium | AH47: medium/low | AI47: medium/low | AJ47: high/medium
A48: PV on facades | B48: =VLOOKUP(C48,Backend!$G$2:$H$10,2,FALSE) -> High/Medium | C48: =ROUND(D48,0) -> 7 | D48: =((E48*Backend!$I$2)+(F48*Backend!$I$4)+(G48*Backend!$I$6)+(H48*Backend!$I$8)+(I48*Backend!$I$10))/27 -> 6.5925926 | E48: =COUNTIF($J48:$AJ48,Backend!$H$2) -> 0 | F48: =COUNTIF($J48:$AJ48,Backend!$H$4) -> 12 | G48: =COUNTIF($J48:$AJ48,Backend!$H$6) -> 11 | H48: =COUNTIF($J48:$AJ48,Backend!$H$8) -> 4 | I48: =COUNTIF($J48:$AJ48,Backend!$H$10) -> 0 | J48: high/medium | K48: Medium | L48: high/medium | M48: Medium/low | N48: high/medium | O48: high/medium | P48: high/medium | Q48: Medium | R48: high/medium | S48: high/medium | T48: high/medium | U48: Medium/low | V48: Medium | W48: high/medium | X48: Medium | Y48: Medium | Z48: Medium | AA48: medium | AB48: medium | AC48: medium/low | AD48: medium | AE48: medium | AF48: high/medium | AG48: high/medium | AH48: medium/low | AI48: medium | AJ48: high/medium
A49: PV in neighborhood surfaces | B49: =VLOOKUP(C49,Backend!$G$2:$H$10,2,FALSE) -> Medium | C49: =ROUND(D49,0) -> 6 | D49: =((E49*Backend!$I$2)+(F49*Backend!$I$4)+(G49*Backend!$I$6)+(H49*Backend!$I$8)+(I49*Backend!$I$10))/27 -> 6.1481481 | E49: =COUNTIF($J49:$AJ49,Backend!$H$2) -> 0 | F49: =COUNTIF($J49:$AJ49,Backend!$H$4) -> 9 | G49: =COUNTIF($J49:$AJ49,Backend!$H$6) -> 12 | H49: =COUNTIF($J49:$AJ49,Backend!$H$8) -> 5 | I49: =COUNTIF($J49:$AJ49,Backend!$H$10) -> 1 | J49: high/medium | K49: Medium | L49: high/medium | M49: Medium/low | N49: high/medium | O49: Medium | P49: Medium | Q49: Medium/low | R49: Medium | S49: high/medium | T49: high/medium | U49: Low | V49: Medium | W49: high/medium | X49: Medium | Y49: Medium/low | Z49: Medium | AA49: medium | AB49: high/medium | AC49: medium/low | AD49: medium | AE49: medium | AF49: medium | AG49: high/medium | AH49: medium | AI49: medium/low | AJ49: high/medium
A50: Semi-transparent PV | B50: =VLOOKUP(C50,Backend!$G$2:$H$10,2,FALSE) -> High/Medium | C50: =ROUND(D50,0) -> 7 | D50: =((E50*Backend!$I$2)+(F50*Backend!$I$4)+(G50*Backend!$I$6)+(H50*Backend!$I$8)+(I50*Backend!$I$10))/27 -> 7.037037 | E50: =COUNTIF($J50:$AJ50,Backend!$H$2) -> 4 | F50: =COUNTIF($J50:$AJ50,Backend!$H$4) -> 12 | G50: =COUNTIF($J50:$AJ50,Backend!$H$6) -> 8 | H50: =COUNTIF($J50:$AJ50,Backend!$H$8) -> 1 | I50: =COUNTIF($J50:$AJ50,Backend!$H$10) -> 1 | J50: high/medium | K50: Medium | L50: high/medium | M50: Medium | O50: Medium/low | P50: Medium | Q50: Medium | R50: high/medium | S50: High | T50: High | U50: high/medium | V50: high/medium | W50: High | X50: high/medium | Y50: Medium | Z50: Medium | AA50: medium | AB50: high/medium | AC50: low | AD50: high/medium | AE50: high/medium | AF50: high/medium | AG50: high | AH50: medium | AI50: high/medium | AJ50: high/medium
A51: PV/thermal technologies | B51: =VLOOKUP(C51,Backend!$G$2:$H$10,2,FALSE) -> High/Medium | C51: =ROUND(D51,0) -> 7 | D51: =((E51*Backend!$I$2)+(F51*Backend!$I$4)+(G51*Backend!$I$6)+(H51*Backend!$I$8)+(I51*Backend!$I$10))/27 -> 6.5185185 | E51: =COUNTIF($J51:$AJ51,Backend!$H$2) -> 2 | F51: =COUNTIF($J51:$AJ51,Backend!$H$4) -> 9 | G51: =COUNTIF($J51:$AJ51,Backend!$H$6) -> 12 | H51: =COUNTIF($J51:$AJ51,Backend!$H$8) -> 3 | I51: =COUNTIF($J51:$AJ51,Backend!$H$10) -> 0 | J51: high/medium | K51: Medium | L51: high/medium | M51: Medium/low | O51: Medium | P51: Medium | Q51: Medium | R51: high/medium | S51: High | T51: Medium | U51: Medium | V51: high/medium | W51: Medium | X51: Medium/low | Y51: high/medium | Z51: Medium | AA51: medium | AB51: medium | AC51: medium/low | AD51: medium | AE51: high | AF51: high/medium | AG51: high/medium | AH51: medium | AI51: high/medium | AJ51: high/medium
A52: PV+heat pump | B52: =VLOOKUP(C52,Backend!$G$2:$H$10,2,FALSE) -> High/Medium | C52: =ROUND(D52,0) -> 7 | D52: =((E52*Backend!$I$2)+(F52*Backend!$I$4)+(G52*Backend!$I$6)+(H52*Backend!$I$8)+(I52*Backend!$I$10))/27 -> 7.3333333 | E52: =COUNTIF($J52:$AJ52,Backend!$H$2) -> 2 | F52: =COUNTIF($J52:$AJ52,Backend!$H$4) -> 16 | G52: =COUNTIF($J52:$AJ52,Backend!$H$6) -> 7 | H52: =COUNTIF($J52:$AJ52,Backend!$H$8) -> 2 | I52: =COUNTIF($J52:$AJ52,Backend!$H$10) -> 0 | J52: high/medium | K52: high/medium | L52: high/medium | M52: Medium | N52: High | O52: Medium/low | P52: Medium | Q52: high/medium | R52: high/medium | S52: High | T52: high/medium | U52: high/medium | V52: Medium | W52: high/medium | X52: Medium | Y52: high/medium | Z52: Medium | AA52: high/medium | AB52: high/medium | AC52: medium/low | AD52: medium | AE52: high/medium | AF52: high/medium | AG52: high/medium | AH52: high/medium | AI52: medium | AJ52: high/medium
A53: STC on facades | B53: =VLOOKUP(C53,Backend!$G$2:$H$10,2,FALSE) -> High/Medium | C53: =ROUND(D53,0) -> 7 | D53: =((E53*Backend!$I$2)+(F53*Backend!$I$4)+(G53*Backend!$I$6)+(H53*Backend!$I$8)+(I53*Backend!$I$10))/27 -> 6.8148148 | E53: =COUNTIF($J53:$AJ53,Backend!$H$2) -> 4 | F53: =COUNTIF($J53:$AJ53,Backend!$H$4) -> 11 | G53: =COUNTIF($J53:$AJ53,Backend!$H$6) -> 8 | H53: =COUNTIF($J53:$AJ53,Backend!$H$8) -> 2 | I53: =COUNTIF($J53:$AJ53,Backend!$H$10) -> 0 | J53: high/medium | K53: Medium | L53: high/medium | M53: Medium | O53: high/medium | P53: Medium | Q53: high/medium | R53: high/medium | S53: High | T53: High | U53: High | V53: high/medium | W53: High | X53: Medium | Y53: Medium/low | Z53: Medium | AA53: high/medium | AB53: medium | AD53: high/medium | AE53: medium/low | AF53: high/medium | AG53: high/medium | AH53: medium | AI53: medium | AJ53: high/medium
A54: STC on roofs | B54: =VLOOKUP(C54,Backend!$G$2:$H$10,2,FALSE) -> High/Medium | C54: =ROUND(D54,0) -> 7 | D54: =((E54*Backend!$I$2)+(F54*Backend!$I$4)+(G54*Backend!$I$6)+(H54*Backend!$I$8)+(I54*Backend!$I$10))/27 -> 6.7407407 | E54: =COUNTIF($J54:$AJ54,Backend!$H$2) -> 3 | F54: =COUNTIF($J54:$AJ54,Backend!$H$4) -> 10 | G54: =COUNTIF($J54:$AJ54,Backend!$H$6) -> 10 | H54: =COUNTIF($J54:$AJ54,Backend!$H$8) -> 3 | I54: =COUNTIF($J54:$AJ54,Backend!$H$10) -> 0 | J54: high/medium | K54: Medium | L54: high/medium | M54: Medium | O54: Medium/low | P54: Medium | Q54: high/medium | R54: high/medium | S54: High | T54: Medium | U54: high/medium | V54: Medium | W54: Medium | X54: Medium | Y54: High | Z54: Medium | AA54: high/medium | AB54: medium | AC54: medium/low | AD54: high/medium | AE54: high | AF54: high/medium | AG54: high/medium | AH54: medium/low | AI54: medium | AJ54: high/medium
A55: STC in neighborhoods | B55: =VLOOKUP(C55,Backend!$G$2:$H$10,2,FALSE) -> High/Medium | C55: =ROUND(D55,0) -> 7 | D55: =((E55*Backend!$I$2)+(F55*Backend!$I$4)+(G55*Backend!$I$6)+(H55*Backend!$I$8)+(I55*Backend!$I$10))/27 -> 6.5925926 | E55: =COUNTIF($J55:$AJ55,Backend!$H$2) -> 3 | F55: =COUNTIF($J55:$AJ55,Backend!$H$4) -> 11 | G55: =COUNTIF($J55:$AJ55,Backend!$H$6) -> 7 | H55: =COUNTIF($J55:$AJ55,Backend!$H$8) -> 4 | I55: =COUNTIF($J55:$AJ55,Backend!$H$10) -> 1 | J55: high/medium | K55: Medium | L55: high/medium | M55: Medium/low | O55: Medium/low | P55: Medium | Q55: high/medium | R55: high/medium | S55: High | T55: high/medium | U55: high/medium | V55: high/medium | W55: High | X55: Medium | Y55: Low | Z55: Medium | AA55: high | AB55: high/medium | AC55: medium/low | AD55: high/medium | AE55: medium | AF55: high/medium | AG55: medium/low | AH55: medium | AI55: medium | AJ55: high/medium
A56: Accessibility
A57: South/equatorial window | B57: =VLOOKUP(C57,Backend!$G$2:$H$10,2,FALSE) -> High/Medium | C57: =ROUND(D57,0) -> 8 | D57: =((E57*Backend!$I$2)+(F57*Backend!$I$4)+(G57*Backend!$I$6)+(H57*Backend!$I$8)+(I57*Backend!$I$10))/27 -> 8.4444444 | E57: =COUNTIF($J57:$AJ57,Backend!$H$2) -> 18 | F57: =COUNTIF($J57:$AJ57,Backend!$H$4) -> 3 | G57: =COUNTIF($J57:$AJ57,Backend!$H$6) -> 3 | H57: =COUNTIF($J57:$AJ57,Backend!$H$8) -> 1 | I57: =COUNTIF($J57:$AJ57,Backend!$H$10) -> 1 | J57: Medium | K57: High | L57: High | M57: High | N57: High | O57: high/medium | P57: High | Q57: High | R57: High | S57: High | T57: High | U57: high/medium | V57: High | W57: High | X57: Medium | Y57: High | Z57: High | AA57: high | AB57: medium/low | AC57: high | AD57: high/medium | AE57: high | AG57: low | AH57: high | AI57: high | AJ57: medium
A58: North /non equatorial window | B58: =VLOOKUP(C58,Backend!$G$2:$H$10,2,FALSE) -> High/Medium | C58: =ROUND(D58,0) -> 8 | D58: =((E58*Backend!$I$2)+(F58*Backend!$I$4)+(G58*Backend!$I$6)+(H58*Backend!$I$8)+(I58*Backend!$I$10))/27 -> 8.4444444 | E58: =COUNTIF($J58:$AJ58,Backend!$H$2) -> 18 | F58: =COUNTIF($J58:$AJ58,Backend!$H$4) -> 3 | G58: =COUNTIF($J58:$AJ58,Backend!$H$6) -> 3 | H58: =COUNTIF($J58:$AJ58,Backend!$H$8) -> 1 | I58: =COUNTIF($J58:$AJ58,Backend!$H$10) -> 1 | J58: Medium | K58: High | L58: High | M58: High | N58: High | O58: high/medium | P58: High | Q58: High | R58: High | S58: High | T58: High | U58: high/medium | V58: High | W58: High | X58: Medium | Y58: High | Z58: High | AA58: high | AB58: medium/low | AC58: high | AD58: high/medium | AE58: high | AG58: low | AH58: high | AI58: high | AJ58: medium
A59: East/west window | B59: =VLOOKUP(C59,Backend!$G$2:$H$10,2,FALSE) -> High/Medium | C59: =ROUND(D59,0) -> 8 | D59: =((E59*Backend!$I$2)+(F59*Backend!$I$4)+(G59*Backend!$I$6)+(H59*Backend!$I$8)+(I59*Backend!$I$10))/27 -> 8.0740741 | E59: =COUNTIF($J59:$AJ59,Backend!$H$2) -> 17 | F59: =COUNTIF($J59:$AJ59,Backend!$H$4) -> 3 | G59: =COUNTIF($J59:$AJ59,Backend!$H$6) -> 3 | H59: =COUNTIF($J59:$AJ59,Backend!$H$8) -> 1 | I59: =COUNTIF($J59:$AJ59,Backend!$H$10) -> 1 | J59: Medium | K59: High | L59: High | M59: High | N59: High | O59: high/medium | P59: High | Q59: High | R59: High | S59: High | T59: High | U59: high/medium | V59: High | W59: High | X59: Medium | Y59: High | Z59: High | AA59: high | AB59: medium/low | AC59: high | AD59: high/medium | AE59: high | AG59: low | AH59: high | AI59: higih | AJ59: medium
A60: Light tube | B60: =VLOOKUP(C60,Backend!$G$2:$H$10,2,FALSE) -> Medium | C60: =ROUND(D60,0) -> 6 | D60: =((E60*Backend!$I$2)+(F60*Backend!$I$4)+(G60*Backend!$I$6)+(H60*Backend!$I$8)+(I60*Backend!$I$10))/27 -> 5.7037037 | E60: =COUNTIF($J60:$AJ60,Backend!$H$2) -> 4 | F60: =COUNTIF($J60:$AJ60,Backend!$H$4) -> 6 | G60: =COUNTIF($J60:$AJ60,Backend!$H$6) -> 6 | H60: =COUNTIF($J60:$AJ60,Backend!$H$8) -> 6 | I60: =COUNTIF($J60:$AJ60,Backend!$H$10) -> 3 | J60: high/medium | K60: Low | L60: High | M60: high/medium | O60: high/medium | P60: Medium | Q60: Medium | R60: high/medium | S60: Medium | T60: Low | U60: Medium/low | V60: Low | W60: Medium/low | X60: Medium/low | Y60: High | Z60: High | AA60: medium | AB60: medium | AC60: medium/low | AD60: medium | AE60: high | AG60: medium/low | AH60: high/medium | AI60: medium/low | AJ60: high/medium
A61: Skylight | B61: =VLOOKUP(C61,Backend!$G$2:$H$10,2,FALSE) -> High/Medium | C61: =ROUND(D61,0) -> 7 | D61: =((E61*Backend!$I$2)+(F61*Backend!$I$4)+(G61*Backend!$I$6)+(H61*Backend!$I$8)+(I61*Backend!$I$10))/27 -> 7.3333333 | E61: =COUNTIF($J61:$AJ61,Backend!$H$2) -> 9 | F61: =COUNTIF($J61:$AJ61,Backend!$H$4) -> 8 | G61: =COUNTIF($J61:$AJ61,Backend!$H$6) -> 5 | H61: =COUNTIF($J61:$AJ61,Backend!$H$8) -> 3 | I61: =COUNTIF($J61:$AJ61,Backend!$H$10) -> 1 | J61: high/medium | K61: high/medium | L61: High | M61: High | N61: High | O61: high/medium | P61: High | Q61: high/medium | R61: High | S61: Medium | T61: high/medium | U61: Medium | V61: Low | W61: high/medium | X61: Medium/low | Y61: High | Z61: High | AA61: medium | AB61: medium | AC61: medium/low | AD61: medium | AE61: high/medium | AG61: medium/low | AH61: high/medium | AI61: high | AJ61: high
A62: Operable windows | B62: =VLOOKUP(C62,Backend!$G$2:$H$10,2,FALSE) -> High/Medium | C62: =ROUND(D62,0) -> 8 | D62: =((E62*Backend!$I$2)+(F62*Backend!$I$4)+(G62*Backend!$I$6)+(H62*Backend!$I$8)+(I62*Backend!$I$10))/27 -> 8.2222222 | E62: =COUNTIF($J62:$AJ62,Backend!$H$2) -> 14 | F62: =COUNTIF($J62:$AJ62,Backend!$H$4) -> 7 | G62: =COUNTIF($J62:$AJ62,Backend!$H$6) -> 4 | H62: =COUNTIF($J62:$AJ62,Backend!$H$8) -> 0 | I62: =COUNTIF($J62:$AJ62,Backend!$H$10) -> 1 | J62: high/medium | K62: Medium | L62: Medium | M62: high/medium | N62: High | O62: high/medium | P62: High | Q62: High | R62: High | S62: Medium | T62: High | U62: high/medium | V62: High | W62: High | X62: High | Y62: High | Z62: High | AA62: high | AB62: medium | AC62: high | AD62: high/medium | AE62: high/medium | AG62: low | AH62: high/medium | AI62: high | AJ62: high
A63: Solar chimneys | B63: =VLOOKUP(C63,Backend!$G$2:$H$10,2,FALSE) -> Medium/Low | C63: =ROUND(D63,0) -> 5 | D63: =((E63*Backend!$I$2)+(F63*Backend!$I$4)+(G63*Backend!$I$6)+(H63*Backend!$I$8)+(I63*Backend!$I$10))/27 -> 5.037037 | E63: =COUNTIF($J63:$AJ63,Backend!$H$2) -> 2 | F63: =COUNTIF($J63:$AJ63,Backend!$H$4) -> 5 | G63: =COUNTIF($J63:$AJ63,Backend!$H$6) -> 6 | H63: =COUNTIF($J63:$AJ63,Backend!$H$8) -> 8 | I63: =COUNTIF($J63:$AJ63,Backend!$H$10) -> 4 | J63: Medium | K63: Low | L63: Medium | M63: Medium | O63: Medium/low | P63: Medium/low | Q63: high/medium | R63: high/medium | S63: Medium | T63: Medium/low | U63: Medium/low | V63: Low | W63: Medium/low | X63: Medium/low | Y63: high/medium | Z63: Medium/low | AA63: high | AB63: high/medium | AC63: medium | AD63: medium/low | AE63: medium | AG63: low | AH63: high/medium | AI63: low | AJ63: high
A64: Solar access | B64: =VLOOKUP(C64,Backend!$G$2:$H$10,2,FALSE) -> High/Medium | C64: =ROUND(D64,0) -> 8 | D64: =((E64*Backend!$I$2)+(F64*Backend!$I$4)+(G64*Backend!$I$6)+(H64*Backend!$I$8)+(I64*Backend!$I$10))/27 -> 8.2222222 | E64: =COUNTIF($J64:$AJ64,Backend!$H$2) -> 15 | F64: =COUNTIF($J64:$AJ64,Backend!$H$4) -> 6 | G64: =COUNTIF($J64:$AJ64,Backend!$H$6) -> 3 | H64: =COUNTIF($J64:$AJ64,Backend!$H$8) -> 1 | I64: =COUNTIF($J64:$AJ64,Backend!$H$10) -> 1 | J64: Medium | K64: High | L64: high/medium | M64: high/medium | N64: High | O64: High | P64: High | Q64: High | R64: High | S64: High | T64: High | U64: Medium | V64: High | W64: high/medium | X64: High | Y64: High | Z64: high/medium | AA64: high | AB64: medium/low | AC64: high/medium | AD64: high/medium | AE64: high | AG64: low | AH64: high | AI64: high | AJ64: medium
A65: PV on roofs | B65: =VLOOKUP(C65,Backend!$G$2:$H$10,2,FALSE) -> High/Medium | C65: =ROUND(D65,0) -> 8 | D65: =((E65*Backend!$I$2)+(F65*Backend!$I$4)+(G65*Backend!$I$6)+(H65*Backend!$I$8)+(I65*Backend!$I$10))/27 -> 7.6296296 | E65: =COUNTIF($J65:$AJ65,Backend!$H$2) -> 11 | F65: =COUNTIF($J65:$AJ65,Backend!$H$4) -> 8 | G65: =COUNTIF($J65:$AJ65,Backend!$H$6) -> 3 | H65: =COUNTIF($J65:$AJ65,Backend!$H$8) -> 3 | I65: =COUNTIF($J65:$AJ65,Backend!$H$10) -> 1 | J65: Medium | K65: Medium | L65: High | M65: high/medium | N65: High | O65: High | P65: high/medium | Q65: High | R65: High | S65: Medium/low | T65: High | U65: high/medium | V65: high/medium | W65: high/medium | X65: High | Y65: High | Z65: high/medium | AA65: high/medium | AB65: medium/low | AC65: high | AD65: high/medium | AE65: high | AG65: medium/low | AH65: low | AI65: high | AJ65: medium
A66: PV on facades | B66: =VLOOKUP(C66,Backend!$G$2:$H$10,2,FALSE) -> Medium | C66: =ROUND(D66,0) -> 6 | D66: =((E66*Backend!$I$2)+(F66*Backend!$I$4)+(G66*Backend!$I$6)+(H66*Backend!$I$8)+(I66*Backend!$I$10))/27 -> 6.3703704 | E66: =COUNTIF($J66:$AJ66,Backend!$H$2) -> 2 | F66: =COUNTIF($J66:$AJ66,Backend!$H$4) -> 11 | G66: =COUNTIF($J66:$AJ66,Backend!$H$6) -> 7 | H66: =COUNTIF($J66:$AJ66,Backend!$H$8) -> 5 | I66: =COUNTIF($J66:$AJ66,Backend!$H$10) -> 1 | J66: Medium | K66: Medium/low | L66: High | M66: high/medium | N66: high/medium | O66: Medium | P66: high/medium | Q66: high/medium | R66: high/medium | S66: Medium/low | T66: Medium | U66: Medium/low | V66: Low | W66: high/medium | X66: high/medium | Y66: Medium | Z66: high/medium | AA66: high/medium | AB66: medium/low | AC66: medium | AD66: medium | AE66: high/medium | AG66: medium/low | AH66: high | AI66: high/medium | AJ66: medium
A67: PV in neighborhood surfaces | B67: =VLOOKUP(C67,Backend!$G$2:$H$10,2,FALSE) -> Medium/Low | C67: =ROUND(D67,0) -> 5 | D67: =((E67*Backend!$I$2)+(F67*Backend!$I$4)+(G67*Backend!$I$6)+(H67*Backend!$I$8)+(I67*Backend!$I$10))/27 -> 5.4814815 | E67: =COUNTIF($J67:$AJ67,Backend!$H$2) -> 1 | F67: =COUNTIF($J67:$AJ67,Backend!$H$4) -> 6 | G67: =COUNTIF($J67:$AJ67,Backend!$H$6) -> 11 | H67: =COUNTIF($J67:$AJ67,Backend!$H$8) -> 5 | I67: =COUNTIF($J67:$AJ67,Backend!$H$10) -> 2 | J67: Medium | K67: Medium | L67: High | M67: high/medium | O67: Medium/low | P67: high/medium | Q67: Medium/low | R67: high/medium | S67: Medium/low | T67: Medium | U67: Medium | V67: Low | W67: Medium | X67: Medium | Y67: Medium/low | Z67: Medium | AA67: high/medium | AB67: medium | AC67: low | AD67: medium | AE67: medium | AG67: medium/low | AH67: high/medium | AI67: high/medium | AJ67: medium
A68: Semi-transparent PV | B68: =VLOOKUP(C68,Backend!$G$2:$H$10,2,FALSE) -> Medium | C68: =ROUND(D68,0) -> 6 | D68: =((E68*Backend!$I$2)+(F68*Backend!$I$4)+(G68*Backend!$I$6)+(H68*Backend!$I$8)+(I68*Backend!$I$10))/27 -> 5.7037037 | E68: =COUNTIF($J68:$AJ68,Backend!$H$2) -> 0 | F68: =COUNTIF($J68:$AJ68,Backend!$H$4) -> 8 | G68: =COUNTIF($J68:$AJ68,Backend!$H$6) -> 10 | H68: =COUNTIF($J68:$AJ68,Backend!$H$8) -> 7 | I68: =COUNTIF($J68:$AJ68,Backend!$H$10) -> 1 | J68: Medium | K68: high/medium | L68: Medium | M68: high/medium | N68: high/medium | O68: Medium/low | P68: high/medium | Q68: Medium | R68: Medium | S68: Medium/low | T68: Medium/low | U68: Medium/low | V68: Low | W68: Medium/low | X68: high/medium | Y68: high/medium | Z68: high/medium | AA68: medium | AB68: high/medium | AC68: medium | AD68: medium/low | AE68: medium | AG68: medium | AH68: medium | AI68: medium/low | AJ68: medium
A69: PV/thermal technologies | B69: =VLOOKUP(C69,Backend!$G$2:$H$10,2,FALSE) -> High/Medium | C69: =ROUND(D69,0) -> 7 | D69: =((E69*Backend!$I$2)+(F69*Backend!$I$4)+(G69*Backend!$I$6)+(H69*Backend!$I$8)+(I69*Backend!$I$10))/27 -> 6.6666667 | E69: =COUNTIF($J69:$AJ69,Backend!$H$2) -> 3 | F69: =COUNTIF($J69:$AJ69,Backend!$H$4) -> 12 | G69: =COUNTIF($J69:$AJ69,Backend!$H$6) -> 6 | H69: =COUNTIF($J69:$AJ69,Backend!$H$8) -> 4 | I69: =COUNTIF($J69:$AJ69,Backend!$H$10) -> 1 | J69: Medium | K69: Medium | L69: high/medium | M69: high/medium | N69: High | O69: Medium | P69: high/medium | Q69: Medium | R69: Medium | S69: Medium/low | T69: High | U69: Medium/low | V69: Low | W69: high/medium | X69: high/medium | Y69: High | Z69: high/medium | AA69: high/medium | AB69: medium | AC69: high/medium | AD69: medium/low | AE69: high/medium | AG69: medium/low | AH69: high/medium | AI69: high/medium | AJ69: high/medium
A70: PV+heat pump | B70: =VLOOKUP(C70,Backend!$G$2:$H$10,2,FALSE) -> High/Medium | C70: =ROUND(D70,0) -> 7 | D70: =((E70*Backend!$I$2)+(F70*Backend!$I$4)+(G70*Backend!$I$6)+(H70*Backend!$I$8)+(I70*Backend!$I$10))/27 -> 7.4074074 | E70: =COUNTIF($J70:$AJ70,Backend!$H$2) -> 5 | F70: =COUNTIF($J70:$AJ70,Backend!$H$4) -> 14 | G70: =COUNTIF($J70:$AJ70,Backend!$H$6) -> 5 | H70: =COUNTIF($J70:$AJ70,Backend!$H$8) -> 2 | I70: =COUNTIF($J70:$AJ70,Backend!$H$10) -> 0 | J70: Medium | K70: high/medium | L70: High | M70: high/medium | N70: High | O70: high/medium | P70: high/medium | Q70: high/medium | R70: Medium | S70: Medium/low | T70: High | U70: High | V70: Medium | W70: high/medium | X70: high/medium | Y70: high/medium | Z70: high/medium | AA70: high/medium | AB70: medium | AC70: high | AD70: medium | AE70: high/medium | AG70: medium/low | AH70: high/medium | AI70: high/medium | AJ70: high/medium
A71: STC on facades | B71: =VLOOKUP(C71,Backend!$G$2:$H$10,2,FALSE) -> Medium/Low | C71: =ROUND(D71,0) -> 5 | D71: =((E71*Backend!$I$2)+(F71*Backend!$I$4)+(G71*Backend!$I$6)+(H71*Backend!$I$8)+(I71*Backend!$I$10))/27 -> 5.1851852 | E71: =COUNTIF($J71:$AJ71,Backend!$H$2) -> 0 | F71: =COUNTIF($J71:$AJ71,Backend!$H$4) -> 6 | G71: =COUNTIF($J71:$AJ71,Backend!$H$6) -> 9 | H71: =COUNTIF($J71:$AJ71,Backend!$H$8) -> 8 | I71: =COUNTIF($J71:$AJ71,Backend!$H$10) -> 3 | J71: Medium | K71: Medium | L71: Low | M71: high/medium | N71: high/medium | O71: Low | P71: high/medium | Q71: Medium | R71: Medium | S71: Medium/low | T71: Medium | U71: Medium/low | V71: Low | W71: Medium | X71: Medium | Y71: Medium/low | Z71: high/medium | AA71: medium/low | AB71: medium/low | AC71: medium | AD71: medium/low | AE71: medium/low | AG71: medium/low | AH71: high/medium | AI71: medium | AJ71: high/medium
A72: STC on roofs | B72: =VLOOKUP(C72,Backend!$G$2:$H$10,2,FALSE) -> High/Medium | C72: =ROUND(D72,0) -> 7 | D72: =((E72*Backend!$I$2)+(F72*Backend!$I$4)+(G72*Backend!$I$6)+(H72*Backend!$I$8)+(I72*Backend!$I$10))/27 -> 6.8148148 | E72: =COUNTIF($J72:$AJ72,Backend!$H$2) -> 7 | F72: =COUNTIF($J72:$AJ72,Backend!$H$4) -> 7 | G72: =COUNTIF($J72:$AJ72,Backend!$H$6) -> 7 | H72: =COUNTIF($J72:$AJ72,Backend!$H$8) -> 4 | I72: =COUNTIF($J72:$AJ72,Backend!$H$10) -> 0 | J72: Medium | K72: Medium | L72: High | M72: high/medium | N72: High | O72: High | P72: high/medium | Q72: Medium | R72: high/medium | S72: Medium/low | T72: High | U72: Medium | V72: Medium | W72: high/medium | X72: Medium | Y72: High | Z72: high/medium | AA72: high/medium | AB72: medium/low | AC72: medium | AD72: medium/low | AE72: high | AG72: medium/low | AH72: medium/ | AI72: high | AJ72: high/medium
A73: STC in neighborhoods | B73: =VLOOKUP(C73,Backend!$G$2:$H$10,2,FALSE) -> Medium/Low | C73: =ROUND(D73,0) -> 5 | D73: =((E73*Backend!$I$2)+(F73*Backend!$I$4)+(G73*Backend!$I$6)+(H73*Backend!$I$8)+(I73*Backend!$I$10))/27 -> 5.1851852 | E73: =COUNTIF($J73:$AJ73,Backend!$H$2) -> 0 | F73: =COUNTIF($J73:$AJ73,Backend!$H$4) -> 6 | G73: =COUNTIF($J73:$AJ73,Backend!$H$6) -> 11 | H73: =COUNTIF($J73:$AJ73,Backend!$H$8) -> 5 | I73: =COUNTIF($J73:$AJ73,Backend!$H$10) -> 3 | J73: Medium | K73: Medium | L73: Medium | M73: high/medium | N73: high/medium | O73: Medium/low | P73: high/medium | Q73: Low | R73: Medium | S73: Medium/low | T73: Medium | U73: Medium/low | V73: Low | W73: Medium | X73: Medium | Y73: Low | Z73: high/medium | AB73: medium | AC73: medium | AD73: medium/low | AE73: medium | AG73: medium/low | AH73: high/medium | AI73: medium | AJ73: high/medium
A74: Environmental impact
A75: South/equatorial window | B75: =VLOOKUP(C75,Backend!$G$2:$H$10,2,FALSE) -> Medium/Low | C75: =ROUND(D75,0) -> 4 | D75: =((E75*Backend!$I$2)+(F75*Backend!$I$4)+(G75*Backend!$I$6)+(H75*Backend!$I$8)+(I75*Backend!$I$10))/27 -> 4.1481481 | E75: =COUNTIF($J75:$AJ75,Backend!$H$2) -> 2 | F75: =COUNTIF($J75:$AJ75,Backend!$H$4) -> 2 | G75: =COUNTIF($J75:$AJ75,Backend!$H$6) -> 3 | H75: =COUNTIF($J75:$AJ75,Backend!$H$8) -> 10 | I75: =COUNTIF($J75:$AJ75,Backend!$H$10) -> 9 | J75: High | K75: Medium/low | L75: Medium | M75: Medium/low | N75: Medium/low | O75: Low | P75: Medium/low | Q75: Medium/low | R75: Low | S75: Low | T75: Medium/low | U75: Medium/low | V75: Medium | W75: High | X75: Low | Y75: Low | Z75: Low | AA75: high/medium | AB75: medium/low | AC75: low | AD75: high/medium | AE75: low | AG75: medium/low | AH75: low | AI75: medium/low | AJ75: medium
A76: North /non equatorial window | B76: =VLOOKUP(C76,Backend!$G$2:$H$10,2,FALSE) -> Medium/Low | C76: =ROUND(D76,0) -> 4 | D76: =((E76*Backend!$I$2)+(F76*Backend!$I$4)+(G76*Backend!$I$6)+(H76*Backend!$I$8)+(I76*Backend!$I$10))/27 -> 3.9259259 | E76: =COUNTIF($J76:$AJ76,Backend!$H$2) -> 1 | F76: =COUNTIF($J76:$AJ76,Backend!$H$4) -> 2 | G76: =COUNTIF($J76:$AJ76,Backend!$H$6) -> 5 | H76: =COUNTIF($J76:$AJ76,Backend!$H$8) -> 7 | I76: =COUNTIF($J76:$AJ76,Backend!$H$10) -> 11 | J76: High | K76: Medium/low | L76: Low | M76: Medium | N76: Medium/low | O76: Low | P76: Medium/low | Q76: Medium/low | R76: Low | S76: Low | T76: Medium/low | U76: Medium/low | V76: Low | W76: high/medium | X76: Low | Y76: Low | Z76: Low | AA76: medium | AB76: medium | AC76: low | AD76: high/medium | AE76: low | AG76: medium/low | AH76: low | AI76: medium | AJ76: medium
A77: East/west window | B77: =VLOOKUP(C77,Backend!$G$2:$H$10,2,FALSE) -> Medium/Low | C77: =ROUND(D77,0) -> 4 | D77: =((E77*Backend!$I$2)+(F77*Backend!$I$4)+(G77*Backend!$I$6)+(H77*Backend!$I$8)+(I77*Backend!$I$10))/27 -> 4 | E77: =COUNTIF($J77:$AJ77,Backend!$H$2) -> 0 | F77: =COUNTIF($J77:$AJ77,Backend!$H$4) -> 4 | G77: =COUNTIF($J77:$AJ77,Backend!$H$6) -> 3 | H77: =COUNTIF($J77:$AJ77,Backend!$H$8) -> 10 | I77: =COUNTIF($J77:$AJ77,Backend!$H$10) -> 9 | J77: high/medium | K77: Medium/low | L77: Medium/low | M77: Medium/low | N77: Medium/low | O77: Low | P77: Medium/low | Q77: Medium/low | R77: Low | S77: Low | T77: Medium/low | U77: Medium/low | V77: Medium | W77: high/medium | X77: Low | Y77: Low | Z77: Low | AA77: high/medium | AB77: medium/low | AC77: low | AD77: high/medium | AE77: low | AG77: medium/low | AH77: low | AI77: medium | AJ77: medium
A78: Light tube | B78: =VLOOKUP(C78,Backend!$G$2:$H$10,2,FALSE) -> Medium/Low | C78: =ROUND(D78,0) -> 4 | D78: =((E78*Backend!$I$2)+(F78*Backend!$I$4)+(G78*Backend!$I$6)+(H78*Backend!$I$8)+(I78*Backend!$I$10))/27 -> 4.1481481 | E78: =COUNTIF($J78:$AJ78,Backend!$H$2) -> 0 | F78: =COUNTIF($J78:$AJ78,Backend!$H$4) -> 4 | G78: =COUNTIF($J78:$AJ78,Backend!$H$6) -> 6 | H78: =COUNTIF($J78:$AJ78,Backend!$H$8) -> 7 | I78: =COUNTIF($J78:$AJ78,Backend!$H$10) -> 8 | J78: Medium/low | K78: high/medium | L78: Low | M78: Medium/low | N78: Medium | O78: Low | P78: Medium | Q78: Medium | R78: Low | S78: Low | T78: Medium | U78: high/medium | V78: Low | W78: Medium/low | X78: Medium/low | Y78: Low | Z78: Low | AA78: high/medium | AB78: medium | AC78: medium/low | AD78: medium/low | AE78: low | AG78: medium/low | AH78: medium | AJ78: high/medium
A79: Skylight | B79: =VLOOKUP(C79,Backend!$G$2:$H$10,2,FALSE) -> Medium/Low | C79: =ROUND(D79,0) -> 5 | D79: =((E79*Backend!$I$2)+(F79*Backend!$I$4)+(G79*Backend!$I$6)+(H79*Backend!$I$8)+(I79*Backend!$I$10))/27 -> 4.5185185 | E79: =COUNTIF($J79:$AJ79,Backend!$H$2) -> 1 | F79: =COUNTIF($J79:$AJ79,Backend!$H$4) -> 3 | G79: =COUNTIF($J79:$AJ79,Backend!$H$6) -> 8 | H79: =COUNTIF($J79:$AJ79,Backend!$H$8) -> 6 | I79: =COUNTIF($J79:$AJ79,Backend!$H$10) -> 8 | J79: Medium | K79: high/medium | L79: Low | M79: Medium | N79: Medium/low | O79: Low | P79: Medium/low | Q79: Medium | R79: Low | S79: Low | T79: Medium | U79: Medium | V79: Low | W79: Medium | X79: Medium/low | Y79: Medium/low | Z79: Low | AA79: high/medium | AB79: medium | AC79: low | AD79: high | AE79: low | AG79: medium/low | AH79: medium | AI79: medium/low | AJ79: high/medium
A80: Operable windows | B80: =VLOOKUP(C80,Backend!$G$2:$H$10,2,FALSE) -> Medium/Low | C80: =ROUND(D80,0) -> 4 | D80: =((E80*Backend!$I$2)+(F80*Backend!$I$4)+(G80*Backend!$I$6)+(H80*Backend!$I$8)+(I80*Backend!$I$10))/27 -> 4.4444444 | E80: =COUNTIF($J80:$AJ80,Backend!$H$2) -> 0 | F80: =COUNTIF($J80:$AJ80,Backend!$H$4) -> 4 | G80: =COUNTIF($J80:$AJ80,Backend!$H$6) -> 6 | H80: =COUNTIF($J80:$AJ80,Backend!$H$8) -> 10 | I80: =COUNTIF($J80:$AJ80,Backend!$H$10) -> 6 | J80: Medium | K80: Medium | L80: Medium/low | M80: Medium | N80: Medium | O80: Low | P80: Medium/low | Q80: high/medium | R80: Medium/low | S80: Medium/low | T80: Medium/low | U80: Medium/low | V80: Low | W80: Medium | X80: Low | Y80: Medium/low | Z80: Low | AA80: high/medium | AB80: medium | AC80: low | AD80: high/medium | AE80: medium/low | AG80: medium/low | AH80: medium/low | AI80: low | AJ80: high/medium
A81: Solar chimneys | B81: =VLOOKUP(C81,Backend!$G$2:$H$10,2,FALSE) -> Medium/Low | C81: =ROUND(D81,0) -> 5 | D81: =((E81*Backend!$I$2)+(F81*Backend!$I$4)+(G81*Backend!$I$6)+(H81*Backend!$I$8)+(I81*Backend!$I$10))/27 -> 5.037037 | E81: =COUNTIF($J81:$AJ81,Backend!$H$2) -> 0 | F81: =COUNTIF($J81:$AJ81,Backend!$H$4) -> 6 | G81: =COUNTIF($J81:$AJ81,Backend!$H$6) -> 8 | H81: =COUNTIF($J81:$AJ81,Backend!$H$8) -> 9 | I81: =COUNTIF($J81:$AJ81,Backend!$H$10) -> 2 | J81: high/medium | K81: high/medium | L81: Medium/low | M81: Medium | N81: Medium | O81: Medium/low | P81: Medium/low | Q81: Medium | R81: Medium/low | S81: Low | T81: Medium/low | U81: high/medium | V81: Low | W81: Medium | X81: Medium/low | Y81: Medium | Z81: Medium/low | AA81: high/medium | AB81: medium | AC81: medium | AD81: medium | AE81: medium/low | AG81: medium/low | AH81: high/medium | AJ81: high/medium
A82: Solar access | B82: =VLOOKUP(C82,Backend!$G$2:$H$10,2,FALSE) -> Medium/Low | C82: =ROUND(D82,0) -> 4 | D82: =((E82*Backend!$I$2)+(F82*Backend!$I$4)+(G82*Backend!$I$6)+(H82*Backend!$I$8)+(I82*Backend!$I$10))/27 -> 4.2222222 | E82: =COUNTIF($J82:$AJ82,Backend!$H$2) -> 2 | F82: =COUNTIF($J82:$AJ82,Backend!$H$4) -> 5 | G82: =COUNTIF($J82:$AJ82,Backend!$H$6) -> 2 | H82: =COUNTIF($J82:$AJ82,Backend!$H$8) -> 4 | I82: =COUNTIF($J82:$AJ82,Backend!$H$10) -> 13 | J82: high/medium | K82: High | L82: Medium | M82: Low | N82: Low | O82: Low | P82: Low | Q82: Medium/low | R82: Low | S82: Low | T82: Low | U82: Low | V82: High | W82: high/medium | X82: Low | Y82: Medium/low | Z82: Low | AA82: high/medium | AB82: medium/low | AC82: low | AD82: medium | AE82: low | AG82: medium/low | AH82: high/medium | AI82: low | AJ82: high/medium
A83: PV on roofs | B83: =VLOOKUP(C83,Backend!$G$2:$H$10,2,FALSE) -> Medium | C83: =ROUND(D83,0) -> 6 | D83: =((E83*Backend!$I$2)+(F83*Backend!$I$4)+(G83*Backend!$I$6)+(H83*Backend!$I$8)+(I83*Backend!$I$10))/27 -> 6.0740741 | E83: =COUNTIF($J83:$AJ83,Backend!$H$2) -> 1 | F83: =COUNTIF($J83:$AJ83,Backend!$H$4) -> 11 | G83: =COUNTIF($J83:$AJ83,Backend!$H$6) -> 6 | H83: =COUNTIF($J83:$AJ83,Backend!$H$8) -> 7 | I83: =COUNTIF($J83:$AJ83,Backend!$H$10) -> 1 | J83: Medium | K83: high/medium | L83: high/medium | M83: high/medium | N83: Medium | O83: Medium/low | P83: Medium/low | Q83: High | R83: Medium | S83: high/medium | T83: high/medium | U83: high/medium | V83: Medium | W83: high/medium | X83: Medium/low | Y83: Medium/low | Z83: Medium | AA83: high/medium | AB83: medium | AC83: medium/low | AD83: high/medium | AE83: medium/low | AG83: medium/low | AH83: high/medium | AI83: low | AJ83: high/medium
A84: PV on facades | B84: =VLOOKUP(C84,Backend!$G$2:$H$10,2,FALSE) -> High/Medium | C84: =ROUND(D84,0) -> 7 | D84: =((E84*Backend!$I$2)+(F84*Backend!$I$4)+(G84*Backend!$I$6)+(H84*Backend!$I$8)+(I84*Backend!$I$10))/27 -> 6.5925926 | E84: =COUNTIF($J84:$AJ84,Backend!$H$2) -> 2 | F84: =COUNTIF($J84:$AJ84,Backend!$H$4) -> 12 | G84: =COUNTIF($J84:$AJ84,Backend!$H$6) -> 8 | H84: =COUNTIF($J84:$AJ84,Backend!$H$8) -> 3 | I84: =COUNTIF($J84:$AJ84,Backend!$H$10) -> 1 | J84: high/medium | K84: high/medium | L84: high/medium | M84: high/medium | N84: Medium | O84: Medium | P84: Medium/low | Q84: High | R84: Medium | S84: high/medium | T84: high/medium | U84: High | V84: Medium | W84: high/medium | X84: Medium | Y84: Medium | Z84: Medium | AA84: high/medium | AB84: medium | AC84: medium/low | AD84: high/medium | AE84: high/medium | AG84: medium/low | AH84: high/medium | AI84: low | AJ84: high/medium
A85: PV in neighborhood surfaces | B85: =VLOOKUP(C85,Backend!$G$2:$H$10,2,FALSE) -> Medium | C85: =ROUND(D85,0) -> 6 | D85: =((E85*Backend!$I$2)+(F85*Backend!$I$4)+(G85*Backend!$I$6)+(H85*Backend!$I$8)+(I85*Backend!$I$10))/27 -> 6.3703704 | E85: =COUNTIF($J85:$AJ85,Backend!$H$2) -> 1 | F85: =COUNTIF($J85:$AJ85,Backend!$H$4) -> 14 | G85: =COUNTIF($J85:$AJ85,Backend!$H$6) -> 4 | H85: =COUNTIF($J85:$AJ85,Backend!$H$8) -> 6 | I85: =COUNTIF($J85:$AJ85,Backend!$H$10) -> 1 | J85: high/medium | K85: high/medium | L85: high/medium | M85: high/medium | N85: Medium | O85: Medium/low | P85: Medium/low | Q85: High | R85: Medium | S85: high/medium | T85: high/medium | U85: high/medium | V85: Medium/low | W85: high/medium | X85: Medium | Y85: high/medium | Z85: Medium | AA85: high/medium | AB85: high/medium | AC85: medium/low | AD85: high/medium | AE85: medium/low | AG85: medium/low | AH85: high/medium | AI85: low | AJ85: high/medium
A86: Semi-transparent PV | B86: =VLOOKUP(C86,Backend!$G$2:$H$10,2,FALSE) -> High/Medium | C86: =ROUND(D86,0) -> 7 | D86: =((E86*Backend!$I$2)+(F86*Backend!$I$4)+(G86*Backend!$I$6)+(H86*Backend!$I$8)+(I86*Backend!$I$10))/27 -> 6.5185185 | E86: =COUNTIF($J86:$AJ86,Backend!$H$2) -> 1 | F86: =COUNTIF($J86:$AJ86,Backend!$H$4) -> 12 | G86: =COUNTIF($J86:$AJ86,Backend!$H$6) -> 10 | H86: =COUNTIF($J86:$AJ86,Backend!$H$8) -> 2 | I86: =COUNTIF($J86:$AJ86,Backend!$H$10) -> 1 | J86: Medium | K86: high/medium | L86: High | M86: high/medium | N86: Medium | O86: high/medium | P86: Medium/low | Q86: Medium | R86: Medium | S86: high/medium | T86: high/medium | U86: high/medium | V86: Low | W86: high/medium | X86: Medium | Y86: Medium | Z86: Medium | AA86: high/medium | AB86: high/medium | AC86: medium | AD86: high/medium | AE86: medium | AG86: medium/low | AH86: high/medium | AI86: medium | AJ86: high/medium
A87: PV/thermal technologies | B87: =VLOOKUP(C87,Backend!$G$2:$H$10,2,FALSE) -> High/Medium | C87: =ROUND(D87,0) -> 7 | D87: =((E87*Backend!$I$2)+(F87*Backend!$I$4)+(G87*Backend!$I$6)+(H87*Backend!$I$8)+(I87*Backend!$I$10))/27 -> 6.5185185 | E87: =COUNTIF($J87:$AJ87,Backend!$H$2) -> 1 | F87: =COUNTIF($J87:$AJ87,Backend!$H$4) -> 13 | G87: =COUNTIF($J87:$AJ87,Backend!$H$6) -> 7 | H87: =COUNTIF($J87:$AJ87,Backend!$H$8) -> 5 | I87: =COUNTIF($J87:$AJ87,Backend!$H$10) -> 0 | J87: high/medium | K87: high/medium | L87: high/medium | M87: high/medium | N87: Medium | O87: Medium | P87: Medium/low | Q87: high/medium | R87: high/medium | S87: high/medium | T87: high/medium | U87: High | V87: Medium/low | W87: high/medium | X87: Medium | Y87: Medium/low | Z87: Medium | AA87: high/medium | AB87: medium | AC87: medium | AD87: high/medium | AE87: medium/low | AG87: medium/low | AH87: high/medium | AI87: medium | AJ87: high/medium
A88: PV+heat pump | B88: =VLOOKUP(C88,Backend!$G$2:$H$10,2,FALSE) -> High/Medium | C88: =ROUND(D88,0) -> 7 | D88: =((E88*Backend!$I$2)+(F88*Backend!$I$4)+(G88*Backend!$I$6)+(H88*Backend!$I$8)+(I88*Backend!$I$10))/27 -> 6.8148148 | E88: =COUNTIF($J88:$AJ88,Backend!$H$2) -> 5 | F88: =COUNTIF($J88:$AJ88,Backend!$H$4) -> 9 | G88: =COUNTIF($J88:$AJ88,Backend!$H$6) -> 7 | H88: =COUNTIF($J88:$AJ88,Backend!$H$8) -> 5 | I88: =COUNTIF($J88:$AJ88,Backend!$H$10) -> 0 | J88: high/medium | K88: Medium | L88: high/medium | M88: high/medium | N88: Medium | O88: Medium/low | P88: Medium/low | Q88: High | R88: high/medium | S88: High | T88: High | U88: High | V88: Medium | W88: High | X88: high/medium | Y88: Medium/low | Z88: Medium | AA88: medium | AB88: high/medium | AC88: medium | AD88: high/medium | AE88: medium | AG88: medium/low | AH88: high/medium | AI88: medium/low | AJ88: high/medium
A89: STC on facades | B89: =VLOOKUP(C89,Backend!$G$2:$H$10,2,FALSE) -> High/Medium | C89: =ROUND(D89,0) -> 7 | D89: =((E89*Backend!$I$2)+(F89*Backend!$I$4)+(G89*Backend!$I$6)+(H89*Backend!$I$8)+(I89*Backend!$I$10))/27 -> 6.7407407 | E89: =COUNTIF($J89:$AJ89,Backend!$H$2) -> 2 | F89: =COUNTIF($J89:$AJ89,Backend!$H$4) -> 13 | G89: =COUNTIF($J89:$AJ89,Backend!$H$6) -> 8 | H89: =COUNTIF($J89:$AJ89,Backend!$H$8) -> 2 | I89: =COUNTIF($J89:$AJ89,Backend!$H$10) -> 1 | J89: high/medium | K89: high/medium | L89: High | M89: high/medium | N89: Medium | O89: Medium | P89: Medium/low | Q89: high/medium | R89: high/medium | S89: high/medium | T89: high/medium | U89: High | V89: Low | W89: high/medium | X89: Medium | Y89: Medium | Z89: Medium | AA89: medium | AB89: medium | AC89: high/medium | AD89: high/medium | AE89: high/medium | AG89: medium/low | AH89: high/medium | AI89: medium | AJ89: high/medium
A90: STC on roofs | B90: =VLOOKUP(C90,Backend!$G$2:$H$10,2,FALSE) -> Medium | C90: =ROUND(D90,0) -> 6 | D90: =((E90*Backend!$I$2)+(F90*Backend!$I$4)+(G90*Backend!$I$6)+(H90*Backend!$I$8)+(I90*Backend!$I$10))/27 -> 6.3703704 | E90: =COUNTIF($J90:$AJ90,Backend!$H$2) -> 1 | F90: =COUNTIF($J90:$AJ90,Backend!$H$4) -> 11 | G90: =COUNTIF($J90:$AJ90,Backend!$H$6) -> 9 | H90: =COUNTIF($J90:$AJ90,Backend!$H$8) -> 5 | I90: =COUNTIF($J90:$AJ90,Backend!$H$10) -> 0 | J90: high/medium | K90: high/medium | L90: Medium | M90: high/medium | N90: Medium | O90: Medium/low | P90: Medium/low | Q90: high/medium | R90: high/medium | S90: high/medium | T90: high/medium | U90: High | V90: Medium | W90: high/medium | X90: Medium | Y90: Medium/low | Z90: Medium | AA90: medium | AB90: medium | AC90: medium | AD90: high/medium | AE90: medium/low | AG90: medium/low | AH90: high/medium | AI90: medium | AJ90: high/medium
A91: STC in neighborhoods | B91: =VLOOKUP(C91,Backend!$G$2:$H$10,2,FALSE) -> High/Medium | C91: =ROUND(D91,0) -> 7 | D91: =((E91*Backend!$I$2)+(F91*Backend!$I$4)+(G91*Backend!$I$6)+(H91*Backend!$I$8)+(I91*Backend!$I$10))/27 -> 6.5185185 | E91: =COUNTIF($J91:$AJ91,Backend!$H$2) -> 1 | F91: =COUNTIF($J91:$AJ91,Backend!$H$4) -> 13 | G91: =COUNTIF($J91:$AJ91,Backend!$H$6) -> 8 | H91: =COUNTIF($J91:$AJ91,Backend!$H$8) -> 3 | I91: =COUNTIF($J91:$AJ91,Backend!$H$10) -> 1 | J91: high/medium | K91: high/medium | L91: Medium | M91: high/medium | N91: Medium | O91: Medium/low | P91: Medium/low | Q91: high/medium | R91: high/medium | S91: high/medium | T91: high/medium | U91: High | V91: Low | W91: high/medium | X91: Medium | Y91: high/medium | Z91: Medium | AA91: medium | AB91: high/medium | AC91: medium | AD91: high/medium | AE91: medium | AG91: medium/low | AH91: high/medium | AI91: medium | AJ91: high/medium
A92: Acceptance
A93: South/equatorial window | B93: =VLOOKUP(C93,Backend!$G$2:$H$10,2,FALSE) -> High/Medium | C93: =ROUND(D93,0) -> 9 | D93: =((E93*Backend!$I$2)+(F93*Backend!$I$4)+(G93*Backend!$I$6)+(H93*Backend!$I$8)+(I93*Backend!$I$10))/27 -> 8.962963 | E93: =COUNTIF($J93:$AJ93,Backend!$H$2) -> 23 | F93: =COUNTIF($J93:$AJ93,Backend!$H$4) -> 0 | G93: =COUNTIF($J93:$AJ93,Backend!$H$6) -> 2 | H93: =COUNTIF($J93:$AJ93,Backend!$H$8) -> 0 | I93: =COUNTIF($J93:$AJ93,Backend!$H$10) -> 0 | J93: High | K93: High | L93: High | M93: High | N93: High | O93: High | P93: High | Q93: High | R93: High | S93: High | T93: High | U93: High | W93: High | X93: High | Y93: High | Z93: High | AA93: high | AB93: high | AC93: high | AD93: high | AE93: high | AG93: medium | AH93: high | AI93: high | AJ93: medium
A94: North /non equatorial window | B94: =VLOOKUP(C94,Backend!$G$2:$H$10,2,FALSE) -> High/Medium | C94: =ROUND(D94,0) -> 9 | D94: =((E94*Backend!$I$2)+(F94*Backend!$I$4)+(G94*Backend!$I$6)+(H94*Backend!$I$8)+(I94*Backend!$I$10))/27 -> 8.8148148 | E94: =COUNTIF($J94:$AJ94,Backend!$H$2) -> 20 | F94: =COUNTIF($J94:$AJ94,Backend!$H$4) -> 2 | G94: =COUNTIF($J94:$AJ94,Backend!$H$6) -> 3 | H94: =COUNTIF($J94:$AJ94,Backend!$H$8) -> 1 | I94: =COUNTIF($J94:$AJ94,Backend!$H$10) -> 0 | J94: Medium | K94: High | L94: High | M94: high/medium | N94: High | O94: High | P94: High | Q94: High | R94: High | S94: High | T94: High | U94: High | V94: High | W94: High | X94: High | Y94: High | Z94: High | AA94: high/medium | AB94: high | AC94: high | AD94: high | AE94: medium/low | AG94: medium | AH94: high | AI94: high | AJ94: medium
A95: East/west window | B95: =VLOOKUP(C95,Backend!$G$2:$H$10,2,FALSE) -> High/Medium | C95: =ROUND(D95,0) -> 9 | D95: =((E95*Backend!$I$2)+(F95*Backend!$I$4)+(G95*Backend!$I$6)+(H95*Backend!$I$8)+(I95*Backend!$I$10))/27 -> 8.8148148 | E95: =COUNTIF($J95:$AJ95,Backend!$H$2) -> 21 | F95: =COUNTIF($J95:$AJ95,Backend!$H$4) -> 2 | G95: =COUNTIF($J95:$AJ95,Backend!$H$6) -> 2 | H95: =COUNTIF($J95:$AJ95,Backend!$H$8) -> 0 | I95: =COUNTIF($J95:$AJ95,Backend!$H$10) -> 0 | J95: high/medium | K95: High | L95: High | M95: High | N95: High | O95: High | P95: High | Q95: High | R95: High | S95: High | T95: High | U95: High | V95: High | W95: High | X95: High | Y95: High | Z95: High | AA95: high/medium | AB95: high | AC95: high | AD95: high | AE95: medium | AG95: meidum | AH95: high | AI95: high | AJ95: medium
A96: Light tube | B96: =VLOOKUP(C96,Backend!$G$2:$H$10,2,FALSE) -> Medium | C96: =ROUND(D96,0) -> 6 | D96: =((E96*Backend!$I$2)+(F96*Backend!$I$4)+(G96*Backend!$I$6)+(H96*Backend!$I$8)+(I96*Backend!$I$10))/27 -> 6.0740741 | E96: =COUNTIF($J96:$AJ96,Backend!$H$2) -> 6 | F96: =COUNTIF($J96:$AJ96,Backend!$H$4) -> 5 | G96: =COUNTIF($J96:$AJ96,Backend!$H$6) -> 8 | H96: =COUNTIF($J96:$AJ96,Backend!$H$8) -> 2 | I96: =COUNTIF($J96:$AJ96,Backend!$H$10) -> 4 | J96: Medium | K96: Low | L96: High | M96: Medium/low | O96: High | P96: high/medium | Q96: Medium | R96: High | S96: High | T96: Medium | U96: Low | V96: Medium | W96: Medium | X96: Low | Y96: High | Z96: High | AA96: high/medium | AB96: high/medium | AC96: low | AD96: high/medium | AE96: medium | AG96: medium | AH96: medium/low | AI96: medium | AJ96: high/medium
A97: Skylight | B97: =VLOOKUP(C97,Backend!$G$2:$H$10,2,FALSE) -> High/Medium | C97: =ROUND(D97,0) -> 8 | D97: =((E97*Backend!$I$2)+(F97*Backend!$I$4)+(G97*Backend!$I$6)+(H97*Backend!$I$8)+(I97*Backend!$I$10))/27 -> 7.7777778 | E97: =COUNTIF($J97:$AJ97,Backend!$H$2) -> 10 | F97: =COUNTIF($J97:$AJ97,Backend!$H$4) -> 8 | G97: =COUNTIF($J97:$AJ97,Backend!$H$6) -> 7 | H97: =COUNTIF($J97:$AJ97,Backend!$H$8) -> 1 | I97: =COUNTIF($J97:$AJ97,Backend!$H$10) -> 0 | J97: Medium | K97: Medium | L97: High | M97: high/medium | N97: High | O97: High | P97: High | Q97: Medium | R97: High | S97: High | T97: high/medium | U97: Medium | V97: high/medium | W97: high/medium | X97: Medium/low | Y97: high/medium | Z97: High | AA97: high/medium | AB97: high/medium | AC97: medium | AD97: high | AE97: high/medium | AG97: medium | AH97: high | AI97: high | AJ97: medium
A98: Operable windows | B98: =VLOOKUP(C98,Backend!$G$2:$H$10,2,FALSE) -> High/Medium | C98: =ROUND(D98,0) -> 8 | D98: =((E98*Backend!$I$2)+(F98*Backend!$I$4)+(G98*Backend!$I$6)+(H98*Backend!$I$8)+(I98*Backend!$I$10))/27 -> 8.2222222 | E98: =COUNTIF($J98:$AJ98,Backend!$H$2) -> 14 | F98: =COUNTIF($J98:$AJ98,Backend!$H$4) -> 5 | G98: =COUNTIF($J98:$AJ98,Backend!$H$6) -> 7 | H98: =COUNTIF($J98:$AJ98,Backend!$H$8) -> 0 | I98: =COUNTIF($J98:$AJ98,Backend!$H$10) -> 0 | J98: high/medium | K98: Medium | L98: Medium | M98: Medium | N98: High | O98: High | P98: High | Q98: High | R98: High | S98: High | T98: high/medium | U98: Medium | V98: High | W98: High | X98: High | Y98: high/medium | Z98: High | AA98: high/medium | AB98: medium | AC98: high | AD98: high | AE98: medium | AG98: medium | AH98: high | AI98: high | AJ98: high/medium
A99: Solar chimneys | B99: =VLOOKUP(C99,Backend!$G$2:$H$10,2,FALSE) -> Medium/Low | C99: =ROUND(D99,0) -> 5 | D99: =((E99*Backend!$I$2)+(F99*Backend!$I$4)+(G99*Backend!$I$6)+(H99*Backend!$I$8)+(I99*Backend!$I$10))/27 -> 5.1111111 | E99: =COUNTIF($J99:$AJ99,Backend!$H$2) -> 1 | F99: =COUNTIF($J99:$AJ99,Backend!$H$4) -> 5 | G99: =COUNTIF($J99:$AJ99,Backend!$H$6) -> 10 | H99: =COUNTIF($J99:$AJ99,Backend!$H$8) -> 5 | I99: =COUNTIF($J99:$AJ99,Backend!$H$10) -> 4 | J99: Medium | K99: Medium/low | L99: Medium | M99: Low | O99: Medium/low | P99: Medium | Q99: Medium | R99: high/medium | S99: High | T99: high/medium | U99: Low | V99: Low | W99: high/medium | X99: Medium | Y99: Medium | Z99: Medium | AA99: high/medium | AB99: medium | AC99: medium/low | AD99: medium/low | AE99: medium | AG99: medium | AH99: medium/low | AI99: low | AJ99: high/medium
A100: Solar access | B100: =VLOOKUP(C100,Backend!$G$2:$H$10,2,FALSE) -> High/Medium | C100: =ROUND(D100,0) -> 9 | D100: =((E100*Backend!$I$2)+(F100*Backend!$I$4)+(G100*Backend!$I$6)+(H100*Backend!$I$8)+(I100*Backend!$I$10))/27 -> 8.962963 | E100: =COUNTIF($J100:$AJ100,Backend!$H$2) -> 20 | F100: =COUNTIF($J100:$AJ100,Backend!$H$4) -> 3 | G100: =COUNTIF($J100:$AJ100,Backend!$H$6) -> 3 | H100: =COUNTIF($J100:$AJ100,Backend!$H$8) -> 0 | I100: =COUNTIF($J100:$AJ100,Backend!$H$10) -> 0 | J100: Medium | K100: high/medium | L100: Medium | M100: High | N100: High | O100: High | P100: High | Q100: High | R100: High | S100: High | T100: High | U100: High | V100: High | W100: High | X100: High | Y100: High | Z100: High | AA100: high/medium | AB100: high | AC100: high | AD100: high | AE100: high | AG100: medium | AH100: high | AI100: high | AJ100: high/medium
A101: PV on roofs | B101: =VLOOKUP(C101,Backend!$G$2:$H$10,2,FALSE) -> High/Medium | C101: =ROUND(D101,0) -> 8 | D101: =((E101*Backend!$I$2)+(F101*Backend!$I$4)+(G101*Backend!$I$6)+(H101*Backend!$I$8)+(I101*Backend!$I$10))/27 -> 8.2962963 | E101: =COUNTIF($J101:$AJ101,Backend!$H$2) -> 13 | F101: =COUNTIF($J101:$AJ101,Backend!$H$4) -> 8 | G101: =COUNTIF($J101:$AJ101,Backend!$H$6) -> 5 | H101: =COUNTIF($J101:$AJ101,Backend!$H$8) -> 0 | I101: =COUNTIF($J101:$AJ101,Backend!$H$10) -> 0 | J101: Medium | K101: Medium | L101: High | M101: high/medium | N101: high/medium | O101: High | P101: high/medium | Q101: High | R101: High | S101: High | T101: Medium | U101: High | V101: High | W101: high/medium | X101: High | Y101: High | Z101: High | AA101: high/medium | AB101: high/medium | AC101: high/medium | AD101: high | AE101: high | AG101: medium | AH101: high/medium | AI101: high | AJ101: medium
A102: PV on facades | B102: =VLOOKUP(C102,Backend!$G$2:$H$10,2,FALSE) -> Medium | C102: =ROUND(D102,0) -> 6 | D102: =((E102*Backend!$I$2)+(F102*Backend!$I$4)+(G102*Backend!$I$6)+(H102*Backend!$I$8)+(I102*Backend!$I$10))/27 -> 6.0740741 | E102: =COUNTIF($J102:$AJ102,Backend!$H$2) -> 1 | F102: =COUNTIF($J102:$AJ102,Backend!$H$4) -> 7 | G102: =COUNTIF($J102:$AJ102,Backend!$H$6) -> 13 | H102: =COUNTIF($J102:$AJ102,Backend!$H$8) -> 5 | I102: =COUNTIF($J102:$AJ102,Backend!$H$10) -> 0 | J102: Medium/low | K102: Medium | L102: Medium | M102: Medium | N102: Medium | O102: Medium | P102: high/medium | Q102: Medium | R102: Medium | S102: High | T102: Medium/low | U102: Medium/low | V102: high/medium | W102: Medium | X102: Medium | Y102: high/medium | Z102: high/medium | AA102: medium | AB102: medium | AC102: medium/low | AD102: high/medium | AE102: high/medium | AG102: medium | AH102: medium/low | AI102: medium | AJ102: high/medium
A103: PV in neighborhood surfaces | B103: =VLOOKUP(C103,Backend!$G$2:$H$10,2,FALSE) -> Medium | C103: =ROUND(D103,0) -> 6 | D103: =((E103*Backend!$I$2)+(F103*Backend!$I$4)+(G103*Backend!$I$6)+(H103*Backend!$I$8)+(I103*Backend!$I$10))/27 -> 5.9259259 | E103: =COUNTIF($J103:$AJ103,Backend!$H$2) -> 3 | F103: =COUNTIF($J103:$AJ103,Backend!$H$4) -> 7 | G103: =COUNTIF($J103:$AJ103,Backend!$H$6) -> 7 | H103: =COUNTIF($J103:$AJ103,Backend!$H$8) -> 7 | I103: =COUNTIF($J103:$AJ103,Backend!$H$10) -> 2 | J103: Medium/low | K103: Medium | L103: Medium/low | M103: High | N103: high/medium | O103: Medium/low | P103: high/medium | Q103: Medium | R103: high/medium | S103: High | T103: Medium/low | U103: Low | V103: high/medium | W103: Medium | X103: Medium/low | Y103: Medium | Z103: high/medium | AA103: high/medium | AB103: medium/low | AC103: low | AD103: high/medium | AE103: medium | AG103: medium/low | AH103: medium | AI103: high | AJ103: medium
A104: Semi-transparent PV | B104: =VLOOKUP(C104,Backend!$G$2:$H$10,2,FALSE) -> Medium | C104: =ROUND(D104,0) -> 6 | D104: =((E104*Backend!$I$2)+(F104*Backend!$I$4)+(G104*Backend!$I$6)+(H104*Backend!$I$8)+(I104*Backend!$I$10))/27 -> 6.0740741 | E104: =COUNTIF($J104:$AJ104,Backend!$H$2) -> 2 | F104: =COUNTIF($J104:$AJ104,Backend!$H$4) -> 6 | G104: =COUNTIF($J104:$AJ104,Backend!$H$6) -> 12 | H104: =COUNTIF($J104:$AJ104,Backend!$H$8) -> 6 | I104: =COUNTIF($J104:$AJ104,Backend!$H$10) -> 0 | J104: Medium | K104: Medium | L104: Medium/low | M104: high/medium | N104: Medium | O104: Medium/low | P104: high/medium | Q104: high/medium | R104: Medium | S104: High | T104: Medium/low | U104: Medium/low | V104: Medium | W104: Medium | X104: Medium | Y104: high/medium | Z104: high/medium | AA104: medium | AB104: high | AC104: medium/low | AD104: medium | AE104: medium | AG104: medium | AH104: high/medium | AI104: medium/low | AJ104: medium
...

Sheet New MAIN
A1: Strategy | B1: Implementation in New building and neighborhoods | C1: Feasibility: cost | D1: Feasibility: accessibility | E1: Environmental impact | F1: Acceptance | G1: Overall Score
A2: South/equatorial Window | B2: =D21 -> 9.8518519 | C2: =D39 -> 4 | D2: =D57 -> 8.4444444 | E2: =D75 -> 4.1481481 | F2: =D93 -> 8.962963 | G2: =(((B2*'User Interface'!$F$24)-(C2*'User Interface'!$F$25)+(D2*'User Interface'!$F$26)+(E2*'User Interface'!$F$27)+(F2*'User Interface'!$F$28))) -> 5.4814815
A3: North /non equatorial window | B3: =D22 -> 9.7037037 | C3: =D40 -> 4.0740741 | D3: =D58 -> 8.4444444 | E3: =D76 -> 3.9259259 | F3: =D94 -> 8.8148148 | G3: =(((B3*'User Interface'!$F$24)-(C3*'User Interface'!$F$25)+(D3*'User Interface'!$F$26)+(E3*'User Interface'!$F$27)+(F3*'User Interface'!$F$28))) -> 5.362963
A4: East/west window | B4: =D23 -> 9.7037037 | C4: =D41 -> 4 | D4: =D59 -> 8.0740741 | E4: =D77 -> 4 | F4: =D95 -> 8.8148148 | G4: =(((B4*'User Interface'!$F$24)-(C4*'User Interface'!$F$25)+(D4*'User Interface'!$F$26)+(E4*'User Interface'!$F$27)+(F4*'User Interface'!$F$28))) -> 5.3185185
A5: Light tube | B5: =D24 -> 8.2222222 | C5: =D42 -> 5.2592593 | D5: =D60 -> 5.7037037 | E5: =D78 -> 4.1481481 | F5: =D96 -> 6.0740741 | G5: =(((B5*'User Interface'!$F$24)-(C5*'User Interface'!$F$25)+(D5*'User Interface'!$F$26)+(E5*'User Interface'!$F$27)+(F5*'User Interface'!$F$28))) -> 3.7777778
A6: Skylight | B6: =D25 -> 8.8888889 | C6: =D43 -> 5.4074074 | D6: =D61 -> 7.3333333 | E6: =D79 -> 4.5185185 | F6: =D97 -> 7.7777778 | G6: =(((B6*'User Interface'!$F$24)-(C6*'User Interface'!$F$25)+(D6*'User Interface'!$F$26)+(E6*'User Interface'!$F$27)+(F6*'User Interface'!$F$28))) -> 4.6222222
A7: Operable windows | B7: =D26 -> 9.3333333 | C7: =D44 -> 4.7407407 | D7: =D62 -> 8.2222222 | E7: =D80 -> 4.4444444 | F7: =D98 -> 8.2222222 | G7: =(((B7*'User Interface'!$F$24)-(C7*'User Interface'!$F$25)+(D7*'User Interface'!$F$26)+(E7*'User Interface'!$F$27)+(F7*'User Interface'!$F$28))) -> 5.0962963
A8: Solar chimneys | B8: =D27 -> 7.7037037 | C8: =D45 -> 6.8148148 | D8: =D63 -> 5.037037 | E8: =D81 -> 5.037037 | F8: =D99 -> 5.1111111 | G8: =(((B8*'User Interface'!$F$24)-(C8*'User Interface'!$F$25)+(D8*'User Interface'!$F$26)+(E8*'User Interface'!$F$27)+(F8*'User Interface'!$F$28))) -> 3.2148148
A9: Solar access | B9: =D28 -> 9.1851852 | C9: =D46 -> 4.5925926 | D9: =D64 -> 8.2222222 | E9: =D82 -> 4.2222222 | F9: =D100 -> 8.962963 | G9: =(((B9*'User Interface'!$F$24)-(C9*'User Interface'!$F$25)+(D9*'User Interface'!$F$26)+(E9*'User Interface'!$F$27)+(F9*'User Interface'!$F$28))) -> 5.2
A10: PV on roofs | B10: =D29 -> 9.1851852 | C10: =D47 -> 5.7777778 | D10: =D65 -> 7.6296296 | E10: =D83 -> 6.0740741 | F10: =D101 -> 8.2962963 | G10: =(((B10*'User Interface'!$F$24)-(C10*'User Interface'!$F$25)+(D10*'User Interface'!$F$26)+(E10*'User Interface'!$F$27)+(F10*'User Interface'!$F$28))) -> 5.0814815
A11: PV on facades | B11: =D30 -> 8.5185185 | C11: =D48 -> 6.5925926 | D11: =D66 -> 6.3703704 | E11: =D84 -> 6.5925926 | F11: =D102 -> 6.0740741 | G11: =(((B11*'User Interface'!$F$24)-(C11*'User Interface'!$F$25)+(D11*'User Interface'!$F$26)+(E11*'User Interface'!$F$27)+(F11*'User Interface'!$F$28))) -> 4.1925926
A12: PV in neighborhood surfaces | B12: =D31 -> 7.8518519 | C12: =D49 -> 6.1481481 | D12: =D67 -> 5.4814815 | E12: =D85 -> 6.3703704 | F12: =D103 -> 5.9259259 | G12: =(((B12*'User Interface'!$F$24)-(C12*'User Interface'!$F$25)+(D12*'User Interface'!$F$26)+(E12*'User Interface'!$F$27)+(F12*'User Interface'!$F$28))) -> 3.8962963
A13: Semi-transparent PV | B13: =D32 -> 8.0740741 | C13: =D50 -> 7.037037 | D13: =D68 -> 5.7037037 | E13: =D86 -> 6.5185185 | F13: =D104 -> 6.0740741 | G13: =(((B13*'User Interface'!$F$24)-(C13*'User Interface'!$F$25)+(D13*'User Interface'!$F$26)+(E13*'User Interface'!$F$27)+(F13*'User Interface'!$F$28))) -> 3.8666667
... A18: STC in neighborhoods | B18: =D37 -> 7.1851852 | C18: =D55 -> 6.5925926 | D18: =D73 -> 5.1851852 | E18: =D91 -> 6.5185185 | F18: =D109 -> 5.5555556 | G18: =(((B18*'User Interface'!$F$24)-(C18*'User Interface'!$F$25)+(D18*'User Interface'!$F$26)+(E18*'User Interface'!$F$27)+(F18*'User Interface'!$F$28))) -> 3.5703704
A20: Solar Strategy | B20: Outcome | C20: Rounded off Weighted Score | D20: Weighted Score | E20: Easy | F20: Easy, depending on other constraints (e.g. cost) | G20: Hard | H20: Not possible
A21: South/equatorial window | B21: =VLOOKUP(C21,Backend!$A$11:$B$19,2,FALSE) -> Easy | C21: =ROUND(D21,0) -> 10 | D21: =((E21*Backend!$C$11)+(F21*Backend!$C$13)+(G21*Backend!$C$17)+(H21*Backend!$C$19))/27 -> 9.8518519 | E21: =COUNTIF($J21:$AJ21,Backend!$B$11) -> 25 | F21: =COUNTIF($J21:$AJ21,Backend!$B$13) -> 2 | G21: =COUNTIF($J21:$AJ21,Backend!$B$17) -> 0 | H21: =COUNTIF($J21:$AJ21,Backend!$B$19) -> 0 | J21: easy | K21: easy | L21: easy | M21: easy | N21: easy, depending on other constraints (e.g. cost) | O21: easy | P21: easy | Q21: easy | R21: easy | S21: easy | T21: easy | U21: easy | V21: easy | W21: easy | X21: easy | Y21: easy | Z21: easy | AA21: easy, depending on other constraints (e.g. cost) | AB21: easy | AC21: easy | AD21: easy | AE21: easy | AF21: easy | AG21: easy | AH21: easy | AI21: easy | AJ21: easy
A22: North /non equatorial window | B22: =VLOOKUP(C22,Backend!$A$11:$B$19,2,FALSE) -> Easy | C22: =ROUND(D22,0) -> 10 | D22: =((E22*Backend!$C$11)+(F22*Backend!$C$13)+(G22*Backend!$C$17)+(H22*Backend!$C$19))/27 -> 9.7037037 | E22: =COUNTIF($J22:$AJ22,Backend!$B$11) -> 25 | F22: =COUNTIF($J22:$AJ22,Backend!$B$13) -> 1 | G22: =COUNTIF($J22:$AJ22,Backend!$B$17) -> 1 | H22: =COUNTIF($J22:$AJ22,Backend!$B$19) -> 0 | J22: easy | K22: easy | L22: easy | M22: easy | N22: easy, depending on other constraints (e.g. cost) | O22: easy | P22: easy | Q22: easy | R22: easy | S22: easy | T22: easy | U22: easy | V22: easy | W22: easy | X22: easy | Y22: easy | Z22: easy | AA22: hard | AB22: easy | AC22: easy | AD22: easy | AE22: easy | AF22: easy | AG22: easy | AH22: easy | AI22: easy | AJ22: easy
A23: East/west window | B23: =VLOOKUP(C23,Backend!$A$11:$B$19,2,FALSE) -> Easy | C23: =ROUND(D23,0) -> 10 | D23: =((E23*Backend!$C$11)+(F23*Backend!$C$13)+(G23*Backend!$C$17)+(H23*Backend!$C$19))/27 -> 9.7037037 | E23: =COUNTIF($J23:$AJ23,Backend!$B$11) -> 25 | F23: =COUNTIF($J23:$AJ23,Backend!$B$13) -> 1 | G23: =COUNTIF($J23:$AJ23,Backend!$B$17) -> 1 | H23: =COUNTIF($J23:$AJ23,Backend!$B$19) -> 0 | J23: easy | K23: easy | L23: easy | M23: easy | N23: easy, depending on other constraints (e.g. cost) | O23: easy | P23: easy | Q23: easy | R23: easy | S23: easy | T23: easy | U23: easy | V23: easy | W23: easy | X23: easy | Y23: easy | Z23: easy | AA23: hard | AB23: easy | AC23: easy | AD23: easy | AE23: easy | AF23: easy | AG23: easy | AH23: easy | AI23: easy | AJ23: easy
A24: Light tube | B24: =VLOOKUP(C24,Backend!$A$11:$B$19,2,FALSE) -> Easy, depending on other constraints (e.g. cost) | C24: =ROUND(D24,0) -> 8 | D24: =((E24*Backend!$C$11)+(F24*Backend!$C$13)+(G24*Backend!$C$17)+(H24*Backend!$C$19))/27 -> 8.2222222 | E24: =COUNTIF($J24:$AJ24,Backend!$B$11) -> 9 | F24: =COUNTIF($J24:$AJ24,Backend!$B$13) -> 15 | G24: =COUNTIF($J24:$AJ24,Backend!$B$17) -> 3 | H24: =COUNTIF($J24:$AJ24,Backend!$B$19) -> 0 | J24: easy, depending on other constraints (e.g. cost) | K24: hard | L24: easy | M24: easy | N24: easy, depending on other constraints (e.g. cost) | O24: easy | P24: easy | Q24: easy, depending on other constraints (e.g. cost) | R24: easy, depending on other constraints (e.g. cost) | S24: easy, depending on other constraints (e.g. cost) | T24: hard | U24: easy, depending on other constraints (e.g. cost) | V24: easy, depending on other constraints (e.g. cost) | W24: easy | X24: easy, depending on other constraints (e.g. cost) | Y24: easy | Z24: easy, depending on other constraints (e.g. cost) | AA24: easy, depending on other constraints (e.g. cost) | AB24: easy, depending on other constraints (e.g. cost) | AC24: easy, depending on other constraints (e.g. cost) | AD24: hard | AE24: easy | AF24: easy | AG24: easy, depending on other constraints (e.g. cost) | AH24: easy, depending on other constraints (e.g. cost) | AI24: easy | AJ24: easy, depending on other constraints (e.g. cost)
A25: Skylight | B25: =VLOOKUP(C25,Backend!$A$11:$B$19,2,FALSE) -> Easy/Easy, depending on other constraints (e.g. cost) | C25: =ROUND(D25,0) -> 9 | D25: =((E25*Backend!$C$11)+(F25*Backend!$C$13)+(G25*Backend!$C$17)+(H25*Backend!$C$19))/27 -> 8.8888889 | E25: =COUNTIF($J25:$AJ25,Backend!$B$11) -> 14 | F25: =COUNTIF($J25:$AJ25,Backend!$B$13) -> 12 | G25: =COUNTIF($J25:$AJ25,Backend!$B$17) -> 1 | H25: =COUNTIF($J25:$AJ25,Backend!$B$19) -> 0 | J25: easy, depending on other constraints (e.g. cost) | K25: easy | L25: easy | M25: easy | N25: easy, depending on other constraints (e.g. cost) | O25: easy | P25: easy | Q25: easy, depending on other constraints (e.g. cost) | R25: easy | S25: easy, depending on other constraints (e.g. cost) | T25: easy, depending on other constraints (e.g. cost) | U25: easy, depending on other constraints (e.g. cost) | V25: easy | W25: easy | X25: easy, depending on other constraints (e.g. cost) | Y25: easy | Z25: easy | AA25: hard | AB25: easy | AC25: easy, depending on other constraints (e.g. cost) | AD25: easy, depending on other constraints (e.g. cost) | AE25: easy | AF25: easy | AG25: easy, depending on other constraints (e.g. cost) | AH25: easy, depending on other constraints (e.g. cost) | AI25: easy | AJ25: easy, depending on other constraints (e.g. cost)
A26: Operable windows | B26: =VLOOKUP(C26,Backend!$A$11:$B$19,2,FALSE) -> Easy/Easy, depending on other constraints (e.g. cost) | C26: =ROUND(D26,0) -> 9 | D26: =((E26*Backend!$C$11)+(F26*Backend!$C$13)+(G26*Backend!$C$17)+(H26*Backend!$C$19))/27 -> 9.3333333 | E26: =COUNTIF($J26:$AJ26,Backend!$B$11) -> 18 | F26: =COUNTIF($J26:$AJ26,Backend!$B$13) -> 9 | G26: =COUNTIF($J26:$AJ26,Backend!$B$17) -> 0 | H26: =COUNTIF($J26:$AJ26,Backend!$B$19) -> 0 | J26: easy, depending on other constraints (e.g. cost) | K26: easy, depending on other constraints (e.g. cost) | L26: easy, depending on other constraints (e.g. cost) | M26: easy | N26: easy, depending on other constraints (e.g. cost) | O26: easy | P26: easy | Q26: easy | R26: easy | S26: easy, depending on other constraints (e.g. cost) | T26: easy | U26: easy | V26: easy | W26: easy | X26: easy | Y26: easy | Z26: easy | AA26: easy, depending on other constraints (e.g. cost) | AB26: easy, depending on other constraints (e.g. cost) | AC26: easy | AD26: easy | AE26: easy, depending on other constraints (e.g. cost) | AF26: easy | AG26: easy | AH26: easy, depending on other constraints (e.g. cost) | AI26: easy | AJ26: easy
A27: Solar chimneys | B27: =VLOOKUP(C27,Backend!$A$11:$B$19,2,FALSE) -> Easy, depending on other constraints (e.g. cost) | C27: =ROUND(D27,0) -> 8 | D27: =((E27*Backend!$C$11)+(F27*Backend!$C$13)+(G27*Backend!$C$17)+(H27*Backend!$C$19))/27 -> 7.7037037 | E27: =COUNTIF($J27:$AJ27,Backend!$B$11) -> 4 | F27: =COUNTIF($J27:$AJ27,Backend!$B$13) -> 19 | G27: =COUNTIF($J27:$AJ27,Backend!$B$17) -> 4 | H27: =COUNTIF($J27:$AJ27,Backend!$B$19) -> 0 | J27: easy, depending on other constraints (e.g. cost) | K27: hard | L27: easy | M27: easy | N27: easy, depending on other constraints (e.g. cost) | O27: easy, depending on other constraints (e.g. cost) | P27: easy, depending on other constraints (e.g. cost) | Q27: easy, depending on other constraints (e.g. cost) | R27: easy | S27: easy, depending on other constraints (e.g. cost) | T27: easy, depending on other constraints (e.g. cost) | U27: easy, depending on other constraints (e.g. cost) | V27: hard | W27: easy, depending on other constraints (e.g. cost) | X27: easy, depending on other constraints (e.g. cost) | Y27: easy, depending on other constraints (e.g. cost) | Z27: easy, depending on other constraints (e.g. cost) | AA27: hard | AB27: easy, depending on other constraints (e.g. cost) | AC27: easy, depending on other constraints (e.g. cost) | AD27: easy, depending on other constraints (e.g. cost) | AE27: easy, depending on other constraints (e.g. cost) | AF27: easy | AG27: easy, depending on other constraints (e.g. cost) | AH27: easy, depending on other constraints (e.g. cost) | AI27: hard | AJ27: easy, depending on other constraints (e.g. cost)
A28: Solar access | B28: =VLOOKUP(C28,Backend!$A$11:$B$19,2,FALSE) -> Easy/Easy, depending on other constraints (e.g. cost) | C28: =ROUND(D28,0) -> 9 | D28: =((E28*Backend!$C$11)+(F28*Backend!$C$13)+(G28*Backend!$C$17)+(H28*Backend!$C$19))/27 -> 9.1851852 | E28: =COUNTIF($J28:$AJ28,Backend!$B$11) -> 20 | F28: =COUNTIF($J28:$AJ28,Backend!$B$13) -> 5 | G28: =COUNTIF($J28:$AJ28,Backend!$B$17) -> 2 | H28: =COUNTIF($J28:$AJ28,Backend!$B$19) -> 0 | J28: easy, depending on other constraints (e.g. cost) | K28: easy | L28: easy | M28: easy | N28: easy, depending on other constraints (e.g. cost) | O28: easy | P28: easy | Q28: easy | R28: easy | S28: easy | T28: easy | U28: hard | V28: easy | W28: easy, depending on other constraints (e.g. cost) | X28: easy | Y28: easy | Z28: easy | AA28: hard | AB28: easy | AC28: easy, depending on other constraints (e.g. cost) | AD28: easy | AE28: easy | AF28: easy | AG28: easy | AH28: easy | AI28: easy, depending on other constraints (e.g. cost) | AJ28: easy
A29: PV on roofs | B29: =VLOOKUP(C29,Backend!$A$11:$B$19,2,FALSE) -> Easy/Easy, depending on other constraints (e.g. cost) | C29: =ROUND(D29,0) -> 9 | D29: =((E29*Backend!$C$11)+(F29*Backend!$C$13)+(G29*Backend!$C$17)+(H29*Backend!$C$19))/27 -> 9.1851852 | E29: =COUNTIF($J29:$AJ29,Backend!$B$11) -> 16 | F29: =COUNTIF($J29:$AJ29,Backend!$B$13) -> 11 | G29: =COUNTIF($J29:$AJ29,Backend!$B$17) -> 0 | H29: =COUNTIF($J29:$AJ29,Backend!$B$19) -> 0 | J29: easy, depending on other constraints (e.g. cost) | K29: easy | L29: easy, depending on other constraints (e.g. cost) | M29: easy | N29: easy, depending on other constraints (e.g. cost) | O29: easy | P29: easy, depending on other constraints (e.g. cost) | Q29: easy | R29: easy, depending on other constraints (e.g. cost) | S29: easy, depending on other constraints (e.g. cost) | T29: easy | U29: easy | V29: easy, depending on other constraints (e.g. cost) | W29: easy | X29: easy | Y29: easy | Z29: easy | AA29: easy, depending on other constraints (e.g. cost) | AB29: easy, depending on other constraints (e.g. cost) | AC29: easy | AD29: easy | AE29: easy | AF29: easy | AG29: easy, depending on other constraints (e.g. cost) | AH29: easy | AI29: easy | AJ29: easy, depending on other constraints (e.g. cost)
A30: PV on facades | B30: =VLOOKUP(C30,Backend!$A$11:$B$19,2,FALSE) -> Easy/Easy, depending on other constraints (e.g. cost) | C30: =ROUND(D30,0) -> 9 | D30: =((E30*Backend!$C$11)+(F30*Backend!$C$13)+(G30*Backend!$C$17)+(H30*Backend!$C$19))/27 -> 8.5185185 | E30: =COUNTIF($J30:$AJ30,Backend!$B$11) -> 7 | F30: =COUNTIF($J30:$AJ30,Backend!$B$13) -> 20 | G30: =COUNTIF($J30:$AJ30,Backend!$B$17) -> 0 | H30: =COUNTIF($J30:$AJ30,Backend!$B$19) -> 0 | J30: easy, depending on other constraints (e.g. cost) | K30: easy | L30: easy, depending on other constraints (e.g. cost) | M30: easy | N30: easy, depending on other constraints (e.g. cost) | O30: easy, depending on other constraints (e.g. cost) | P30: easy, depending on other constraints (e.g. cost) | Q30: easy, depending on other constraints (e.g. cost) | R30: easy, depending on other constraints (e.g. cost) | S30: easy, depending on other constraints (e.g. cost) | T30: easy, depending on other constraints (e.g. cost) | U30: easy, depending on other constraints (e.g. cost) | V30: easy, depending on other constraints (e.g. cost) | W30: easy, depending on other constraints (e.g. cost) | X30: easy | Y30: easy, depending on other constraints (e.g. cost) | Z30: easy | AA30: easy, depending on other constraints (e.g. cost) | AB30: easy, depending on other constraints (e.g. cost) | AC30: easy, depending on other constraints (e.g. cost) | AD30: easy, depending on other constraints (e.g. cost) | AE30: easy, depending on other constraints (e.g. cost) | AF30: easy | AG30: easy, depending on other constraints (e.g. cost) | AH30: easy | AI30: easy | AJ30: easy, depending on other constraints (e.g. cost)
A31: PV in neighborhood surfaces | B31: =VLOOKUP(C31,Backend!$A$11:$B$19,2,FALSE) -> Easy, depending on other constraints (e.g. cost) | C31: =ROUND(D31,0) -> 8 | D31: =((E31*Backend!$C$11)+(F31*Backend!$C$13)+(G31*Backend!$C$17)+(H31*Backend!$C$19))/27 -> 7.8518519 | E31: =COUNTIF($J31:$AJ31,Backend!$B$11) -> 6 | F31: =COUNTIF($J31:$AJ31,Backend!$B$13) -> 17 | G31: =COUNTIF($J31:$AJ31,Backend!$B$17) -> 4 | H31: =COUNTIF($J31:$AJ31,Backend!$B$19) -> 0 | J31: easy, depending on other constraints (e.g. cost) | K31: easy | L31: easy, depending on other constraints (e.g. cost) | M31: easy | N31: easy, depending on other constraints (e.g. cost) | O31: hard | P31: easy, depending on other constraints (e.g. cost) | Q31: easy | R31: easy, depending on other constraints (e.g. cost) | S31: easy, depending on other constraints (e.g. cost) | T31: easy, depending on other constraints (e.g. cost) | U31: easy, depending on other constraints (e.g. cost) | V31: easy, depending on other constraints (e.g. cost) | W31: easy, depending on other constraints (e.g. cost) | X31: easy, depending on other constraints (e.g. cost) | Y31: hard | Z31: easy | AA31: easy, depending on other constraints (e.g. cost) | AB31: hard | AC31: hard | AD31: easy, depending on other constraints (e.g. cost) | AE31: easy, depending on other constraints (e.g. cost) | AF31: easy, depending on other constraints (e.g. cost) | AG31: easy, depending on other constraints (e.g. cost) | AH31: easy | AI31: easy | AJ31: easy, depending on other constraints (e.g. cost)
A32: Semi-transparent PV | B32: =VLOOKUP(C32,Backend!$A$11:$B$19,2,FALSE) -> Easy, depending on other constraints (e.g. cost) | C32: =ROUND(D32,0) -> 8 | D32: =((E32*Backend!$C$11)+(F32*Backend!$C$13)+(G32*Backend!$C$17)+(H32*Backend!$C$19))/27 -> 8.0740741 | E32: =COUNTIF($J32:$AJ32,Backend!$B$11) -> 7 | F32: =COUNTIF($J32:$AJ32,Backend!$B$13) -> 17 | G32: =COUNTIF($J32:$AJ32,Backend!$B$17) -> 3 | H32: =COUNTIF($J32:$AJ32,Backend!$B$19) -> 0 | J32: easy, depending on other constraints (e.g. cost) | K32: easy | L32: easy, depending on other constraints (e.g. cost) | M32: easy | N32: easy, depending on other constraints (e.g. cost) | O32: easy, depending on other constraints (e.g. cost) | P32: easy, depending on other constraints (e.g. cost) | Q32: easy, depending on other constraints (e.g. cost) | R32: easy, depending on other constraints (e.g. cost) | S32: easy, depending on other constraints (e.g. cost) | T32: easy, depending on other constraints (e.g. cost) | U32: hard | V32: hard | W32: easy, depending on other constraints (e.g. cost) | X32: easy, depending on other constraints (e.g. cost) | Y32: easy | Z32: easy | AA32: easy, depending on other constraints (e.g. cost) | AB32: easy, depending on other constraints (e.g. cost) | AC32: easy, depending on other constraints (e.g. cost) | AD32: hard | AE32: easy, depending on other constraints (e.g. cost) | AF32: easy | AG32: easy, depending on other constraints (e.g. cost) | AH32: easy | AI32: easy | AJ32: easy, depending on other constraints (e.g. cost)
... A37: STC in neighborhoods | B37: =VLOOKUP(C37,Backend!$A$11:$B$19,2,FALSE) -> Moderate/Easy, depending on other constraints (e.g. cost) | C37: =ROUND(D37,0) -> 7 | D37: =((E37*Backend!$C$11)+(F37*Backend!$C$13)+(G37*Backend!$C$17)+(H37*Backend!$C$19))/27 -> 7.1851852 | E37: =COUNTIF($J37:$AJ37,Backend!$B$11) -> 5 | F37: =COUNTIF($J37:$AJ37,Backend!$B$13) -> 14 | G37: =COUNTIF($J37:$AJ37,Backend!$B$17) -> 8 | H37: =COUNTIF($J37:$AJ37,Backend!$B$19) -> 0 | J37: easy, depending on other constraints (e.g. cost) | K37: easy | L37: easy, depending on other constraints (e.g. cost) | M37: easy | N37: easy, depending on other constraints (e.g. cost) | O37: hard | P37: easy, depending on other constraints (e.g. cost) | Q37: easy, depending on other constraints (e.g. cost) | R37: easy, depending on other constraints (e.g. cost) | S37: easy, depending on other constraints (e.g. cost) | T37: easy, depending on other constraints (e.g. cost) | U37: hard | V37: easy, depending on other constraints (e.g. cost) | W37: easy, depending on other constraints (e.g. cost) | X37: hard | Y37: hard | Z37: easy | AA37: easy, depending on other constraints (e.g. cost) | AB37: hard | AC37: easy, depending on other constraints (e.g. cost) | AD37: hard | AE37: hard | AF37: easy | AG37: easy | AH37: easy, depending on other constraints (e.g. cost) | AI37: hard | AJ37: easy, depending on other constraints (e.g. cost)
A38: COST | B38: Majority | D38: Score | E38: High | F38: High/Medium | G38: Medium | H38: Medium/Low | I38: Low
A39: South/equatorial window | B39: =VLOOKUP(C39,Backend!$G$2:$H$10,2,FALSE) -> Medium/Low | C39: =ROUND(D39,0) -> 4 | D39: =((E39*Backend!$I$2)+(F39*Backend!$I$4)+(G39*Backend!$I$6)+(H39*Backend!$I$8)+(I39*Backend!$I$10))/27 -> 4 | E39: =COUNTIF($J39:$AJ39,Backend!$H$2) -> 1 | F39: =COUNTIF($J39:$AJ39,Backend!$H$4) -> 2 | G39: =COUNTIF($J39:$AJ39,Backend!$H$6) -> 5 | H39: =COUNTIF($J39:$AJ39,Backend!$H$8) -> 7 | I39: =COUNTIF($J39:$AJ39,Backend!$H$10) -> 12 | J39: Medium | K39: Medium/low | L39: Medium | M39: Low | N39: Medium/low | O39: Low | P39: Low | Q39: Medium | R39: Low | S39: Low | T39: Low | U39: Medium/low | V39: Medium/low | W39: Low | X39: Low | Y39: High | Z39: Low | AA39: high/medium | AB39: medium/low | AC39: low | AD39: low | AE39: high/medium | AF39: medium | AG39: medium/low | AH39: low | AI39: medium | AJ39: medium/low
A40: North /non equatorial window | B40: =VLOOKUP(C40,Backend!$G$2:$H$10,2,FALSE) -> Medium/Low | C40: =ROUND(D40,0) -> 4 | D40: =((E40*Backend!$I$2)+(F40*Backend!$I$4)+(G40*Backend!$I$6)+(H40*Backend!$I$8)+(I40*Backend!$I$10))/27 -> 4.0740741 | E40: =COUNTIF($J40:$AJ40,Backend!$H$2) -> 1 | F40: =COUNTIF($J40:$AJ40,Backend!$H$4) -> 2 | G40: =COUNTIF($J40:$AJ40,Backend!$H$6) -> 6 | H40: =COUNTIF($J40:$AJ40,Backend!$H$8) -> 6 | I40: =COUNTIF($J40:$AJ40,Backend!$H$10) -> 12 | J40: Medium | K40: Medium/low | L40: Medium | M40: Low | N40: Medium/low | O40: Low | P40: Low | Q40: Medium | R40: Low | S40: Low | T40: Low | U40: Medium/low | V40: Medium/low | W40: Low | X40: Low | Y40: High | Z40: Low | AA40: high/medium | AB40: medium/low | AC40: low | AD40: low | AE40: high/medium | AF40: medium | AG40: medium/low | AH40: low | AI40: medium | AJ40: medium
A41: East/west window | B41: =VLOOKUP(C41,Backend!$G$2:$H$10,2,FALSE) -> Medium/Low | C41: =ROUND(D41,0) -> 4 | D41: =((E41*Backend!$I$2)+(F41*Backend!$I$4)+(G41*Backend!$I$6)+(H41*Backend!$I$8)+(I41*Backend!$I$10))/27 -> 4 | E41: =COUNTIF($J41:$AJ41,Backend!$H$2) -> 1 | F41: =COUNTIF($J41:$AJ41,Backend!$H$4) -> 2 | G41: =COUNTIF($J41:$AJ41,Backend!$H$6) -> 5 | H41: =COUNTIF($J41:$AJ41,Backend!$H$8) -> 7 | I41: =COUNTIF($J41:$AJ41,Backend!$H$10) -> 12 | J41: Medium | K41: Medium/low | L41: Medium | M41: Low | N41: Medium/low | O41: Low | P41: Low | Q41: Medium | R41: Low | S41: Low | T41: Low | U41: Medium/low | V41: Medium/low | W41: Low | X41: Low | Y41: High | Z41: Low | AA41: high/medium | AB41: medium/low | AC41: low | AD41: low | AE41: high/medium | AF41: medium | AG41: medium/low | AH41: low | AI41: medium | AJ41: medium/low
A42: Light tube | B42: =VLOOKUP(C42,Backend!$G$2:$H$10,2,FALSE) -> Medium/Low | C42: =ROUND(D42,0) -> 5 | D42: =((E42*Backend!$I$2)+(F42*Backend!$I$4)+(G42*Backend!$I$6)+(H42*Backend!$I$8)+(I42*Backend!$I$10))/27 -> 5.2592593 | E42: =COUNTIF($J42:$AJ42,Backend!$H$2) -> 3 | F42: =COUNTIF($J42:$AJ42,Backend!$H$4) -> 5 | G42: =COUNTIF($J42:$AJ42,Backend!$H$6) -> 7 | H42: =COUNTIF($J42:$AJ42,Backend!$H$8) -> 6 | I42: =COUNTIF($J42:$AJ42,Backend!$H$10) -> 3 | J42: high/medium | K42: High | L42: Low | M42: Medium/low | O42: Low | P42: Medium | Q42: High | R42: Medium/low | S42: Medium/low | T42: high/medium | U42: high/medium | W42: Medium | X42: Medium/low | Y42: High | Z42: Medium | AA42: high/medium | AB42: medium | AC42: medium | AD42: medium | AF42: low | AG42: medium/low | AH42: high/medium | AI42: medium | AJ42: medium/low
A43: Skylight | B43: =VLOOKUP(C43,Backend!$G$2:$H$10,2,FALSE) -> Medium/Low | C43: =ROUND(D43,0) -> 5 | D43: =((E43*Backend!$I$2)+(F43*Backend!$I$4)+(G43*Backend!$I$6)+(H43*Backend!$I$8)+(I43*Backend!$I$10))/27 -> 5.4074074 | E43: =COUNTIF($J43:$AJ43,Backend!$H$2) -> 1 | F43: =COUNTIF($J43:$AJ43,Backend!$H$4) -> 8 | G43: =COUNTIF($J43:$AJ43,Backend!$H$6) -> 5 | H43: =COUNTIF($J43:$AJ43,Backend!$H$8) -> 9 | I43: =COUNTIF($J43:$AJ43,Backend!$H$10) -> 3 | J43: high/medium | K43: High | L43: Low | M43: high/medium | N43: Medium/low | O43: Low | P43: Medium/low | Q43: high/medium | R43: Medium/low | S43: Medium/low | T43: Medium | U43: Medium | V43: Medium | W43: Medium/low | X43: Medium/low | Y43: high/medium | Z43: Medium/low | AB43: medium/low | AC43: medium/low | AD43: high/medium | AE43: high/medium | AF43: low | AG43: medium | AH43: high/medium | AI43: medium | AJ43: high/medium
A44: Operable windows | B44: =VLOOKUP(C44,Backend!$G$2:$H$10,2,FALSE) -> Medium/Low | C44: =ROUND(D44,0) -> 5 | D44: =((E44*Backend!$I$2)+(F44*Backend!$I$4)+(G44*Backend!$I$6)+(H44*Backend!$I$8)+(I44*Backend!$I$10))/27 -> 4.7407407 | E44: =COUNTIF($J44:$AJ44,Backend!$H$2) -> 1 | F44: =COUNTIF($J44:$AJ44,Backend!$H$4) -> 6 | G44: =COUNTIF($J44:$AJ44,Backend!$H$6) -> 5 | H44: =COUNTIF($J44:$AJ44,Backend!$H$8) -> 5 | I44: =COUNTIF($J44:$AJ44,Backend!$H$10) -> 10 | J44: high/medium | K44: High | L44: Medium | M44: high/medium | N44: Low | O44: Low | P44: Low | Q44: Low | R44: Low | S44: high/medium | T44: Low | U44: Medium/low | V44: Medium/low | W44: Medium/low | X44: Low | Y44: high/medium | Z44: Low | AA44: high/medium | AB44: high/medium | AC44: low | AD44: low | AE44: medium | AF44: medium | AG44: medium/low | AH44: medium/low | AI44: medium | AJ44: medium
A45: Solar chimneys | B45: =VLOOKUP(C45,Backend!$G$2:$H$10,2,FALSE) -> High/Medium | C45: =ROUND(D45,0) -> 7 | D45: =((E45*Backend!$I$2)+(F45*Backend!$I$4)+(G45*Backend!$I$6)+(H45*Backend!$I$8)+(I45*Backend!$I$10))/27 -> 6.8148148 | E45: =COUNTIF($J45:$AJ45,Backend!$H$2) -> 4 | F45: =COUNTIF($J45:$AJ45,Backend!$H$4) -> 11 | G45: =COUNTIF($J45:$AJ45,Backend!$H$6) -> 8 | H45: =COUNTIF($J45:$AJ45,Backend!$H$8) -> 2 | I45: =COUNTIF($J45:$AJ45,Backend!$H$10) -> 0 | J45: high/medium | K45: High | L45: Medium | M45: High | O45: high/medium | P45: Medium | Q45: high/medium | R45: Medium | S45: Medium/low | T45: high/medium | U45: high/medium | V45: High | W45: high/medium | X45: Medium | Y45: Medium | Z45: high/medium | AA45: high/medium | AB45: high/medium | AC45: medium/low | AD45: medium | AE45: medium | AF45: high/medium | AG45: medium | AH45: high | AJ45: high/medium
A46: Solar access | B46: =VLOOKUP(C46,Backend!$G$2:$H$10,2,FALSE) -> Medium/Low | C46: =ROUND(D46,0) -> 5 | D46: =((E46*Backend!$I$2)+(F46*Backend!$I$4)+(G46*Backend!$I$6)+(H46*Backend!$I$8)+(I46*Backend!$I$10))/27 -> 4.5925926 | E46: =COUNTIF($J46:$AJ46,Backend!$H$2) -> 1 | F46: =COUNTIF($J46:$AJ46,Backend!$H$4) -> 4 | G46: =COUNTIF($J46:$AJ46,Backend!$H$6) -> 7 | H46: =COUNTIF($J46:$AJ46,Backend!$H$8) -> 5 | I46: =COUNTIF($J46:$AJ46,Backend!$H$10) -> 10 | J46: Medium | K46: Medium | L46: Medium/low | M46: Medium | N46: Low | O46: Low | P46: Low | Q46: Medium/low | R46: Low | S46: Low | T46: Low | U46: high/medium | V46: Low | W46: Medium | X46: Low | Y46: high/medium | Z46: Low | AA46: high/medium | AB46: high/medium | AC46: low | AD46: medium/low | AE46: high | AF46: medium | AG46: medium | AH46: medium/low | AI46: medium/low | AJ46: medium
A47: PV on roofs | B47: =VLOOKUP(C47,Backend!$G$2:$H$10,2,FALSE) -> Medium | C47: =ROUND(D47,0) -> 6 | D47: =((E47*Backend!$I$2)+(F47*Backend!$I$4)+(G47*Backend!$I$6)+(H47*Backend!$I$8)+(I47*Backend!$I$10))/27 -> 5.7777778 | E47: =COUNTIF($J47:$AJ47,Backend!$H$2) -> 2 | F47: =COUNTIF($J47:$AJ47,Backend!$H$4) -> 6 | G47: =COUNTIF($J47:$AJ47,Backend!$H$6) -> 9 | H47: =COUNTIF($J47:$AJ47,Backend!$H$8) -> 7 | I47: =COUNTIF($J47:$AJ47,Backend!$H$10) -> 3 | J47: high/medium | K47: Medium | L47: high/medium | M47: Medium/low | N47: high/medium | O47: Low | P47: Medium | Q47: Medium/low | R47: Medium | S47: high/medium | T47: Medium | U47: Low | V47: Medium/low | W47: Medium | X47: Medium/low | Y47: High | Z47: Medium | AA47: medium | AB47: medium | AC47: low | AD47: medium/low | AE47: high | AF47: medium | AG47: high/medium | AH47: medium/low | AI47: medium/low | AJ47: high/medium
A48: PV on facades | B48: =VLOOKUP(C48,Backend!$G$2:$H$10,2,FALSE) -> High/Medium | C48: =ROUND(D48,0) -> 7 | D48: =((E48*Backend!$I$2)+(F48*Backend!$I$4)+(G48*Backend!$I$6)+(H48*Backend!$I$8)+(I48*Backend!$I$10))/27 -> 6.5925926 | E48: =COUNTIF($J48:$AJ48,Backend!$H$2) -> 0 | F48: =COUNTIF($J48:$AJ48,Backend!$H$4) -> 12 | G48: =COUNTIF($J48:$AJ48,Backend!$H$6) -> 11 | H48: =COUNTIF($J48:$AJ48,Backend!$H$8) -> 4 | I48: =COUNTIF($J48:$AJ48,Backend!$H$10) -> 0 | J48: high/medium | K48: Medium | L48: high/medium | M48: Medium/low | N48: high/medium | O48: high/medium | P48: high/medium | Q48: Medium | R48: high/medium | S48: high/medium | T48: high/medium | U48: Medium/low | V48: Medium | W48: high/medium | X48: Medium | Y48: Medium | Z48: Medium | AA48: medium | AB48: medium | AC48: medium/low | AD48: medium | AE48: medium | AF48: high/medium | AG48: high/medium | AH48: medium/low | AI48: medium | AJ48: high/medium
A49: PV in neighborhood surfaces | B49: =VLOOKUP(C49,Backend!$G$2:$H$10,2,FALSE) -> Medium | C49: =ROUND(D49,0) -> 6 | D49: =((E49*Backend!$I$2)+(F49*Backend!$I$4)+(G49*Backend!$I$6)+(H49*Backend!$I$8)+(I49*Backend!$I$10))/27 -> 6.1481481 | E49: =COUNTIF($J49:$AJ49,Backend!$H$2) -> 0 | F49: =COUNTIF($J49:$AJ49,Backend!$H$4) -> 9 | G49: =COUNTIF($J49:$AJ49,Backend!$H$6) -> 12 | H49: =COUNTIF($J49:$AJ49,Backend!$H$8) -> 5 | I49: =COUNTIF($J49:$AJ49,Backend!$H$10) -> 1 | J49: high/medium | K49: Medium | L49: high/medium | M49: Medium/low | N49: high/medium | O49: Medium | P49: Medium | Q49: Medium/low | R49: Medium | S49: high/medium | T49: high/medium | U49: Low | V49: Medium | W49: high/medium | X49: Medium | Y49: Medium/low | Z49: Medium | AA49: medium | AB49: high/medium | AC49: medium/low | AD49: medium | AE49: medium | AF49: medium | AG49: high/medium | AH49: medium | AI49: medium/low | AJ49: high/medium
A50: Semi-transparent PV | B50: =VLOOKUP(C50,Backend!$G$2:$H$10,2,FALSE) -> High/Medium | C50: =ROUND(D50,0) -> 7 | D50: =((E50*Backend!$I$2)+(F50*Backend!$I$4)+(G50*Backend!$I$6)+(H50*Backend!$I$8)+(I50*Backend!$I$10))/27 -> 7.037037 | E50: =COUNTIF($J50:$AJ50,Backend!$H$2) -> 4 | F50: =COUNTIF($J50:$AJ50,Backend!$H$4) -> 12 | G50: =COUNTIF($J50:$AJ50,Backend!$H$6) -> 8 | H50: =COUNTIF($J50:$AJ50,Backend!$H$8) -> 1 | I50: =COUNTIF($J50:$AJ50,Backend!$H$10) -> 1 | J50: high/medium | K50: Medium | L50: high/medium | M50: Medium | O50: Medium/low | P50: Medium | Q50: Medium | R50: high/medium | S50: High | T50: High | U50: high/medium | V50: high/medium | W50: High | X50: high/medium | Y50: Medium | Z50: Medium | AA50: medium | AB50: high/medium | AC50: low | AD50: high/medium | AE50: high/medium | AF50: high/medium | AG50: high | AH50: medium | AI50: high/medium | AJ50: high/medium
A51: PV/thermal technologies | B51: =VLOOKUP(C51,Backend!$G$2:$H$10,2,FALSE) -> High/Medium | C51: =ROUND(D51,0) -> 7 | D51: =((E51*Backend!$I$2)+(F51*Backend!$I$4)+(G51*Backend!$I$6)+(H51*Backend!$I$8)+(I51*Backend!$I$10))/27 -> 6.5185185 | E51: =COUNTIF($J51:$AJ51,Backend!$H$2) -> 2 | F51: =COUNTIF($J51:$AJ51,Backend!$H$4) -> 9 | G51: =COUNTIF($J51:$AJ51,Backend!$H$6) -> 12 | H51: =COUNTIF($J51:$AJ51,Backend!$H$8) -> 3 | I51: =COUNTIF($J51:$AJ51,Backend!$H$10) -> 0 | J51: high/medium | K51: Medium | L51: high/medium | M51: Medium/low | O51: Medium | P51: Medium | Q51: Medium | R51: high/medium | S51: High | T51: Medium | U51: Medium | V51: high/medium | W51: Medium | X51: Medium/low | Y51: high/medium | Z51: Medium | AA51: medium | AB51: medium | AC51: medium/low | AD51: medium | AE51: high | AF51: high/medium | AG51: high/medium | AH51: medium | AI51: high/medium | AJ51: high/medium
A52: PV+heat pump | B52: =VLOOKUP(C52,Backend!$G$2:$H$10,2,FALSE) -> High/Medium | C52: =ROUND(D52,0) -> 7 | D52: =((E52*Backend!$I$2)+(F52*Backend!$I$4)+(G52*Backend!$I$6)+(H52*Backend!$I$8)+(I52*Backend!$I$10))/27 -> 7.3333333 | E52: =COUNTIF($J52:$AJ52,Backend!$H$2) -> 2 | F52: =COUNTIF($J52:$AJ52,Backend!$H$4) -> 16 | G52: =COUNTIF($J52:$AJ52,Backend!$H$6) -> 7 | H52: =COUNTIF($J52:$AJ52,Backend!$H$8) -> 2 | I52: =COUNTIF($J52:$AJ52,Backend!$H$10) -> 0 | J52: high/medium | K52: high/medium | L52: high/medium | M52: Medium | N52: High | O52: Medium/low | P52: Medium | Q52: high/medium | R52: high/medium | S52: High | T52: high/medium | U52: high/medium | V52: Medium | W52: high/medium | X52: Medium | Y52: high/medium | Z52: Medium | AA52: high/medium | AB52: high/medium | AC52: medium/low | AD52: medium | AE52: high/medium | AF52: high/medium | AG52: high/medium | AH52: high/medium | AI52: medium | AJ52: high/medium
A53: STC on facades | B53: =VLOOKUP(C53,Backend!$G$2:$H$10,2,FALSE) -> High/Medium | C53: =ROUND(D53,0) -> 7 | D53: =((E53*Backend!$I$2)+(F53*Backend!$I$4)+(G53*Backend!$I$6)+(H53*Backend!$I$8)+(I53*Backend!$I$10))/27 -> 6.8148148 | E53: =COUNTIF($J53:$AJ53,Backend!$H$2) -> 4 | F53: =COUNTIF($J53:$AJ53,Backend!$H$4) -> 11 | G53: =COUNTIF($J53:$AJ53,Backend!$H$6) -> 8 | H53: =COUNTIF($J53:$AJ53,Backend!$H$8) -> 2 | I53: =COUNTIF($J53:$AJ53,Backend!$H$10) -> 0 | J53: high/medium | K53: Medium | L53: high/medium | M53: Medium | O53: high/medium | P53: Medium | Q53: high/medium | R53: high/medium | S53: High | T53: High | U53: High | V53: high/medium | W53: High | X53: Medium | Y53: Medium/low | Z53: Medium | AA53: high/medium | AB53: medium | AD53: high/medium | AE53: medium/low | AF53: high/medium | AG53: high/medium | AH53: medium | AI53: medium | AJ53: high/medium
A54: STC on roofs | B54: =VLOOKUP(C54,Backend!$G$2:$H$10,2,FALSE) -> High/Medium | C54: =ROUND(D54,0) -> 7 | D54: =((E54*Backend!$I$2)+(F54*Backend!$I$4)+(G54*Backend!$I$6)+(H54*Backend!$I$8)+(I54*Backend!$I$10))/27 -> 6.7407407 | E54: =COUNTIF($J54:$AJ54,Backend!$H$2) -> 3 | F54: =COUNTIF($J54:$AJ54,Backend!$H$4) -> 10 | G54: =COUNTIF($J54:$AJ54,Backend!$H$6) -> 10 | H54: =COUNTIF($J54:$AJ54,Backend!$H$8) -> 3 | I54: =COUNTIF($J54:$AJ54,Backend!$H$10) -> 0 | J54: high/medium | K54: Medium | L54: high/medium | M54: Medium | O54: Medium/low | P54: Medium | Q54: high/medium | R54: high/medium | S54: High | T54: Medium | U54: high/medium | V54: Medium | W54: Medium | X54: Medium | Y54: High | Z54: Medium | AA54: high/medium | AB54: medium | AC54: medium/low | AD54: high/medium | AE54: high | AF54: high/medium | AG54: high/medium | AH54: medium/low | AI54: medium | AJ54: high/medium
A55: STC in neighborhoods | B55: =VLOOKUP(C55,Backend!$G$2:$H$10,2,FALSE) -> High/Medium | C55: =ROUND(D55,0) -> 7 | D55: =((E55*Backend!$I$2)+(F55*Backend!$I$4)+(G55*Backend!$I$6)+(H55*Backend!$I$8)+(I55*Backend!$I$10))/27 -> 6.5925926 | E55: =COUNTIF($J55:$AJ55,Backend!$H$2) -> 3 | F55: =COUNTIF($J55:$AJ55,Backend!$H$4) -> 11 | G55: =COUNTIF($J55:$AJ55,Backend!$H$6) -> 7 | H55: =COUNTIF($J55:$AJ55,Backend!$H$8) -> 4 | I55: =COUNTIF($J55:$AJ55,Backend!$H$10) -> 1 | J55: high/medium | K55: Medium | L55: high/medium | M55: Medium/low | O55: Medium/low | P55: Medium | Q55: high/medium | R55: high/medium | S55: High | T55: high/medium | U55: high/medium | V55: high/medium | W55: High | X55: Medium | Y55: Low | Z55: Medium | AA55: high | AB55: high/medium | AC55: medium/low | AD55: high/medium | AE55: medium | AF55: high/medium | AG55: medium/low | AH55: medium | AI55: medium | AJ55: high/medium
A56: Accessibility
A57: South/equatorial window | B57: =VLOOKUP(C57,Backend!$G$2:$H$10,2,FALSE) -> High/Medium | C57: =ROUND(D57,0) -> 8 | D57: =((E57*Backend!$I$2)+(F57*Backend!$I$4)+(G57*Backend!$I$6)+(H57*Backend!$I$8)+(I57*Backend!$I$10))/27 -> 8.4444444 | E57: =COUNTIF($J57:$AJ57,Backend!$H$2) -> 18 | F57: =COUNTIF($J57:$AJ57,Backend!$H$4) -> 3 | G57: =COUNTIF($J57:$AJ57,Backend!$H$6) -> 3 | H57: =COUNTIF($J57:$AJ57,Backend!$H$8) -> 1 | I57: =COUNTIF($J57:$AJ57,Backend!$H$10) -> 1 | J57: Medium | K57: High | L57: High | M57: High | N57: High | O57: high/medium | P57: High | Q57: High | R57: High | S57: High | T57: High | U57: high/medium | V57: High | W57: High | X57: Medium | Y57: High | Z57: High | AA57: high | AB57: medium/low | AC57: high | AD57: high/medium | AE57: high | AG57: low | AH57: high | AI57: high | AJ57: medium
A58: North /non equatorial window | B58: =VLOOKUP(C58,Backend!$G$2:$H$10,2,FALSE) -> High/Medium | C58: =ROUND(D58,0) -> 8 | D58: =((E58*Backend!$I$2)+(F58*Backend!$I$4)+(G58*Backend!$I$6)+(H58*Backend!$I$8)+(I58*Backend!$I$10))/27 -> 8.4444444 | E58: =COUNTIF($J58:$AJ58,Backend!$H$2) -> 18 | F58: =COUNTIF($J58:$AJ58,Backend!$H$4) -> 3 | G58: =COUNTIF($J58:$AJ58,Backend!$H$6) -> 3 | H58: =COUNTIF($J58:$AJ58,Backend!$H$8) -> 1 | I58: =COUNTIF($J58:$AJ58,Backend!$H$10) -> 1 | J58: Medium | K58: High | L58: High | M58: High | N58: High | O58: high/medium | P58: High | Q58: High | R58: High | S58: High | T58: High | U58: high/medium | V58: High | W58: High | X58: Medium | Y58: High | Z58: High | AA58: high | AB58: medium/low | AC58: high | AD58: high/medium | AE58: high | AG58: low | AH58: high | AI58: high | AJ58: medium
A59: East/west window | B59: =VLOOKUP(C59,Backend!$G$2:$H$10,2,FALSE) -> High/Medium | C59: =ROUND(D59,0) -> 8 | D59: =((E59*Backend!$I$2)+(F59*Backend!$I$4)+(G59*Backend!$I$6)+(H59*Backend!$I$8)+(I59*Backend!$I$10))/27 -> 8.0740741 | E59: =COUNTIF($J59:$AJ59,Backend!$H$2) -> 17 | F59: =COUNTIF($J59:$AJ59,Backend!$H$4) -> 3 | G59: =COUNTIF($J59:$AJ59,Backend!$H$6) -> 3 | H59: =COUNTIF($J59:$AJ59,Backend!$H$8) -> 1 | I59: =COUNTIF($J59:$AJ59,Backend!$H$10) -> 1 | J59: Medium | K59: High | L59: High | M59: High | N59: High | O59: high/medium | P59: High | Q59: High | R59: High | S59: High | T59: High | U59: high/medium | V59: High | W59: High | X59: Medium | Y59: High | Z59: High | AA59: high | AB59: medium/low | AC59: high | AD59: high/medium | AE59: high | AG59: low | AH59: high | AI59: higih | AJ59: medium
A60: Light tube | B60: =VLOOKUP(C60,Backend!$G$2:$H$10,2,FALSE) -> Medium | C60: =ROUND(D60,0) -> 6 | D60: =((E60*Backend!$I$2)+(F60*Backend!$I$4)+(G60*Backend!$I$6)+(H60*Backend!$I$8)+(I60*Backend!$I$10))/27 -> 5.7037037 | E60: =COUNTIF($J60:$AJ60,Backend!$H$2) -> 4 | F60: =COUNTIF($J60:$AJ60,Backend!$H$4) -> 6 | G60: =COUNTIF($J60:$AJ60,Backend!$H$6) -> 6 | H60: =COUNTIF($J60:$AJ60,Backend!$H$8) -> 6 | I60: =COUNTIF($J60:$AJ60,Backend!$H$10) -> 3 | J60: high/medium | K60: Low | L60: High | M60: high/medium | O60: high/medium | P60: Medium | Q60: Medium | R60: high/medium | S60: Medium | T60: Low | U60: Medium/low | V60: Low | W60: Medium/low | X60: Medium/low | Y60: High | Z60: High | AA60: medium | AB60: medium | AC60: medium/low | AD60: medium | AE60: high | AG60: medium/low | AH60: high/medium | AI60: medium/low | AJ60: high/medium
A61: Skylight | B61: =VLOOKUP(C61,Backend!$G$2:$H$10,2,FALSE) -> High/Medium | C61: =ROUND(D61,0) -> 7 | D61: =((E61*Backend!$I$2)+(F61*Backend!$I$4)+(G61*Backend!$I$6)+(H61*Backend!$I$8)+(I61*Backend!$I$10))/27 -> 7.3333333 | E61: =COUNTIF($J61:$AJ61,Backend!$H$2) -> 9 | F61: =COUNTIF($J61:$AJ61,Backend!$H$4) -> 8 | G61: =COUNTIF($J61:$AJ61,Backend!$H$6) -> 5 | H61: =COUNTIF($J61:$AJ61,Backend!$H$8) -> 3 | I61: =COUNTIF($J61:$AJ61,Backend!$H$10) -> 1 | J61: high/medium | K61: high/medium | L61: High | M61: High | N61: High | O61: high/medium | P61: High | Q61: high/medium | R61: High | S61: Medium | T61: high/medium | U61: Medium | V61: Low | W61: high/medium | X61: Medium/low | Y61: High | Z61: High | AA61: medium | AB61: medium | AC61: medium/low | AD61: medium | AE61: high/medium | AG61: medium/low | AH61: high/medium | AI61: high | AJ61: high
A62: Operable windows | B62: =VLOOKUP(C62,Backend!$G$2:$H$10,2,FALSE) -> High/Medium | C62: =ROUND(D62,0) -> 8 | D62: =((E62*Backend!$I$2)+(F62*Backend!$I$4)+(G62*Backend!$I$6)+(H62*Backend!$I$8)+(I62*Backend!$I$10))/27 -> 8.2222222 | E62: =COUNTIF($J62:$AJ62,Backend!$H$2) -> 14 | F62: =COUNTIF($J62:$AJ62,Backend!$H$4) -> 7 | G62: =COUNTIF($J62:$AJ62,Backend!$H$6) -> 4 | H62: =COUNTIF($J62:$AJ62,Backend!$H$8) -> 0 | I62: =COUNTIF($J62:$AJ62,Backend!$H$10) -> 1 | J62: high/medium | K62: Medium | L62: Medium | M62: high/medium | N62: High | O62: high/medium | P62: High | Q62: High | R62: High | S62: Medium | T62: High | U62: high/medium | V62: High | W62: High | X62: High | Y62: High | Z62: High | AA62: high | AB62: medium | AC62: high | AD62: high/medium | AE62: high/medium | AG62: low | AH62: high/medium | AI62: high | AJ62: high
A63: Solar chimneys | B63: =VLOOKUP(C63,Backend!$G$2:$H$10,2,FALSE) -> Medium/Low | C63: =ROUND(D63,0) -> 5 | D63: =((E63*Backend!$I$2)+(F63*Backend!$I$4)+(G63*Backend!$I$6)+(H63*Backend!$I$8)+(I63*Backend!$I$10))/27 -> 5.037037 | E63: =COUNTIF($J63:$AJ63,Backend!$H$2) -> 2 | F63: =COUNTIF($J63:$AJ63,Backend!$H$4) -> 5 | G63: =COUNTIF($J63:$AJ63,Backend!$H$6) -> 6 | H63: =COUNTIF($J63:$AJ63,Backend!$H$8) -> 8 | I63: =COUNTIF($J63:$AJ63,Backend!$H$10) -> 4 | J63: Medium | K63: Low | L63: Medium | M63: Medium | O63: Medium/low | P63: Medium/low | Q63: high/medium | R63: high/medium | S63: Medium | T63: Medium/low | U63: Medium/low | V63: Low | W63: Medium/low | X63: Medium/low | Y63: high/medium | Z63: Medium/low | AA63: high | AB63: high/medium | AC63: medium | AD63: medium/low | AE63: medium | AG63: low | AH63: high/medium | AI63: low | AJ63: high
A64: Solar access | B64: =VLOOKUP(C64,Backend!$G$2:$H$10,2,FALSE) -> High/Medium | C64: =ROUND(D64,0) -> 8 | D64: =((E64*Backend!$I$2)+(F64*Backend!$I$4)+(G64*Backend!$I$6)+(H64*Backend!$I$8)+(I64*Backend!$I$10))/27 -> 8.2222222 | E64: =COUNTIF($J64:$AJ64,Backend!$H$2) -> 15 | F64: =COUNTIF($J64:$AJ64,Backend!$H$4) -> 6 | G64: =COUNTIF($J64:$AJ64,Backend!$H$6) -> 3 | H64: =COUNTIF($J64:$AJ64,Backend!$H$8) -> 1 | I64: =COUNTIF($J64:$AJ64,Backend!$H$10) -> 1 | J64: Medium | K64: High | L64: high/medium | M64: high/medium | N64: High | O64: High | P64: High | Q64: High | R64: High | S64: High | T64: High | U64: Medium | V64: High | W64: high/medium | X64: High | Y64: High | Z64: high/medium | AA64: high | AB64: medium/low | AC64: high/medium | AD64: high/medium | AE64: high | AG64: low | AH64: high | AI64: high | AJ64: medium
A65: PV on roofs | B65: =VLOOKUP(C65,Backend!$G$2:$H$10,2,FALSE) -> High/Medium | C65: =ROUND(D65,0) -> 8 | D65: =((E65*Backend!$I$2)+(F65*Backend!$I$4)+(G65*Backend!$I$6)+(H65*Backend!$I$8)+(I65*Backend!$I$10))/27 -> 7.6296296 | E65: =COUNTIF($J65:$AJ65,Backend!$H$2) -> 11 | F65: =COUNTIF($J65:$AJ65,Backend!$H$4) -> 8 | G65: =COUNTIF($J65:$AJ65,Backend!$H$6) -> 3 | H65: =COUNTIF($J65:$AJ65,Backend!$H$8) -> 3 | I65: =COUNTIF($J65:$AJ65,Backend!$H$10) -> 1 | J65: Medium | K65: Medium | L65: High | M65: high/medium | N65: High | O65: High | P65: high/medium | Q65: High | R65: High | S65: Medium/low | T65: High | U65: high/medium | V65: high/medium | W65: high/medium | X65: High | Y65: High | Z65: high/medium | AA65: high/medium | AB65: medium/low | AC65: high | AD65: high/medium | AE65: high | AG65: medium/low | AH65: low | AI65: high | AJ65: medium
A66: PV on facades | B66: =VLOOKUP(C66,Backend!$G$2:$H$10,2,FALSE) -> Medium | C66: =ROUND(D66,0) -> 6 | D66: =((E66*Backend!$I$2)+(F66*Backend!$I$4)+(G66*Backend!$I$6)+(H66*Backend!$I$8)+(I66*Backend!$I$10))/27 -> 6.3703704 | E66: =COUNTIF($J66:$AJ66,Backend!$H$2) -> 2 | F66: =COUNTIF($J66:$AJ66,Backend!$H$4) -> 11 | G66: =COUNTIF($J66:$AJ66,Backend!$H$6) -> 7 | H66: =COUNTIF($J66:$AJ66,Backend!$H$8) -> 5 | I66: =COUNTIF($J66:$AJ66,Backend!$H$10) -> 1 | J66: Medium | K66: Medium/low | L66: High | M66: high/medium | N66: high/medium | O66: Medium | P66: high/medium | Q66: high/medium | R66: high/medium | S66: Medium/low | T66: Medium | U66: Medium/low | V66: Low | W66: high/medium | X66: high/medium | Y66: Medium | Z66: high/medium | AA66: high/medium | AB66: medium/low | AC66: medium | AD66: medium | AE66: high/medium | AG66: medium/low | AH66: high | AI66: high/medium | AJ66: medium
A67: PV in neighborhood surfaces | B67: =VLOOKUP(C67,Backend!$G$2:$H$10,2,FALSE) -> Medium/Low | C67: =ROUND(D67,0) -> 5 | D67: =((E67*Backend!$I$2)+(F67*Backend!$I$4)+(G67*Backend!$I$6)+(H67*Backend!$I$8)+(I67*Backend!$I$10))/27 -> 5.4814815 | E67: =COUNTIF($J67:$AJ67,Backend!$H$2) -> 1 | F67: =COUNTIF($J67:$AJ67,Backend!$H$4) -> 6 | G67: =COUNTIF($J67:$AJ67,Backend!$H$6) -> 11 | H67: =COUNTIF($J67:$AJ67,Backend!$H$8) -> 5 | I67: =COUNTIF($J67:$AJ67,Backend!$H$10) -> 2 | J67: Medium | K67: Medium | L67: High | M67: high/medium | O67: Medium/low | P67: high/medium | Q67: Medium/low | R67: high/medium | S67: Medium/low | T67: Medium | U67: Medium | V67: Low | W67: Medium | X67: Medium | Y67: Medium/low | Z67: Medium | AA67: high/medium | AB67: medium | AC67: low | AD67: medium | AE67: medium | AG67: medium/low | AH67: high/medium | AI67: high/medium | AJ67: medium
A68: Semi-transparent PV | B68: =VLOOKUP(C68,Backend!$G$2:$H$10,2,FALSE) -> Medium | C68: =ROUND(D68,0) -> 6 | D68: =((E68*Backend!$I$2)+(F68*Backend!$I$4)+(G68*Backend!$I$6)+(H68*Backend!$I$8)+(I68*Backend!$I$10))/27 -> 5.7037037 | E68: =COUNTIF($J68:$AJ68,Backend!$H$2) -> 0 | F68: =COUNTIF($J68:$AJ68,Backend!$H$4) -> 8 | G68: =COUNTIF($J68:$AJ68,Backend!$H$6) -> 10 | H68: =COUNTIF($J68:$AJ68,Backend!$H$8) -> 7 | I68: =COUNTIF($J68:$AJ68,Backend!$H$10) -> 1 | J68: Medium | K68: high/medium | L68: Medium | M68: high/medium | N68: high/medium | O68: Medium/low | P68: high/medium | Q68: Medium | R68: Medium | S68: Medium/low | T68: Medium/low | U68: Medium/low | V68: Low | W68: Medium/low | X68: high/medium | Y68: high/medium | Z68: high/medium | AA68: medium | AB68: high/medium | AC68: medium | AD68: medium/low | AE68: medium | AG68: medium | AH68: medium | AI68: medium/low | AJ68: medium
A69: PV/thermal technologies | B69: =VLOOKUP(C69,Backend!$G$2:$H$10,2,FALSE) -> High/Medium | C69: =ROUND(D69,0) -> 7 | D69: =((E69*Backend!$I$2)+(F69*Backend!$I$4)+(G69*Backend!$I$6)+(H69*Backend!$I$8)+(I69*Backend!$I$10))/27 -> 6.6666667 | E69: =COUNTIF($J69:$AJ69,Backend!$H$2) -> 3 | F69: =COUNTIF($J69:$AJ69,Backend!$H$4) -> 12 | G69: =COUNTIF($J69:$AJ69,Backend!$H$6) -> 6 | H69: =COUNTIF($J69:$AJ69,Backend!$H$8) -> 4 | I69: =COUNTIF($J69:$AJ69,Backend!$H$10) -> 1 | J69: Medium | K69: Medium | L69: high/medium | M69: high/medium | N69: High | O69: Medium | P69: high/medium | Q69: Medium | R69: Medium | S69: Medium/low | T69: High | U69: Medium/low | V69: Low | W69: high/medium | X69: high/medium | Y69: High | Z69: high/medium | AA69: high/medium | AB69: medium | AC69: high/medium | AD69: medium/low | AE69: high/medium | AG69: medium/low | AH69: high/medium | AI69: high/medium | AJ69: high/medium
A70: PV+heat pump | B70: =VLOOKUP(C70,Backend!$G$2:$H$10,2,FALSE) -> High/Medium | C70: =ROUND(D70,0) -> 7 | D70: =((E70*Backend!$I$2)+(F70*Backend!$I$4)+(G70*Backend!$I$6)+(H70*Backend!$I$8)+(I70*Backend!$I$10))/27 -> 7.4074074 | E70: =COUNTIF($J70:$AJ70,Backend!$H$2) -> 5 | F70: =COUNTIF($J70:$AJ70,Backend!$H$4) -> 14 | G70: =COUNTIF($J70:$AJ70,Backend!$H$6) -> 5 | H70: =COUNTIF($J70:$AJ70,Backend!$H$8) -> 2 | I70: =COUNTIF($J70:$AJ70,Backend!$H$10) -> 0 | J70: Medium | K70: high/medium | L70: High | M70: high/medium | N70: High | O70: high/medium | P70: high/medium | Q70: high/medium | R70: Medium | S70: Medium/low | T70: High | U70: High | V70: Medium | W70: high/medium | X70: high/medium | Y70: high/medium | Z70: high/medium | AA70: high/medium | AB70: medium | AC70: high | AD70: medium | AE70: high/medium | AG70: medium/low | AH70: high/medium | AI70: high/medium | AJ70: high/medium
A71: STC on facades | B71: =VLOOKUP(C71,Backend!$G$2:$H$10,2,FALSE) -> Medium/Low | C71: =ROUND(D71,0) -> 5 | D71: =((E71*Backend!$I$2)+(F71*Backend!$I$4)+(G71*Backend!$I$6)+(H71*Backend!$I$8)+(I71*Backend!$I$10))/27 -> 5.1851852 | E71: =COUNTIF($J71:$AJ71,Backend!$H$2) -> 0 | F71: =COUNTIF($J71:$AJ71,Backend!$H$4) -> 6 | G71: =COUNTIF($J71:$AJ71,Backend!$H$6) -> 9 | H71: =COUNTIF($J71:$AJ71,Backend!$H$8) -> 8 | I71: =COUNTIF($J71:$AJ71,Backend!$H$10) -> 3 | J71: Medium | K71: Medium | L71: Low | M71: high/medium | N71: high/medium | O71: Low | P71: high/medium | Q71: Medium | R71: Medium | S71: Medium/low | T71: Medium | U71: Medium/low | V71: Low | W71: Medium | X71: Medium | Y71: Medium/low | Z71: high/medium | AA71: medium/low | AB71: medium/low | AC71: medium | AD71: medium/low | AE71: medium/low | AG71: medium/low | AH71: high/medium | AI71: medium | AJ71: high/medium
A72: STC on roofs | B72: =VLOOKUP(C72,Backend!$G$2:$H$10,2,FALSE) -> High/Medium | C72: =ROUND(D72,0) -> 7 | D72: =((E72*Backend!$I$2)+(F72*Backend!$I$4)+(G72*Backend!$I$6)+(H72*Backend!$I$8)+(I72*Backend!$I$10))/27 -> 6.8148148 | E72: =COUNTIF($J72:$AJ72,Backend!$H$2) -> 7 | F72: =COUNTIF($J72:$AJ72,Backend!$H$4) -> 7 | G72: =COUNTIF($J72:$AJ72,Backend!$H$6) -> 7 | H72: =COUNTIF($J72:$AJ72,Backend!$H$8) -> 4 | I72: =COUNTIF($J72:$AJ72,Backend!$H$10) -> 0 | J72: Medium | K72: Medium | L72: High | M72: high/medium | N72: High | O72: High | P72: high/medium | Q72: Medium | R72: high/medium | S72: Medium/low | T72: High | U72: Medium | V72: Medium | W72: high/medium | X72: Medium | Y72: High | Z72: high/medium | AA72: high/medium | AB72: medium/low | AC72: medium | AD72: medium/low | AE72: high | AG72: medium/low | AH72: medium/ | AI72: high | AJ72: high/medium
A73: STC in neighborhoods | B73: =VLOOKUP(C73,Backend!$G$2:$H$10,2,FALSE) -> Medium/Low | C73: =ROUND(D73,0) -> 5 | D73: =((E73*Backend!$I$2)+(F73*Backend!$I$4)+(G73*Backend!$I$6)+(H73*Backend!$I$8)+(I73*Backend!$I$10))/27 -> 5.1851852 | E73: =COUNTIF($J73:$AJ73,Backend!$H$2) -> 0 | F73: =COUNTIF($J73:$AJ73,Backend!$H$4) -> 6 | G73: =COUNTIF($J73:$AJ73,Backend!$H$6) -> 11 | H73: =COUNTIF($J73:$AJ73,Backend!$H$8) -> 5 | I73: =COUNTIF($J73:$AJ73,Backend!$H$10) -> 3 | J73: Medium | K73: Medium | L73: Medium | M73: high/medium | N73: high/medium | O73: Medium/low | P73: high/medium | Q73: Low | R73: Medium | S73: Medium/low | T73: Medium | U73: Medium/low | V73: Low | W73: Medium | X73: Medium | Y73: Low | Z73: high/medium | AB73: medium | AC73: medium | AD73: medium/low | AE73: medium | AG73: medium/low | AH73: high/medium | AI73: medium | AJ73: high/medium
A74: Environmental impact
A75: South/equatorial window | B75: =VLOOKUP(C75,Backend!$G$2:$H$10,2,FALSE) -> Medium/Low | C75: =ROUND(D75,0) -> 4 | D75: =((E75*Backend!$I$2)+(F75*Backend!$I$4)+(G75*Backend!$I$6)+(H75*Backend!$I$8)+(I75*Backend!$I$10))/27 -> 4.1481481 | E75: =COUNTIF($J75:$AJ75,Backend!$H$2) -> 2 | F75: =COUNTIF($J75:$AJ75,Backend!$H$4) -> 2 | G75: =COUNTIF($J75:$AJ75,Backend!$H$6) -> 3 | H75: =COUNTIF($J75:$AJ75,Backend!$H$8) -> 10 | I75: =COUNTIF($J75:$AJ75,Backend!$H$10) -> 9 | J75: High | K75: Medium/low | L75: Medium | M75: Medium/low | N75: Medium/low | O75: Low | P75: Medium/low | Q75: Medium/low | R75: Low | S75: Low | T75: Medium/low | U75: Medium/low | V75: Medium | W75: High | X75: Low | Y75: Low | Z75: Low | AA75: high/medium | AB75: medium/low | AC75: low | AD75: high/medium | AE75: low | AG75: medium/low | AH75: low | AI75: medium/low | AJ75: medium
A76: North /non equatorial window | B76: =VLOOKUP(C76,Backend!$G$2:$H$10,2,FALSE) -> Medium/Low | C76: =ROUND(D76,0) -> 4 | D76: =((E76*Backend!$I$2)+(F76*Backend!$I$4)+(G76*Backend!$I$6)+(H76*Backend!$I$8)+(I76*Backend!$I$10))/27 -> 3.9259259 | E76: =COUNTIF($J76:$AJ76,Backend!$H$2) -> 1 | F76: =COUNTIF($J76:$AJ76,Backend!$H$4) -> 2 | G76: =COUNTIF($J76:$AJ76,Backend!$H$6) -> 5 | H76: =COUNTIF($J76:$AJ76,Backend!$H$8) -> 7 | I76: =COUNTIF($J76:$AJ76,Backend!$H$10) -> 11 | J76: High | K76: Medium/low | L76: Low | M76: Medium | N76: Medium/low | O76: Low | P76: Medium/low | Q76: Medium/low | R76: Low | S76: Low | T76: Medium/low | U76: Medium/low | V76: Low | W76: high/medium | X76: Low | Y76: Low | Z76: Low | AA76: medium | AB76: medium | AC76: low | AD76: high/medium | AE76: low | AG76: medium/low | AH76: low | AI76: medium | AJ76: medium
A77: East/west window | B77: =VLOOKUP(C77,Backend!$G$2:$H$10,2,FALSE) -> Medium/Low | C77: =ROUND(D77,0) -> 4 | D77: =((E77*Backend!$I$2)+(F77*Backend!$I$4)+(G77*Backend!$I$6)+(H77*Backend!$I$8)+(I77*Backend!$I$10))/27 -> 4 | E77: =COUNTIF($J77:$AJ77,Backend!$H$2) -> 0 | F77: =COUNTIF($J77:$AJ77,Backend!$H$4) -> 4 | G77: =COUNTIF($J77:$AJ77,Backend!$H$6) -> 3 | H77: =COUNTIF($J77:$AJ77,Backend!$H$8) -> 10 | I77: =COUNTIF($J77:$AJ77,Backend!$H$10) -> 9 | J77: high/medium | K77: Medium/low | L77: Medium/low | M77: Medium/low | N77: Medium/low | O77: Low | P77: Medium/low | Q77: Medium/low | R77: Low | S77: Low | T77: Medium/low | U77: Medium/low | V77: Medium | W77: high/medium | X77: Low | Y77: Low | Z77: Low | AA77: high/medium | AB77: medium/low | AC77: low | AD77: high/medium | AE77: low | AG77: medium/low | AH77: low | AI77: medium | AJ77: medium
A78: Light tube | B78: =VLOOKUP(C78,Backend!$G$2:$H$10,2,FALSE) -> Medium/Low | C78: =ROUND(D78,0) -> 4 | D78: =((E78*Backend!$I$2)+(F78*Backend!$I$4)+(G78*Backend!$I$6)+(H78*Backend!$I$8)+(I78*Backend!$I$10))/27 -> 4.1481481 | E78: =COUNTIF($J78:$AJ78,Backend!$H$2) -> 0 | F78: =COUNTIF($J78:$AJ78,Backend!$H$4) -> 4 | G78: =COUNTIF($J78:$AJ78,Backend!$H$6) -> 6 | H78: =COUNTIF($J78:$AJ78,Backend!$H$8) -> 7 | I78: =COUNTIF($J78:$AJ78,Backend!$H$10) -> 8 | J78: Medium/low | K78: high/medium | L78: Low | M78: Medium/low | N78: Medium | O78: Low | P78: Medium | Q78: Medium | R78: Low | S78: Low | T78: Medium | U78: high/medium | V78: Low | W78: Medium/low | X78: Medium/low | Y78: Low | Z78: Low | AA78: high/medium | AB78: medium | AC78: medium/low | AD78: medium/low | AE78: low | AG78: medium/low | AH78: medium | AJ78: high/medium
A79: Skylight | B79: =VLOOKUP(C79,Backend!$G$2:$H$10,2,FALSE) -> Medium/Low | C79: =ROUND(D79,0) -> 5 | D79: =((E79*Backend!$I$2)+(F79*Backend!$I$4)+(G79*Backend!$I$6)+(H79*Backend!$I$8)+(I79*Backend!$I$10))/27 -> 4.5185185 | E79: =COUNTIF($J79:$AJ79,Backend!$H$2) -> 1 | F79: =COUNTIF($J79:$AJ79,Backend!$H$4) -> 3 | G79: =COUNTIF($J79:$AJ79,Backend!$H$6) -> 8 | H79: =COUNTIF($J79:$AJ79,Backend!$H$8) -> 6 | I79: =COUNTIF($J79:$AJ79,Backend!$H$10) -> 8 | J79: Medium | K79: high/medium | L79: Low | M79: Medium | N79: Medium/low | O79: Low | P79: Medium/low | Q79: Medium | R79: Low | S79: Low | T79: Medium | U79: Medium | V79: Low | W79: Medium | X79: Medium/low | Y79: Medium/low | Z79: Low | AA79: high/medium | AB79: medium | AC79: low | AD79: high | AE79: low | AG79: medium/low | AH79: medium | AI79: medium/low | AJ79: high/medium
A80: Operable windows | B80: =VLOOKUP(C80,Backend!$G$2:$H$10,2,FALSE) -> Medium/Low | C80: =ROUND(D80,0) -> 4 | D80: =((E80*Backend!$I$2)+(F80*Backend!$I$4)+(G80*Backend!$I$6)+(H80*Backend!$I$8)+(I80*Backend!$I$10))/27 -> 4.4444444 | E80: =COUNTIF($J80:$AJ80,Backend!$H$2) -> 0 | F80: =COUNTIF($J80:$AJ80,Backend!$H$4) -> 4 | G80: =COUNTIF($J80:$AJ80,Backend!$H$6) -> 6 | H80: =COUNTIF($J80:$AJ80,Backend!$H$8) -> 10 | I80: =COUNTIF($J80:$AJ80,Backend!$H$10) -> 6 | J80: Medium | K80: Medium | L80: Medium/low | M80: Medium | N80: Medium | O80: Low | P80: Medium/low | Q80: high/medium | R80: Medium/low | S80: Medium/low | T80: Medium/low | U80: Medium/low | V80: Low | W80: Medium | X80: Low | Y80: Medium/low | Z80: Low | AA80: high/medium | AB80: medium | AC80: low | AD80: high/medium | AE80: medium/low | AG80: medium/low | AH80: medium/low | AI80: low | AJ80: high/medium
A81: Solar chimneys | B81: =VLOOKUP(C81,Backend!$G$2:$H$10,2,FALSE) -> Medium/Low | C81: =ROUND(D81,0) -> 5 | D81: =((E81*Backend!$I$2)+(F81*Backend!$I$4)+(G81*Backend!$I$6)+(H81*Backend!$I$8)+(I81*Backend!$I$10))/27 -> 5.037037 | E81: =COUNTIF($J81:$AJ81,Backend!$H$2) -> 0 | F81: =COUNTIF($J81:$AJ81,Backend!$H$4) -> 6 | G81: =COUNTIF($J81:$AJ81,Backend!$H$6) -> 8 | H81: =COUNTIF($J81:$AJ81,Backend!$H$8) -> 9 | I81: =COUNTIF($J81:$AJ81,Backend!$H$10) -> 2 | J81: high/medium | K81: high/medium | L81: Medium/low | M81: Medium | N81: Medium | O81: Medium/low | P81: Medium/low | Q81: Medium | R81: Medium/low | S81: Low | T81: Medium/low | U81: high/medium | V81: Low | W81: Medium | X81: Medium/low | Y81: Medium | Z81: Medium/low | AA81: high/medium | AB81: medium | AC81: medium | AD81: medium | AE81: medium/low | AG81: medium/low | AH81: high/medium | AJ81: high/medium
A82: Solar access | B82: =VLOOKUP(C82,Backend!$G$2:$H$10,2,FALSE) -> Medium/Low | C82: =ROUND(D82,0) -> 4 | D82: =((E82*Backend!$I$2)+(F82*Backend!$I$4)+(G82*Backend!$I$6)+(H82*Backend!$I$8)+(I82*Backend!$I$10))/27 -> 4.2222222 | E82: =COUNTIF($J82:$AJ82,Backend!$H$2) -> 2 | F82: =COUNTIF($J82:$AJ82,Backend!$H$4) -> 5 | G82: =COUNTIF($J82:$AJ82,Backend!$H$6) -> 2 | H82: =COUNTIF($J82:$AJ82,Backend!$H$8) -> 4 | I82: =COUNTIF($J82:$AJ82,Backend!$H$10) -> 13 | J82: high/medium | K82: High | L82: Medium | M82: Low | N82: Low | O82: Low | P82: Low | Q82: Medium/low | R82: Low | S82: Low | T82: Low | U82: Low | V82: High | W82: high/medium | X82: Low | Y82: Medium/low | Z82: Low | AA82: high/medium | AB82: medium/low | AC82: low | AD82: medium | AE82: low | AG82: medium/low | AH82: high/medium | AI82: low | AJ82: high/medium
A83: PV on roofs | B83: =VLOOKUP(C83,Backend!$G$2:$H$10,2,FALSE) -> Medium | C83: =ROUND(D83,0) -> 6 | D83: =((E83*Backend!$I$2)+(F83*Backend!$I$4)+(G83*Backend!$I$6)+(H83*Backend!$I$8)+(I83*Backend!$I$10))/27 -> 6.0740741 | E83: =COUNTIF($J83:$AJ83,Backend!$H$2) -> 1 | F83: =COUNTIF($J83:$AJ83,Backend!$H$4) -> 11 | G83: =COUNTIF($J83:$AJ83,Backend!$H$6) -> 6 | H83: =COUNTIF($J83:$AJ83,Backend!$H$8) -> 7 | I83: =COUNTIF($J83:$AJ83,Backend!$H$10) -> 1 | J83: Medium | K83: high/medium | L83: high/medium | M83: high/medium | N83: Medium | O83: Medium/low | P83: Medium/low | Q83: High | R83: Medium | S83: high/medium | T83: high/medium | U83: high/medium | V83: Medium | W83: high/medium | X83: Medium/low | Y83: Medium/low | Z83: Medium | AA83: high/medium | AB83: medium | AC83: medium/low | AD83: high/medium | AE83: medium/low | AG83: medium/low | AH83: high/medium | AI83: low | AJ83: high/medium
A84: PV on facades | B84: =VLOOKUP(C84,Backend!$G$2:$H$10,2,FALSE) -> High/Medium | C84: =ROUND(D84,0) -> 7 | D84: =((E84*Backend!$I$2)+(F84*Backend!$I$4)+(G84*Backend!$I$6)+(H84*Backend!$I$8)+(I84*Backend!$I$10))/27 -> 6.5925926 | E84: =COUNTIF($J84:$AJ84,Backend!$H$2) -> 2 | F84: =COUNTIF($J84:$AJ84,Backend!$H$4) -> 12 | G84: =COUNTIF($J84:$AJ84,Backend!$H$6) -> 8 | H84: =COUNTIF($J84:$AJ84,Backend!$H$8) -> 3 | I84: =COUNTIF($J84:$AJ84,Backend!$H$10) -> 1 | J84: high/medium | K84: high/medium | L84: high/medium | M84: high/medium | N84: Medium | O84: Medium | P84: Medium/low | Q84: High | R84: Medium | S84: high/medium | T84: high/medium | U84: High | V84: Medium | W84: high/medium | X84: Medium | Y84: Medium | Z84: Medium | AA84: high/medium | AB84: medium | AC84: medium/low | AD84: high/medium | AE84: high/medium | AG84: medium/low | AH84: high/medium | AI84: low | AJ84: high/medium
A85: PV in neighborhood surfaces | B85: =VLOOKUP(C85,Backend!$G$2:$H$10,2,FALSE) -> Medium | C85: =ROUND(D85,0) -> 6 | D85: =((E85*Backend!$I$2)+(F85*Backend!$I$4)+(G85*Backend!$I$6)+(H85*Backend!$I$8)+(I85*Backend!$I$10))/27 -> 6.3703704 | E85: =COUNTIF($J85:$AJ85,Backend!$H$2) -> 1 | F85: =COUNTIF($J85:$AJ85,Backend!$H$4) -> 14 | G85: =COUNTIF($J85:$AJ85,Backend!$H$6) -> 4 | H85: =COUNTIF($J85:$AJ85,Backend!$H$8) -> 6 | I85: =COUNTIF($J85:$AJ85,Backend!$H$10) -> 1 | J85: high/medium | K85: high/medium | L85: high/medium | M85: high/medium | N85: Medium | O85: Medium/low | P85: Medium/low | Q85: High | R85: Medium | S85: high/medium | T85: high/medium | U85: high/medium | V85: Medium/low | W85: high/medium | X85: Medium | Y85: high/medium | Z85: Medium | AA85: high/medium | AB85: high/medium | AC85: medium/low | AD85: high/medium | AE85: medium/low | AG85: medium/low | AH85: high/medium | AI85: low | AJ85: high/medium
A86: Semi-transparent PV | B86: =VLOOKUP(C86,Backend!$G$2:$H$10,2,FALSE) -> High/Medium | C86: =ROUND(D86,0) -> 7 | D86: =((E86*Backend!$I$2)+(F86*Backend!$I$4)+(G86*Backend!$I$6)+(H86*Backend!$I$8)+(I86*Backend!$I$10))/27 -> 6.5185185 | E86: =COUNTIF($J86:$AJ86,Backend!$H$2) -> 1 | F86: =COUNTIF($J86:$AJ86,Backend!$H$4) -> 12 | G86: =COUNTIF($J86:$AJ86,Backend!$H$6) -> 10 | H86: =COUNTIF($J86:$AJ86,Backend!$H$8) -> 2 | I86: =COUNTIF($J86:$AJ86,Backend!$H$10) -> 1 | J86: Medium | K86: high/medium | L86: High | M86: high/medium | N86: Medium | O86: high/medium | P86: Medium/low | Q86: Medium | R86: Medium | S86: high/medium | T86: high/medium | U86: high/medium | V86: Low | W86: high/medium | X86: Medium | Y86: Medium | Z86: Medium | AA86: high/medium | AB86: high/medium | AC86: medium | AD86: high/medium | AE86: medium | AG86: medium/low | AH86: high/medium | AI86: medium | AJ86: high/medium
A87: PV/thermal technologies | B87: =VLOOKUP(C87,Backend!$G$2:$H$10,2,FALSE) -> High/Medium | C87: =ROUND(D87,0) -> 7 | D87: =((E87*Backend!$I$2)+(F87*Backend!$I$4)+(G87*Backend!$I$6)+(H87*Backend!$I$8)+(I87*Backend!$I$10))/27 -> 6.5185185 | E87: =COUNTIF($J87:$AJ87,Backend!$H$2) -> 1 | F87: =COUNTIF($J87:$AJ87,Backend!$H$4) -> 13 | G87: =COUNTIF($J87:$AJ87,Backend!$H$6) -> 7 | H87: =COUNTIF($J87:$AJ87,Backend!$H$8) -> 5 | I87: =COUNTIF($J87:$AJ87,Backend!$H$10) -> 0 | J87: high/medium | K87: high/medium | L87: high/medium | M87: high/medium | N87: Medium | O87: Medium | P87: Medium/low | Q87: high/medium | R87: high/medium | S87: high/medium | T87: high/medium | U87: High | V87: Medium/low | W87: high/medium | X87: Medium | Y87: Medium/low | Z87: Medium | AA87: high/medium | AB87: medium | AC87: medium | AD87: high/medium | AE87: medium/low | AG87: medium/low | AH87: high/medium | AI87: medium | AJ87: high/medium
A88: PV+heat pump | B88: =VLOOKUP(C88,Backend!$G$2:$H$10,2,FALSE) -> High/Medium | C88: =ROUND(D88,0) -> 7 | D88: =((E88*Backend!$I$2)+(F88*Backend!$I$4)+(G88*Backend!$I$6)+(H88*Backend!$I$8)+(I88*Backend!$I$10))/27 -> 6.8148148 | E88: =COUNTIF($J88:$AJ88,Backend!$H$2) -> 5 | F88: =COUNTIF($J88:$AJ88,Backend!$H$4) -> 9 | G88: =COUNTIF($J88:$AJ88,Backend!$H$6) -> 7 | H88: =COUNTIF($J88:$AJ88,Backend!$H$8) -> 5 | I88: =COUNTIF($J88:$AJ88,Backend!$H$10) -> 0 | J88: high/medium | K88: Medium | L88: high/medium | M88: high/medium | N88: Medium | O88: Medium/low | P88: Medium/low | Q88: High | R88: high/medium | S88: High | T88: High | U88: High | V88: Medium | W88: High | X88: high/medium | Y88: Medium/low | Z88: Medium | AA88: medium | AB88: high/medium | AC88: medium | AD88: high/medium | AE88: medium | AG88: medium/low | AH88: high/medium | AI88: medium/low | AJ88: high/medium
A89: STC on facades | B89: =VLOOKUP(C89,Backend!$G$2:$H$10,2,FALSE) -> High/Medium | C89: =ROUND(D89,0) -> 7 | D89: =((E89*Backend!$I$2)+(F89*Backend!$I$4)+(G89*Backend!$I$6)+(H89*Backend!$I$8)+(I89*Backend!$I$10))/27 -> 6.7407407 | E89: =COUNTIF($J89:$AJ89,Backend!$H$2) -> 2 | F89: =COUNTIF($J89:$AJ89,Backend!$H$4) -> 13 | G89: =COUNTIF($J89:$AJ89,Backend!$H$6) -> 8 | H89: =COUNTIF($J89:$AJ89,Backend!$H$8) -> 2 | I89: =COUNTIF($J89:$AJ89,Backend!$H$10) -> 1 | J89: high/medium | K89: high/medium | L89: High | M89: high/medium | N89: Medium | O89: Medium | P89: Medium/low | Q89: high/medium | R89: high/medium | S89: high/medium | T89: high/medium | U89: High | V89: Low | W89: high/medium | X89: Medium | Y89: Medium | Z89: Medium | AA89: medium | AB89: medium | AC89: high/medium | AD89: high/medium | AE89: high/medium | AG89: medium/low | AH89: high/medium | AI89: medium | AJ89: high/medium
A90: STC on roofs | B90: =VLOOKUP(C90,Backend!$G$2:$H$10,2,FALSE) -> Medium | C90: =ROUND(D90,0) -> 6 | D90: =((E90*Backend!$I$2)+(F90*Backend!$I$4)+(G90*Backend!$I$6)+(H90*Backend!$I$8)+(I90*Backend!$I$10))/27 -> 6.3703704 | E90: =COUNTIF($J90:$AJ90,Backend!$H$2) -> 1 | F90: =COUNTIF($J90:$AJ90,Backend!$H$4) -> 11 | G90: =COUNTIF($J90:$AJ90,Backend!$H$6) -> 9 | H90: =COUNTIF($J90:$AJ90,Backend!$H$8) -> 5 | I90: =COUNTIF($J90:$AJ90,Backend!$H$10) -> 0 | J90: high/medium | K90: high/medium | L90: Medium | M90: high/medium | N90: Medium | O90: Medium/low | P90: Medium/low | Q90: high/medium | R90: high/medium | S90: high/medium | T90: high/medium | U90: High | V90: Medium | W90: high/medium | X90: Medium | Y90: Medium/low | Z90: Medium | AA90: medium | AB90: medium | AC90: medium | AD90: high/medium | AE90: medium/low | AG90: medium/low | AH90: high/medium | AI90: medium | AJ90: high/medium
A91: STC in neighborhoods | B91: =VLOOKUP(C91,Backend!$G$2:$H$10,2,FALSE) -> High/Medium | C91: =ROUND(D91,0) -> 7 | D91: =((E91*Backend!$I$2)+(F91*Backend!$I$4)+(G91*Backend!$I$6)+(H91*Backend!$I$8)+(I91*Backend!$I$10))/27 -> 6.5185185 | E91: =COUNTIF($J91:$AJ91,Backend!$H$2) -> 1 | F91: =COUNTIF($J91:$AJ91,Backend!$H$4) -> 13 | G91: =COUNTIF($J91:$AJ91,Backend!$H$6) -> 8 | H91: =COUNTIF($J91:$AJ91,Backend!$H$8) -> 3 | I91: =COUNTIF($J91:$AJ91,Backend!$H$10) -> 1 | J91: high/medium | K91: high/medium | L91: Medium | M91: high/medium | N91: Medium | O91: Medium/low | P91: Medium/low | Q91: high/medium | R91: high/medium | S91: high/medium | T91: high/medium | U91: High | V91: Low | W91: high/medium | X91: Medium | Y91: high/medium | Z91: Medium | AA91: medium | AB91: high/medium | AC91: medium | AD91: high/medium | AE91: medium | AG91: medium/low | AH91: high/medium | AI91: medium | AJ91: high/medium
A92: Acceptance | E92: =COUNTIF($J92:$AJ92,Backend!$H$2) -> 0 | F92: =COUNTIF($J92:$AJ92,Backend!$H$4) -> 0 | G92: =COUNTIF($J92:$AJ92,Backend!$H$6) -> 0 | H92: =COUNTIF($J92:$AJ92,Backend!$H$8) -> 0 | I92: =COUNTIF($J92:$AJ92,Backend!$H$10) -> 0
A93: South/equatorial window | B93: =VLOOKUP(C93,Backend!$G$2:$H$10,2,FALSE) -> High/Medium | C93: =ROUND(D93,0) -> 9 | D93: =((E93*Backend!$I$2)+(F93*Backend!$I$4)+(G93*Backend!$I$6)+(H93*Backend!$I$8)+(I93*Backend!$I$10))/27 -> 8.962963 | E93: =COUNTIF($J93:$AJ93,Backend!$H$2) -> 23 | F93: =COUNTIF($J93:$AJ93,Backend!$H$4) -> 0 | G93: =COUNTIF($J93:$AJ93,Backend!$H$6) -> 2 | H93: =COUNTIF($J93:$AJ93,Backend!$H$8) -> 0 | I93: =COUNTIF($J93:$AJ93,Backend!$H$10) -> 0 | J93: High | K93: High | L93: High | M93: High | N93: High | O93: High | P93: High | Q93: High | R93: High | S93: High | T93: High | U93: High | W93: High | X93: High | Y93: High | Z93: High | AA93: high | AB93: high | AC93: high | AD93: high | AE93: high | AG93: medium | AH93: high | AI93: high | AJ93: medium
A94: North /non equatorial window | B94: =VLOOKUP(C94,Backend!$G$2:$H$10,2,FALSE) -> High/Medium | C94: =ROUND(D94,0) -> 9 | D94: =((E94*Backend!$I$2)+(F94*Backend!$I$4)+(G94*Backend!$I$6)+(H94*Backend!$I$8)+(I94*Backend!$I$10))/27 -> 8.8148148 | E94: =COUNTIF($J94:$AJ94,Backend!$H$2) -> 20 | F94: =COUNTIF($J94:$AJ94,Backend!$H$4) -> 2 | G94: =COUNTIF($J94:$AJ94,Backend!$H$6) -> 3 | H94: =COUNTIF($J94:$AJ94,Backend!$H$8) -> 1 | I94: =COUNTIF($J94:$AJ94,Backend!$H$10) -> 0 | J94: Medium | K94: High | L94: High | M94: high/medium | N94: High | O94: High | P94: High | Q94: High | R94: High | S94: High | T94: High | U94: High | V94: High | W94: High | X94: High | Y94: High | Z94: High | AA94: high/medium | AB94: high | AC94: high | AD94: high | AE94: medium/low | AG94: medium | AH94: high | AI94: high | AJ94: medium
A95: East/west window | B95: =VLOOKUP(C95,Backend!$G$2:$H$10,2,FALSE) -> High/Medium | C95: =ROUND(D95,0) -> 9 | D95: =((E95*Backend!$I$2)+(F95*Backend!$I$4)+(G95*Backend!$I$6)+(H95*Backend!$I$8)+(I95*Backend!$I$10))/27 -> 8.8148148 | E95: =COUNTIF($J95:$AJ95,Backend!$H$2) -> 21 | F95: =COUNTIF($J95:$AJ95,Backend!$H$4) -> 2 | G95: =COUNTIF($J95:$AJ95,Backend!$H$6) -> 2 | H95: =COUNTIF($J95:$AJ95,Backend!$H$8) -> 0 | I95: =COUNTIF($J95:$AJ95,Backend!$H$10) -> 0 | J95: high/medium | K95: High | L95: High | M95: High | N95: High | O95: High | P95: High | Q95: High | R95: High | S95: High | T95: High | U95: High | V95: High | W95: High | X95: High | Y95: High | Z95: High | AA95: high/medium | AB95: high | AC95: high | AD95: high | AE95: medium | AG95: meidum | AH95: high | AI95: high | AJ95: medium
A96: Light tube | B96: =VLOOKUP(C96,Backend!$G$2:$H$10,2,FALSE) -> Medium | C96: =ROUND(D96,0) -> 6 | D96: =((E96*Backend!$I$2)+(F96*Backend!$I$4)+(G96*Backend!$I$6)+(H96*Backend!$I$8)+(I96*Backend!$I$10))/27 -> 6.0740741 | E96: =COUNTIF($J96:$AJ96,Backend!$H$2) -> 6 | F96: =COUNTIF($J96:$AJ96,Backend!$H$4) -> 5 | G96: =COUNTIF($J96:$AJ96,Backend!$H$6) -> 8 | H96: =COUNTIF($J96:$AJ96,Backend!$H$8) -> 2 | I96: =COUNTIF($J96:$AJ96,Backend!$H$10) -> 4 | J96: Medium | K96: Low | L96: High | M96: Medium/low | O96: High | P96: high/medium | Q96: Medium | R96: High | S96: High | T96: Medium | U96: Low | V96: Medium | W96: Medium | X96: Low | Y96: High | Z96: High | AA96: high/medium | AB96: high/medium | AC96: low | AD96: high/medium | AE96: medium | AG96: medium | AH96: medium/low | AI96: medium | AJ96: high/medium
A97: Skylight | B97: =VLOOKUP(C97,Backend!$G$2:$H$10,2,FALSE) -> High/Medium | C97: =ROUND(D97,0) -> 8 | D97: =((E97*Backend!$I$2)+(F97*Backend!$I$4)+(G97*Backend!$I$6)+(H97*Backend!$I$8)+(I97*Backend!$I$10))/27 -> 7.7777778 | E97: =COUNTIF($J97:$AJ97,Backend!$H$2) -> 10 | F97: =COUNTIF($J97:$AJ97,Backend!$H$4) -> 8 | G97: =COUNTIF($J97:$AJ97,Backend!$H$6) -> 7 | H97: =COUNTIF($J97:$AJ97,Backend!$H$8) -> 1 | I97: =COUNTIF($J97:$AJ97,Backend!$H$10) -> 0 | J97: Medium | K97: Medium | L97: High | M97: high/medium | N97: High | O97: High | P97: High | Q97: Medium | R97: High | S97: High | T97: high/medium | U97: Medium | V97: high/medium | W97: high/medium | X97: Medium/low | Y97: high/medium | Z97: High | AA97: high/medium | AB97: high/medium | AC97: medium | AD97: high | AE97: high/medium | AG97: medium | AH97: high | AI97: high | AJ97: medium
A98: Operable windows | B98: =VLOOKUP(C98,Backend!$G$2:$H$10,2,FALSE) -> High/Medium | C98: =ROUND(D98,0) -> 8 | D98: =((E98*Backend!$I$2)+(F98*Backend!$I$4)+(G98*Backend!$I$6)+(H98*Backend!$I$8)+(I98*Backend!$I$10))/27 -> 8.2222222 | E98: =COUNTIF($J98:$AJ98,Backend!$H$2) -> 14 | F98: =COUNTIF($J98:$AJ98,Backend!$H$4) -> 5 | G98: =COUNTIF($J98:$AJ98,Backend!$H$6) -> 7 | H98: =COUNTIF($J98:$AJ98,Backend!$H$8) -> 0 | I98: =COUNTIF($J98:$AJ98,Backend!$H$10) -> 0 | J98: high/medium | K98: Medium | L98: Medium | M98: Medium | N98: High | O98: High | P98: High | Q98: High | R98: High | S98: High | T98: high/medium | U98: Medium | V98: High | W98: High | X98: High | Y98: high/medium | Z98: High | AA98: high/medium | AB98: medium | AC98: high | AD98: high | AE98: medium | AG98: medium | AH98: high | AI98: high | AJ98: high/medium
A99: Solar chimneys | B99: =VLOOKUP(C99,Backend!$G$2:$H$10,2,FALSE) -> Medium/Low | C99: =ROUND(D99,0) -> 5 | D99: =((E99*Backend!$I$2)+(F99*Backend!$I$4)+(G99*Backend!$I$6)+(H99*Backend!$I$8)+(I99*Backend!$I$10))/27 -> 5.1111111 | E99: =COUNTIF($J99:$AJ99,Backend!$H$2) -> 1 | F99: =COUNTIF($J99:$AJ99,Backend!$H$4) -> 5 | G99: =COUNTIF($J99:$AJ99,Backend!$H$6) -> 10 | H99: =COUNTIF($J99:$AJ99,Backend!$H$8) -> 5 | I99: =COUNTIF($J99:$AJ99,Backend!$H$10) -> 4 | J99: Medium | K99: Medium/low | L99: Medium | M99: Low | O99: Medium/low | P99: Medium | Q99: Medium | R99: high/medium | S99: High | T99: high/medium | U99: Low | V99: Low | W99: high/medium | X99: Medium | Y99: Medium | Z99: Medium | AA99: high/medium | AB99: medium | AC99: medium/low | AD99: medium/low | AE99: medium | AG99: medium | AH99: medium/low | AI99: low | AJ99: high/medium
A100: Solar access | B100: =VLOOKUP(C100,Backend!$G$2:$H$10,2,FALSE) -> High/Medium | C100: =ROUND(D100,0) -> 9 | D100: =((E100*Backend!$I$2)+(F100*Backend!$I$4)+(G100*Backend!$I$6)+(H100*Backend!$I$8)+(I100*Backend!$I$10))/27 -> 8.962963 | E100: =COUNTIF($J100:$AJ100,Backend!$H$2) -> 20 | F100: =COUNTIF($J100:$AJ100,Backend!$H$4) -> 3 | G100: =COUNTIF($J100:$AJ100,Backend!$H$6) -> 3 | H100: =COUNTIF($J100:$AJ100,Backend!$H$8) -> 0 | I100: =COUNTIF($J100:$AJ100,Backend!$H$10) -> 0 | J100: Medium | K100: high/medium | L100: Medium | M100: High | N100: High | O100: High | P100: High | Q100: High | R100: High | S100: High | T100: High | U100: High | V100: High | W100: High | X100: High | Y100: High | Z100: High | AA100: high/medium | AB100: high | AC100: high | AD100: high | AE100: high | AG100: medium | AH100: high | AI100: high | AJ100: high/medium
A101: PV on roofs | B101: =VLOOKUP(C101,Backend!$G$2:$H$10,2,FALSE) -> High/Medium | C101: =ROUND(D101,0) -> 8 | D101: =((E101*Backend!$I$2)+(F101*Backend!$I$4)+(G101*Backend!$I$6)+(H101*Backend!$I$8)+(I101*Backend!$I$10))/27 -> 8.2962963 | E101: =COUNTIF($J101:$AJ101,Backend!$H$2) -> 13 | F101: =COUNTIF($J101:$AJ101,Backend!$H$4) -> 8 | G101: =COUNTIF($J101:$AJ101,Backend!$H$6) -> 5 | H101: =COUNTIF($J101:$AJ101,Backend!$H$8) -> 0 | I101: =COUNTIF($J101:$AJ101,Backend!$H$10) -> 0 | J101: Medium | K101: Medium | L101: High | M101: high/medium | N101: high/medium | O101: High | P101: high/medium | Q101: High | R101: High | S101: High | T101: Medium | U101: High | V101: High | W101: high/medium | X101: High | Y101: High | Z101: High | AA101: high/medium | AB101: high/medium | AC101: high/medium | AD101: high | AE101: high | AG101: medium | AH101: high/medium | AI101: high | AJ101: medium
A102: PV on facades | B102: =VLOOKUP(C102,Backend!$G$2:$H$10,2,FALSE) -> Medium | C102: =ROUND(D102,0) -> 6 | D102: =((E102*Backend!$I$2)+(F102*Backend!$I$4)+(G102*Backend!$I$6)+(H102*Backend!$I$8)+(I102*Backend!$I$10))/27 -> 6.0740741 | E102: =COUNTIF($J102:$AJ102,Backend!$H$2) -> 1 | F102: =COUNTIF($J102:$AJ102,Backend!$H$4) -> 7 | G102: =COUNTIF($J102:$AJ102,Backend!$H$6) -> 13 | H102: =COUNTIF($J102:$AJ102,Backend!$H$8) -> 5 | I102: =COUNTIF($J102:$AJ102,Backend!$H$10) -> 0 | J102: Medium/low | K102: Medium | L102: Medium | M102: Medium | N102: Medium | O102: Medium | P102: high/medium | Q102: Medium | R102: Medium | S102: High | T102: Medium/low | U102: Medium/low | V102: high/medium | W102: Medium | X102: Medium | Y102: high/medium | Z102: high/medium | AA102: medium | AB102: medium | AC102: medium/low | AD102: high/medium | AE102: high/medium | AG102: medium | AH102: medium/low | AI102: medium | AJ102: high/medium
A103: PV in neighborhood surfaces | B103: =VLOOKUP(C103,Backend!$G$2:$H$10,2,FALSE) -> Medium | C103: =ROUND(D103,0) -> 6 | D103: =((E103*Backend!$I$2)+(F103*Backend!$I$4)+(G103*Backend!$I$6)+(H103*Backend!$I$8)+(I103*Backend!$I$10))/27 -> 5.9259259 | E103: =COUNTIF($J103:$AJ103,Backend!$H$2) -> 3 | F103: =COUNTIF($J103:$AJ103,Backend!$H$4) -> 7 | G103: =COUNTIF($J103:$AJ103,Backend!$H$6) -> 7 | H103: =COUNTIF($J103:$AJ103,Backend!$H$8) -> 7 | I103: =COUNTIF($J103:$AJ103,Backend!$H$10) -> 2 | J103: Medium/low | K103: Medium | L103: Medium/low | M103: High | N103: high/medium | O103: Medium/low | P103: high/medium | Q103: Medium | R103: high/medium | S103: High | T103: Medium/low | U103: Low | V103: high/medium | W103: Medium | X103: Medium/low | Y103: Medium | Z103: high/medium | AA103: high/medium | AB103: medium/low | AC103: low | AD103: high/medium | AE103: medium | AG103: medium/low | AH103: medium | AI103: high | AJ103: medium
A104: Semi-transparent PV | B104: =VLOOKUP(C104,Backend!$G$2:$H$10,2,FALSE) -> Medium | C104: =ROUND(D104,0) -> 6 | D104: =((E104*Backend!$I$2)+(F104*Backend!$I$4)+(G104*Backend!$I$6)+(H104*Backend!$I$8)+(I104*Backend!$I$10))/27 -> 6.0740741 | E104: =COUNTIF($J104:$AJ104,Backend!$H$2) -> 2 | F104: =COUNTIF($J104:$AJ104,Backend!$H$4) -> 6 | G104: =COUNTIF($J104:$AJ104,Backend!$H$6) -> 12 | H104: =COUNTIF($J104:$AJ104,Backend!$H$8) -> 6 | I104: =COUNTIF($J104:$AJ104,Backend!$H$10) -> 0 | J104: Medium | K104: Medium | L104: Medium/low | M104: high/medium | N104: Medium | O104: Medium/low | P104: high/medium | Q104: high/medium | R104: Medium | S104: High | T104: Medium/low | U104: Medium/low | V104: Medium | W104: Medium | X104: Medium | Y104: high/medium | Z104: high/medium | AA104: medium | AB104: high | AC104: medium/low | AD104: medium | AE104: medium | AG104: medium | AH104: high/medium | AI104: medium/low | AJ104: medium
A105: PV/thermal technologies | B105: =VLOOKUP(C105,Backend!$G$2:$H$10,2,FALSE) -> High/Medium | C105: =ROUND(D105,0) -> 7 | D105: =((E105*Backend!$I$2)+(F105*Backend!$I$4)+(G105*Backend!$I$6)+(H105*Backend!$I$8)+(I105*Backend!$I$10))/27 -> 6.5925926 | E105: =COUNTIF($J105:$AJ105,Backend!$H$2) -> 5 | F105: =COUNTIF($J105:$AJ105,Backend!$H$4) -> 8 | G105: =COUNTIF($J105:$AJ105,Backend!$H$6) -> 9 | H105: =COUNTIF($J105:$AJ105,Backend!$H$8) -> 2 | I105: =COUNTIF($J105:$AJ105,Backend!$H$10) -> 1 | J105: Medium/low | K105: Medium | L105: Medium/low | M105: high/medium | O105: high/medium | P105: high/medium | Q105: High | R105: high/medium | S105: High | T105: high/medium | U105: High | V105: Medium | W105: high/medium | X105: Medium | Y105: High | Z105: High | AA105: medium | AB105: high/medium | AC105: low | AD105: medium | AE105: high/medium | AG105: medium | AH105: medium | AI105: medium | AJ105: medium
A106: PV+heat pump | B106: =VLOOKUP(C106,Backend!$G$2:$H$10,2,FALSE) -> High/Medium | C106: =ROUND(D106,0) -> 8 | D106: =((E106*Backend!$I$2)+(F106*Backend!$I$4)+(G106*Backend!$I$6)+(H106*Backend!$I$8)+(I106*Backend!$I$10))/27 -> 7.6296296 | E106: =COUNTIF($J106:$AJ106,Backend!$H$2) -> 6 | F106: =COUNTIF($J106:$AJ106,Backend!$H$4) -> 14 | G106: =COUNTIF($J106:$AJ106,Backend!$H$6) -> 5 | H106: =COUNTIF($J106:$AJ106,Backend!$H$8) -> 1 | I106: =COUNTIF($J106:$AJ106,Backend!$H$10) -> 0 | J106: Medium/low | K106: Medium | L106: Medium | M106: high/medium | N106: high/medium | O106: high/medium | P106: high/medium | Q106: High | R106: high/medium | S106: high/medium | T106: high/medium | U106: High | V106: high/medium | W106: high/medium | X106: High | Y106: High | Z106: High | AA106: medium | AB106: high/medium | AC106: high/medium | AD106: high | AE106: high/medium | AG106: medium | AH106: medium | AI106: high/medium | AJ106: high/medium
A107: STC on Facades | B107: =VLOOKUP(C107,Backend!$G$2:$H$10,2,FALSE) -> Medium/Low | C107: =ROUND(D107,0) -> 5 | D107: =((E107*Backend!$I$2)+(F107*Backend!$I$4)+(G107*Backend!$I$6)+(H107*Backend!$I$8)+(I107*Backend!$I$10))/27 -> 4.962963 | E107: =COUNTIF($J107:$AJ107,Backend!$H$2) -> 0 | F107: =COUNTIF($J107:$AJ107,Backend!$H$4) -> 3 | G107: =COUNTIF($J107:$AJ107,Backend!$H$6) -> 13 | H107: =COUNTIF($J107:$AJ107,Backend!$H$8) -> 6 | I107: =COUNTIF($J107:$AJ107,Backend!$H$10) -> 4 | J107: Medium/low | K107: Medium | L107: Medium/low | M107: Medium | N107: Medium | O107: Low | P107: high/medium | Q107: Medium | R107: Medium | S107: high/medium | T107: Medium/low | U107: Low | V107: Medium/low | W107: Medium | X107: Medium/low | Y107: Low | Z107: high/medium | AA107: medium | AB107: medium | AC107: low | AD107: medium | AE107: medium/low | AG107: medium | AH107: medium | AI107: medium | AJ107: medium
A108: STC on roofs | B108: =VLOOKUP(C108,Backend!$G$2:$H$10,2,FALSE) -> High/Medium | C108: =ROUND(D108,0) -> 7 | D108: =((E108*Backend!$I$2)+(F108*Backend!$I$4)+(G108*Backend!$I$6)+(H108*Backend!$I$8)+(I108*Backend!$I$10))/27 -> 7.037037 | E108: =COUNTIF($J108:$AJ108,Backend!$H$2) -> 6 | F108: =COUNTIF($J108:$AJ108,Backend!$H$4) -> 9 | G108: =COUNTIF($J108:$AJ108,Backend!$H$6) -> 8 | H108: =COUNTIF($J108:$AJ108,Backend!$H$8) -> 2 | I108: =COUNTIF($J108:$AJ108,Backend!$H$10) -> 1 | J108: Medium/low | K108: Medium | L108: high/medium | M108: high/medium | N108: High | O108: High | P108: high/medium | Q108: High | R108: High | S108: high/medium | T108: Medium | U108: Medium | V108: high/medium | W108: high/medium | X108: Medium/low | Y108: high/medium | Z108: High | AA108: medium | AB108: high/medium | AC108: low | AD108: medium | AE108: high | AG108: medium | AH108: medium | AI108: high/medium | AJ108: medium
A109: STC in neighborhoods | B109: =VLOOKUP(C109,Backend!$G$2:$H$10,2,FALSE) -> Medium | C109: =ROUND(D109,0) -> 6 | D109: =((E109*Backend!$I$2)+(F109*Backend!$I$4)+(G109*Backend!$I$6)+(H109*Backend!$I$8)+(I109*Backend!$I$10))/27 -> 5.5555556 | E109: =COUNTIF($J109:$AJ109,Backend!$H$2) -> 2 | F109: =COUNTIF($J109:$AJ109,Backend!$H$4) -> 5 | G109: =COUNTIF($J109:$AJ109,Backend!$H$6) -> 9 | H109: =COUNTIF($J109:$AJ109,Backend!$H$8) -> 8 | I109: =COUNTIF($J109:$AJ109,Backend!$H$10) -> 2 | J109: Medium/low | K109: Medium | L109: Medium/low | M109: High | N109: high/medium | O109: Medium/low | P109: high/medium | Q109: Medium | R109: High | S109: high/medium | T109: Medium/low | U109: Low | V109: Medium/low | W109: Medium | X109: Medium/low | Y109: Medium/low | Z109: high/medium | AA109: high/medium | AB109: medium/low | AC109: low | AD109: medium | AE109: medium | AG109: medium | AH109: medium | AI109: medium | AJ109: medium

Sheet Backend
B1: Implementation in existing buildings and neighborhoods | H1: Adoption | L1: Passive | M1: Strategies | N1: Active | O1: Strategies
A2: 10 | B2: Easy | C2: 10 | G2: 10 | H2: High | I2: 10 | L2: Daylight | M2: South/equatorial Window | N2: Electrical generation | O2: PV on roofs | Q2: Passive | R2: Daylight | S2: South/equatorial Window | T2: North /non equatorial window | U2: East/west window | V2: Skilight | W2: Operable windows | X2: Solar access
A3: 9 | B3: Need some renovation/easy | C3: 9 | G3: 9 | H3: High/Medium | I3: 9 | M3: North /non equatorial window | O3: PV on facades | R3: Passive heating | S3: South/equatorial Window | T3: East/west window | U3: Operable windows | V3: Solar access
A4: 8 | B4: Need some renovation | C4: 8 | G4: 8 | H4: High/Medium | I4: 8 | M4: East/west window | O4: PV in neighborhood surfaces | R4: Passive cooling | S4: South/equatorial Window | T4: North /non equatorial window | U4: East/west window | V4: Operable windows | W4: Solar chimneys
A5: 7 | B5: Need some/deep renovation | C5: 7 | G5: 7 | H5: High/Medium | I5: 7 | M5: Skilight | O5: Semi-transparent PV | R5: Energy Efficiency | S5: South/equatorial Window | T5: North /non equatorial window | U5: East/west window | V5: Light tube | W5: Skilight | X5: Operable windows | Y5: Solar chimneys | Z5: Solar access
A6: 6 | B6: Need deep renovation | C6: 6 | G6: 6 | H6: Medium | I6: 6 | M6: Operable windows
A7: 5 | B7: Need deep renovation/hard | C7: 5 | G7: 5 | H7: Medium/Low | I7: 5 | M7: Solar access | N7: Thermal generation | O7: STC on facades | Q7: Active | R7: Electrical generation | S7: PV on roofs | T7: PV on facades | U7: PV in neighborhood surfaces | V7: Semi-transparent PV
A8: 4 | B8: Hard | C8: 4 | G8: 4 | H8: Medium/Low | I8: 4 | L8: Passive heating | M8: South/equatorial Window | O8: STC on roofs | R8: Thermal generation | S8: STC on Facades | T8: STC on roofs | U8: STC in neighborhoods
A9: 0 | B9: Not possible | C9: 0 | G9: 3 | H9: Medium/Low | I9: 3 | M9: East/west window | O9: STC in neighborhoods | R9: Combined Elec+Ther | S9: PV/thermal technologies | T9: PV+heat pump
G10: 2 | H10: Low | I10: 2 | M10: Operable windows | N10: Combined Elec+Ther | O10: PV/thermal technologies
A11: 10 | B11: Easy | C11: 10 | M11: Solar access | O11: PV+heat pump
A12: 9 | B12: Easy/Easy, depending on other constraints (e.g. cost) | C12: 9 | L12: Passive cooling | M12: South/equatorial Window
A13: 8 | B13: Easy, depending on other constraints (e.g. cost) | C13: 8 | M13: North /non equatorial window
A14: 7 | B14: Moderate/Easy, depending on other constraints (e.g. cost) | C14: 7 | M14: East/west window
A15: 6 | B15: Moderate | C15: 6 | M15: Operable windows
A16: 5 | B16: Moderate/Hard | C16: 5 | M16: Solar chimneys
A17: 4 | B17: Hard | C17: 4 | L17: Energy Efficiency | M17: South/equatorial Window
A18: 3 | B18: Hard/Not possible | C18: 3 | M18: North /non equatorial window
A19: 0 | B19: Not possible | C19: 0 | M19: East/west window
M20: Light tube | O20: STC on facades
M21: Skilight
B22: Climate | M22: Operable windows
B23: Very cold | M23: Solar chimneys
B24: Cold | M24: Solar access
B25: Moderate
B26: Hot
B27: Very hot
B29: Select Type
B30: New
B31: Existing
B33: Select Objective
B34: Composite
B35: Single
B37: Single Obj Options
B38: Daylight
B39: Passive heating
... B44: Combined Elec+Ther

Sheet New
A1: South/equatorial Window | C1: need deep renovation | D1: need some renovation | E1: need deep renovation | F1: easy | G1: need some renovation | H1: need deep renovation | I1: need some renovation | J1: need deep renovation | K1: need some renovation | L1: need deep renovation | M1: need deep renovation | N1: need some renovation | O1: easy | P1: need deep renovation | Q1: hard | R1: need some renovation | S1: easy
A2: North /non equatorial window | C2: need deep renovation | D2: need some renovation | E2: need deep renovation | F2: easy | G2: need some renovation | H2: need deep renovation | I2: need some renovation | J2: need deep renovation | K2: need some renovation | L2: need deep renovation | M2: need deep renovation | N2: need some renovation | O2: easy | P2: need deep renovation | Q2: hard | R2: need some renovation | S2: easy
A3: East/west window | C3: need deep renovation | D3: need some renovation | E3: need deep renovation | F3: easy | G3: need some renovation | H3: need deep renovation | I3: need some renovation | J3: need deep renovation | K3: easy | L3: need deep renovation | M3: need deep renovation | N3: need some renovation | O3: easy | P3: need deep renovation | Q3: hard | R3: need some renovation | S3: easy
A4: Light tube | C4: need some renovation | D4: hard | E4: easy | F4: easy | G4: need deep renovation | H4: easy | I4: need deep renovation | J4: need deep renovation | K4: hard | L4: hard | M4: need deep renovation | N4: hard | O4: need some renovation | P4: need some renovation | Q4: hard | R4: easy | S4: need deep renovation
A5: Skilight | C5: hard | D5: need deep renovation | E5: need some renovation | F5: need some renovation | G5: need deep renovation | H5: need some renovation | I5: need deep renovation | J5: need deep renovation | K5: need some renovation | L5: hard | M5: need some renovation | N5: need deep renovation | O5: need some renovation | P5: need deep renovation | Q5: hard | R5: need some renovation | S5: need some renovation
A6: Operable windows | C6: need some renovation | D6: need some renovation | E6: need some renovation | F6: easy | G6: easy | H6: need some renovation | I6: need some renovation | J6: need some renovation | K6: easy | L6: need deep renovation | M6: need some renovation | N6: need some renovation | O6: easy | P6: easy | Q6: easy | R6: need some renovation | S6: easy
A7: Solar chimneys | C7: hard | D7: hard | E7: hard | F7: need deep renovation | G7: need deep renovation | H7: need deep renovation | I7: need deep renovation | J7: need deep renovation | K7: need deep renovation | L7: hard | M7: hard | N7: hard | O7: hard | P7: need deep renovation | Q7: hard | R7: hard | S7: hard
A8: Solar access | C8: hard | D8: need some renovation | E8: need deep renovation | F8: need some renovation | G8: not possible | H8: need some renovation | I8: easy | J8: need deep renovation | K8: hard | L8: hard | M8: need some renovation | N8: hard | O8: not possible | P8: hard | Q8: need deep renovation | R8: need some renovation | S8: need deep renovation
A9: PV on roofs | C9: hard | D9: need some renovation | E9: easy | F9: easy | G9: easy | H9: need some renovation | I9: need some renovation | J9: easy | K9: need some renovation | L9: hard | M9: easy | N9: easy | O9: easy | P9: need some renovation | Q9: easy | R9: easy | S9: need some renovation
A10: PV on facades | C10: hard | D10: need some renovation | E10: need some renovation | F10: easy | G10: need some renovation | H10: need deep renovation | I10: need some renovation | J10: need deep renovation | K10: need deep renovation | L10: hard | M10: need some renovation | N10: need some renovation | O10: easy | P10: easy | Q10: need some renovation | R10: need some renovation | S10: need deep renovation
A11: PV in neighborhood surfaces | C11: hard | D11: need some renovation | E11: easy | F11: easy | G11: easy | H11: need deep renovation | I11: need some renovation | J11: easy | K11: need some renovation | L11: hard | M11: easy | N11: need deep renovation | O11: easy | P11: easy | Q11: hard | R11: need deep renovation | S11: need some renovation
A12: Semi-transparent PV | C12: hard | D12: need some renovation | E12: easy | F12: easy | G12: need some renovation | H12: need deep renovation | I12: need some renovation | J12: easy | K12: need some renovation | L12: need deep renovation | M12: need some renovation | N12: need deep renovation | P12: easy | Q12: need some renovation | R12: need some renovation | S12: need some renovation
A13: PV/thermal technologies | C13: hard | D13: need some renovation | E13: easy | F13: easy | G13: need some renovation | H13: need some renovation | I13: need some renovation | J13: easy | K13: need deep renovation | L13: need deep renovation | M13: easy | N13: need deep renovation | O13: need some renovation | P13: easy | Q13: need some renovation | R13: easy | S13: easy
A14: PV+heat pump | C14: hard | D14: need some renovation | E14: need some renovation | F14: need some renovation | G14: need deep renovation | H14: need deep renovation | I14: need some renovation | J14: need deep renovation | K14: need deep renovation | L14: need deep renovation | M14: need some renovation | N14: need some renovation | O14: need some renovation | P14: need some renovation | Q14: easy | R14: need deep renovation | S14: easy
A15: STC on facades | C15: hard | D15: need some renovation | E15: need some renovation | F15: easy | G15: need some renovation | H15: hard | I15: need some renovation | J15: hard | K15: need some renovation | L15: hard | M15: need some renovation | N15: need deep renovation | O15: need deep renovation | P15: easy | Q15: need deep renovation | R15: need deep renovation | S15: need some renovation
A16: STC on roofs | C16: hard | D16: need some renovation | E16: easy | F16: easy | G16: easy | H16: need some renovation | I16: need some renovation | J16: need some renovation | K16: need some renovation | L16: hard | M16: easy | N16: need deep renovation | O16: need some renovation | P16: need some renovation | Q16: need deep renovation | R16: easy | S16: need some renovation
A17: STC in neighborhoods | C17: hard | D17: need some renovation | E17: easy | F17: easy | G17: easy | H17: need some renovation | I17: need some renovation | J17: need some renovation | K17: need some renovation | L17: hard | M17: easy | N17: need deep renovation | O17: need some renovation | P17: easy | Q17: hard | R17: need some renovation | S17: need deep renovation

Sheet Backend_Dropdown
A1: Solar Strategy Type | B1: Column1 | C1: Column2 | D1: Solar strategy category | E1: Solar strategy 1 | F1: Solar strategy 2 | G1: Solar strategy 3 | H1: Solar strategy 4 | I1: Solar strategy 5 | J1: Solar strategy 6 | K1: Solar strategy 7 | L1: Solar strategy 8
A2: Passive | C2: Passive | D2: Daylight | E2: South/equatorial Window | F2: North /non equatorial window | G2: East/west window | H2: Skylight | I2: Solar access | J2: Light tube
A3: Active | C3: Passive | D3: Passive heating | E3: South/equatorial Window | F3: East/west window | G3: Solar access
C4: Passive | D4: Passive cooling | E4: Operable windows | F4: Solar chimneys
C5: Passive | D5: Energy efficiency | E5: South/equatorial Window | F5: North /non equatorial window | G5: East/west window | H5: Light tube | I5: Skylight | J5: Operable windows | K5: Solar chimneys | L5: Solar access
C6: Active | D6: Electrical generation | E6: PV on roofs | F6: PV on facades | G6: PV in neighborhood surfaces | H6: Semi-transparent PV
C7: Active | D7: Thermal generation | E7: STC on facades | F7: STC on roofs | G7: STC in neighborhoods
C8: Active | D8: Combined Elec+Ther | E8: PV/thermal technologies | F8: PV+heat pump
C10: NEW
C11: Column2 | D11: Solar strategy category | E11: Solar strategy 1 | F11: Solar strategy 2 | G11: Solar strategy 3 | H11: Solar strategy 4 | I11: Solar strategy 5 | J11: Solar strategy 6 | K11: Solar strategy 7 | L11: Solar strategy 8
A12: Passive | C12: Passive | D12: Daylight | E12: South/equatorial Window | F12: North /non equatorial window | G12: East/west window | H12: Skilight | I12: Solar access
C13: Passive | D13: Passive heating | E13: South/equatorial Window | F13: East/west window | G13: Solar access
C14: Passive | D14: Passive cooling | E14: Operable windows | F14: Solar chimneys
C15: Passive | D15: Energy efficiency | E15: South/equatorial Window | F15: North /non equatorial window | G15: East/west window | H15: Light tube | I15: Skylight | J15: Operable windows | K15: Solar chimneys | L15: Solar access
C16: Active | D16: Electrical generation | E16: PV on roofs | F16: PV on facades | G16: PV in neighborhood surfaces | H16: Semi-transparent PV
C17: Active | D17: Thermal generation | E17: STC on facades | F17: STC on roofs | G17: STC in neighborhoods
C18: Active | D18: Combined Elec+Ther | E18: PV/thermal technologies | F18: PV+heat pump
C22: VERY COLD/COLD
C23: Column2 | D23: Solar strategy category | E23: Solar strategy 1 | F23: Solar strategy 2 | G23: Solar strategy 3 | H23: Solar strategy 4 | I23: Solar strategy 5 | J23: Solar strategy 6 | K23: Solar strategy 7 | L23: Solar strategy 8
C24: Passive | D24: Daylight | E24: South/equatorial Window | F24: North /non equatorial window | G24: East/west window | H24: Skylight | I24: Solar access | J24: Light tube
C25: Passive | D25: Passive heating | E25: South/equatorial Window | F25: East/west window | G25: Solar access
C26: Passive | D26: Passive cooling | E26: Operable windows | F26: Solar chimneys
C27: Passive | D27: Energy efficiency | E27: South/equatorial Window | F27: North /non equatorial window | G27: East/west window | H27: Light tube | I27: Skylight | J27: Operable windows | K27: Solar chimneys | L27: Solar access
C28: Active | D28: Electrical generation | E28: PV on roofs | F28: PV on facades | G28: PV in neighborhood surfaces | H28: Semi-transparent PV
C29: Active | D29: Thermal generation | E29: STC on facades | F29: STC on roofs | G29: STC in neighborhoods
C30: Active | D30: Combined Elec+Ther | E30: PV/thermal technologies | F30: PV+heat pump
C34: MODERATE
C35: Column2 | D35: Solar strategy category | E35: Solar strategy 1 | F35: Solar strategy 2 | G35: Solar strategy 3 | H35: Solar strategy 4 | I35: Solar strategy 5 | J35: Solar strategy 6 | K35: Solar strategy 7 | L35: Solar strategy 8
C36: Passive | D36: Daylight | E36: South/equatorial Window | F36: North /non equatorial window | G36: East/west window | H36: Skylight | I36: Solar access
C37: Passive | D37: Passive heating | E37: South/equatorial Window | F37: East/west window | G37: Solar access
C38: Passive | D38: Passive cooling | E38: Operable windows | F38: Solar chimneys
C39: Passive | D39: Energy efficiency | E39: South/equatorial Window | F39: North /non equatorial window | G39: East/west window | H39: Light tube | I39: Skylight | J39: Operable windows | K39: Solar chimneys | L39: Solar access
C40: Active | D40: Electrical generation | E40: PV on roofs | F40: PV on facades | G40: PV in neighborhood surfaces | H40: Semi-transparent PV
C41: Active | D41: Thermal generation | E41: STC on facades | F41: STC on roofs | G41: STC in neighborhoods
C42: Active | D42: Combined Elec+Ther | E42: PV/thermal technologies | F42: PV+heat pump
C46: VERY HOT
C47: Column2 | D47: Solar strategy category | E47: Solar strategy 1 | F47: Solar strategy 2 | G47: Solar strategy 3 | H47: Solar strategy 4 | I47: Solar strategy 5 | J47: Solar strategy 6 | K47: Solar strategy 7 | L47: Solar strategy 8
C48: Passive | D48: Daylight | E48: South/equatorial Window | F48: North /non equatorial window | G48: East/west window | H48: Skylight | I48: Solar access
C49: Passive | D49: Passive heating | E49: South/equatorial Window | F49: East/west window | G49: Solar access
C50: Passive | D50: Passive cooling | E50: Operable windows | F50: Solar chimneys
C51: Passive | D51: Energy efficiency | E51: South/equatorial Window | F51: North /non equatorial window | G51: East/west window | H51: Light tube | I51: Skylight | J51: Operable windows | K51: Solar chimneys | L51: Solar access
C52: Active | D52: Electrical generation | E52: PV on roofs | F52: PV on facades | G52: PV in neighborhood surfaces | H52: Semi-transparent PV
C53: Active | D53: Thermal generation | E53: STC on facades | F53: STC on roofs | G53: STC in neighborhoods
C54: Active | D54: Combined Elec+Ther | E54: PV/thermal technologies | F54: PV+heat pump

Sheet Backend 2 for Objs
A1: Very Cold/Cold | H1: Cold | O1: Moderate | V1: Hot | AC1: Very hot
A2: Composite objectives options | B2: Total energy consumption | C2: Low operational cost | D2: Low/Net zero carbon | E2: Net zero energy | H2: Composite objectives options | I2: Total energy consumption | J2: Low operational cost | K2: Low/Net zero carbon | L2: Net zero energy | O2: Composite objectives options | P2: Total energy consumption | Q2: Low operational cost | R2: Low/Net zero carbon | S2: Net zero energy | V2: Composite objectives options | W2: Total energy consumption | X2: Low operational cost | Y2: Low/Net zero carbon | Z2: Net zero energy | AC2: Composite objectives options | AD2: Total energy consumption | AE2: Low operational cost | AF2: Low/Net zero carbon | AG2: Net zero energy
B3: Daylight | C3: Daylight | D3: Passive heating | E3: Daylight | I3: Daylight | J3: Daylight | K3: Passive heating | L3: Daylight | P3: Daylight | Q3: Daylight | R3: Passive heating | S3: Daylight | W3: Daylight | X3: Daylight | Y3: Passive cooling | Z3: Daylight | AD3: Daylight | AE3: Daylight | AF3: Passive cooling | AG3: Daylight
B4: Passive heating | C4: Passive heating | D4: Energy efficiency | E4: Passive heating | I4: Passive heating | J4: Passive heating | K4: Energy efficiency | L4: Passive heating | P4: Passive heating | Q4: Passive heating | R4: Passive cooling | S4: Passive heating | W4: Passive cooling | X4: Passive cooling | Y4: Energy efficiency | Z4: Passive cooling | AD4: Passive cooling | AE4: Passive cooling | AF4: Energy efficiency | AG4: Passive cooling
B5: Energy efficiency | C5: Energy efficiency | D5: Electrical generation | E5: Energy efficiency | I5: Energy efficiency | J5: Energy efficiency | K5: Electrical generation | L5: Energy efficiency | P5: Passive cooling | Q5: Passive cooling | R5: Energy efficiency | S5: Passive cooling | W5: Energy efficiency | X5: Energy efficiency | Y5: Electrical generation | Z5: Energy efficiency | AD5: Energy efficiency | AE5: Energy efficiency | AF5: Electrical generation | AG5: Energy efficiency
D6: Thermal generation | E6: Electrical generation | K6: Thermal generation | L6: Electrical generation | P6: Energy efficiency | Q6: Energy efficiency | R6: Electrical generation | S6: Energy efficiency | Y6: Thermal generation | Z6: Electrical generation | AG6: Electrical generation
D7: Combined Elec+Ther | E7: Thermal generation | K7: Combined Elec+Ther | L7: Thermal generation | R7: Thermal generation | S7: Electrical generation | Y7: Combined Elec+Ther | Z7: Thermal generation
E8: Combined Elec+Ther | L8: Combined Elec+Ther | R8: Combined Elec+Ther | S8: Thermal generation | Z8: Combined Elec+Ther
S9: Combined Elec+Ther

Sheet Archived
A1: Solar strategies implementation in existing buildings and neighborhoods | D1: Solar strategy category | E1: Solar strategy 1 | F1: Solar strategy 2 | G1: Solar strategy 3 | H1: Solar strategy 4 | I1: Solar strategy 5 | J1: Solar strategy 6 | K1: Solar strategy 7 | L1: Solar strategy 8
D2: Passive heating | E2: =VLOOKUP(D2,Table5[[Solar strategy category]:[Solar strategy 8]],2,FALSE) -> South/equatorial Window | F2: =VLOOKUP(D2,Table5[[Solar strategy category]:[Solar strategy 8]],3,FALSE) -> East/west window | G2: =VLOOKUP(D2,Table5[[Solar strategy category]:[Solar strategy 8]],4,FALSE) -> Solar access | H2: =VLOOKUP(D2,Table5[[Solar strategy category]:[Solar strategy 8]],5,FALSE) -> 0 | I2: =VLOOKUP(D2,Table5[[Solar strategy category]:[Solar strategy 8]],6,FALSE) -> 0 | J2: =VLOOKUP(D2,Table5[[Solar strategy category]:[Solar strategy 8]],7,FALSE) -> 0 | K2: =VLOOKUP(D2,Table5[[Solar strategy category]:[Solar strategy 8]],8,FALSE) -> 0 | L2: =VLOOKUP(D2,Table5[[Solar strategy category]:[Solar strategy 8]],9,FALSE) -> 0
D3: Adoption Score | E3: =VLOOKUP(E2,'Existing MAIN'!$A$2:$H$18,2,FALSE) -> 7.2592593 | F3: =VLOOKUP(F2,'Existing MAIN'!$A$2:$H$18,2,FALSE) -> 7.3333333 | G3: =VLOOKUP(G2,'Existing MAIN'!$A$2:$H$18,2,FALSE) -> 6.2222222 | H3: =VLOOKUP(H2,'Existing MAIN'!$A$2:$H$18,2,FALSE) -> #N/A | I3: =VLOOKUP(I2,'Existing MAIN'!$A$2:$H$18,2,FALSE) -> #N/A | J3: =VLOOKUP(J2,'Existing MAIN'!$A$2:$H$18,2,FALSE) -> #N/A | K3: =VLOOKUP(K2,'Existing MAIN'!$A$2:$H$18,2,FALSE) -> #N/A | L3: =VLOOKUP(L2,'Existing MAIN'!$A$2:$H$18,2,FALSE) -> #N/A
A4: Solar Strategy Single Objectives | D4: Implementation in existing buildings and neighborhoods | E4: =VLOOKUP(E$2,'Existing MAIN'!$A$21:$B$37,2,FALSE) -> Need some/deep renovation | F4: =VLOOKUP(F$2,'Existing MAIN'!$A$21:$B$37,2,FALSE) -> Need some/deep renovation | G4: =VLOOKUP(G$2,'Existing MAIN'!$A$21:$B$37,2,FALSE) -> Need deep renovation | H4: =VLOOKUP(H$2,'Existing MAIN'!$A$21:$B$37,2,FALSE) -> #N/A | I4: =VLOOKUP(I$2,'Existing MAIN'!$A$21:$B$37,2) -> #N/A | J4: =VLOOKUP(J$2,'Existing MAIN'!$A$21:$B$37,2) -> #N/A | K4: =VLOOKUP(K$2,'Existing MAIN'!$A$21:$B$37,2) -> #N/A | L4: =VLOOKUP(L$2,'Existing MAIN'!$A$21:$B$37,2) -> #N/A
