Workbook

Sheet S1_Copied Data
A1: Feasibility: cost
C2: South/equatorial Window | D2: North /non equatorial window | E2: East/west window | F2: Light tube | G2: Skilight | H2: Operable windows | I2: Solar chimneys | J2: Solar access | K2: PV on roofs | L2: PV on facades | M2: PV in neighborhood surfaces | N2: Semi-transparent PV | O2: PV/thermal technologies | P2: PV+heat pump | Q2: STC on Facades | R2: STC on roofs | S2: STC in neighborhoods
A3: 1 | B3: anonymous | C3: Medium | D3: Medium | E3: Medium | F3: high /Medium | G3: high /Medium | H3: high /Medium | I3: high /Medium | J3: Medium | K3: high /Medium | L3: high /Medium | M3: high /Medium | N3: high /Medium | O3: high /Medium | P3: high /Medium | Q3: high /Medium | R3: high /Medium | S3: high /Medium
A4: 2 | B4: anonymous | C4: Medium/low | D4: Medium/low | E4: Medium/low | F4: High | G4: High | H4: High | I4: High | J4: Medium | K4: Medium | L4: Medium | M4: Medium | N4: Medium | O4: Medium | P4: high /Medium | Q4: Medium | R4: Medium | S4: Medium
A5: 3 | B5: anonymous | C5: Medium | D5: Medium | E5: Medium | F5: Low | G5: Low | H5: Medium | I5: Medium | J5: Medium/low | K5: high /Medium | L5: high /Medium | M5: high /Medium | N5: high /Medium | O5: high /Medium | P5: high /Medium | Q5: high /Medium | R5: high /Medium | S5: high /Medium
A6: 4 | B6: anonymous | C6: Low | D6: Low | E6: Low | F6: Medium/low | G6: high /Medium | H6: high /Medium | I6: High | J6: Medium | K6: Medium/low | L6: Medium/low | M6: Medium/low | N6: Medium | O6: Medium/low | P6: Medium | Q6: Medium | R6: Medium | S6: Medium/low
A7: 5 | B7: anonymous | C7: Medium/low | D7: Medium/low | E7: Medium/low | G7: Medium/low | H7: Low | J7: Low | K7: high /Medium | L7: high /Medium | M7: high /Medium | P7: High
A8: 6 | B8: anonymous | C8: Low | D8: Low | E8: Low | F8: Low | G8: Low | H8: Low | I8: high /Medium | J8: Low | K8: Low | L8: high /Medium | M8: Medium | N8: Medium/low | O8: Medium | P8: Medium/low | Q8: high /Medium | R8: Medium/low | S8: Medium/low
A9: 7 | B9: anonymous | C9: Low | D9: Low | E9: Low | F9: Medium | G9: Medium/low | H9: Low | I9: Medium | J9: Low | K9: Medium | L9: high /Medium | M9: Medium | N9: Medium | O9: Medium | P9: Medium | Q9: Medium | R9: Medium | S9: Medium
A10: 8 | B10: anonymous | C10: Medium | D10: Medium | E10: Medium | F10: High | G10: high /Medium | H10: Low | I10: high /Medium | J10: Medium/low | K10: Medium/low | L10: Medium | M10: Medium/low | N10: Medium | O10: Medium | P10: high /Medium | Q10: high /Medium | R10: high /Medium | S10: high /Medium
A11: 9 | B11: anonymous | C11: Low | D11: Low | E11: Low | F11: Medium/low | G11: Medium/low | H11: Low | I11: Medium | J11: Low | K11: Medium | L11: high /Medium | M11: Medium | N11: high /Medium | O11: high /Medium | P11: high /Medium | Q11: high /Medium | R11: high /Medium | S11: high /Medium
A12: 10 | B12: anonymous | C12: Low | D12: Low | E12: Low | F12: Medium/low | G12: Medium/low | H12: high /Medium | I12: Medium/low | J12: Low | K12: high /Medium | L12: high /Medium | M12: high /Medium | N12: High | O12: High | P12: High | Q12: High | R12: High | S12: High
A13: 11 | B13: anonymous | C13: Low | D13: Low | E13: Low | F13: high /Medium | G13: Medium | H13: Low | I13: high /Medium | J13: Low | K13: Medium | L13: high /Medium | M13: high /Medium | N13: High | O13: Medium | P13: high /Medium | Q13: High | R13: Medium | S13: high /Medium
A14: 12 | B14: anonymous | C14: Medium/low | D14: Medium/low | E14: Medium/low | F14: high /Medium | G14: Medium | H14: Medium/low | I14: high /Medium | J14: high /Medium | K14: Low | L14: Medium/low | M14: Low | N14: high /Medium | O14: Medium | P14: high /Medium | Q14: High | R14: high /Medium | S14: high /Medium
A15: 13 | B15: anonymous | C15: Medium/low | D15: Medium/low | E15: Medium/low | G15: Medium | H15: Medium/low | I15: High | J15: Low | K15: Medium/low | L15: Medium | M15: Medium | N15: high /Medium | O15: high /Medium | P15: Medium | Q15: high /Medium | R15: Medium | S15: high /Medium
A16: 14 | B16: anonymous | C16: Low | D16: Low | E16: Low | F16: Medium | G16: Medium/low | H16: Medium/low | I16: high /Medium | J16: Medium | K16: Medium | L16: high /Medium | M16: high /Medium | N16: High | O16: Medium | P16: high /Medium | Q16: High | R16: Medium | S16: High
A17: 15 | B17: anonymous | C17: Low | D17: Low | E17: Low | F17: Medium/low | G17: Medium/low | H17: Low | I17: Medium | J17: Low | K17: Medium/low | L17: Medium | M17: Medium | N17: high /Medium | O17: Medium/low | P17: Medium | Q17: Medium | R17: Medium | S17: Medium
A18: 16 | B18: anonymous | C18: High | D18: High | E18: High | F18: High | G18: high /Medium | H18: high /Medium | I18: Medium | J18: high /Medium | K18: High | L18: Medium | M18: Medium/low | N18: Medium | O18: high /Medium | P18: high /Medium | Q18: Medium/low | R18: High | S18: Low
A19: 17 | B19: anonymous | C19: Low | D19: Low | E19: Low | F19: Medium | G19: Medium/low | H19: Low | I19: high /Medium | J19: Low | K19: Medium | L19: Medium | M19: Medium | N19: Medium | O19: Medium | P19: Medium | Q19: Medium | R19: Medium | S19: Medium
A20: Feasibility: accessibility
C21: South/equatorial Window | D21: North /non equatorial window | E21: East/west window | F21: Light tube | G21: Skilight | H21: Operable windows | I21: Solar chimneys | J21: Solar access | K21: PV on roofs | L21: PV on facades | M21: PV in neighborhood surfaces | N21: Semi-transparent PV | O21: PV/thermal technologies | P21: PV+heat pump | Q21: STC on Facades | R21: STC on roofs | S21: STC in neighborhoods
A22: 1 | B22: anonymous | C22: Medium | D22: Medium | E22: Medium | F22: high /Medium | G22: high /Medium | H22: high /Medium | I22: Medium | J22: Medium | K22: Medium | L22: Medium | M22: Medium | N22: Medium | O22: Medium | P22: Medium | Q22: Medium | R22: Medium | S22: Medium
A23: 2 | B23: anonymous | C23: High | D23: High | E23: High | F23: Low | G23: high /Medium | H23: Medium | I23: Low | J23: High | K23: Medium | L23: Medium/low | M23: Medium | N23: high /Medium | O23: Medium | P23: high /Medium | Q23: Medium | R23: Medium | S23: Medium
A24: 3 | B24: anonymous | C24: High | D24: High | E24: High | F24: High | G24: High | H24: Medium | I24: Medium | J24: high /Medium | K24: High | L24: High | M24: High | N24: Medium | O24: high /Medium | P24: High | Q24: Low | R24: High | S24: Medium
A25: 4 | B25: anonymous | C25: High | D25: High | E25: High | F25: high /Medium | G25: High | H25: high /Medium | I25: Medium | J25: high /Medium | K25: high /Medium | L25: high /Medium | M25: high /Medium | N25: high /Medium | O25: high /Medium | P25: high /Medium | Q25: high /Medium | R25: high /Medium | S25: high /Medium
A26: 5 | B26: anonymous | C26: High | D26: High | E26: High | G26: High | H26: High | J26: High | K26: High | L26: high /Medium | N26: high /Medium | O26: High | P26: High | Q26: high /Medium | R26: High | S26: high /Medium
A27: 6 | B27: anonymous | C27: high /Medium | D27: high /Medium | E27: high /Medium | F27: high /Medium | G27: high /Medium | H27: high /Medium | I27: Medium/low | J27: High | K27: High | L27: Medium | M27: Medium/low | N27: Medium/low | O27: Medium | P27: high /Medium | Q27: Low | R27: High | S27: Medium/low
A28: 7 | B28: anonymous | C28: High | D28: High | E28: High | F28: Medium | G28: High | H28: High | I28: Medium/low | J28: High | K28: high /Medium | L28: high /Medium | M28: high /Medium | N28: high /Medium | O28: high /Medium | P28: high /Medium | Q28: high /Medium | R28: high /Medium | S28: high /Medium
A29: 8 | B29: anonymous | C29: High | D29: High | E29: High | F29: Medium | G29: high /Medium | H29: High | I29: high /Medium | J29: High | K29: High | L29: high /Medium | M29: Medium/low | N29: Medium | O29: Medium | P29: high /Medium | Q29: Medium | R29: Medium | S29: Low
A30: 9 | B30: anonymous | C30: High | D30: High | E30: High | F30: high /Medium | G30: High | H30: High | I30: high /Medium | J30: High | K30: High | L30: high /Medium | M30: high /Medium | N30: Medium | O30: Medium | P30: Medium | Q30: Medium | R30: high /Medium | S30: Medium
A31: 10 | B31: anonymous | C31: High | D31: High | E31: High | F31: Medium | G31: Medium | H31: Medium | I31: Medium | J31: High | K31: Medium/low | L31: Medium/low | M31: Medium/low | N31: Medium/low | O31: Medium/low | P31: Medium/low | Q31: Medium/low | R31: Medium/low | S31: Medium/low
A32: 11 | B32: anonymous | C32: High | D32: High | E32: High | F32: Low | G32: high /Medium | H32: High | I32: Medium/low | J32: High | K32: High | L32: Medium | M32: Medium | N32: Medium/low | O32: High | P32: High | Q32: Medium | R32: High | S32: Medium
A33: 12 | B33: anonymous | C33: high /Medium | D33: high /Medium | E33: high /Medium | F33: Medium/low | G33: Medium | H33: high /Medium | I33: Medium/low | J33: Medium | K33: high /Medium | L33: Medium/low | M33: Medium | N33: Medium/low | O33: Medium/low | P33: High | Q33: Medium/low | R33: Medium | S33: Medium/low
A34: 13 | B34: anonymous | C34: High | D34: High | E34: High | F34: Low | G34: Low | H34: High | I34: Low | J34: High | K34: high /Medium | L34: Low | M34: Low | N34: Low | O34: Low | P34: Medium | Q34: Low | R34: Medium | S34: Low
A35: 14 | B35: anonymous | C35: High | D35: High | E35: High | F35: Medium/low | G35: high /Medium | H35: High | I35: Medium/low | J35: high /Medium | K35: high /Medium | L35: high /Medium | M35: Medium | N35: Medium/low | O35: high /Medium | P35: high /Medium | Q35: Medium | R35: high /Medium | S35: Medium
A36: 15 | B36: anonymous | C36: Medium | D36: Medium | E36: Medium | F36: Medium/low | G36: Medium/low | H36: High | I36: Medium/low | J36: High | K36: High | L36: high /Medium | M36: Medium | N36: high /Medium | O36: high /Medium | P36: high /Medium | Q36: Medium | R36: Medium | S36: Medium
A37: 16 | B37: anonymous | C37: High | D37: High | E37: High | F37: High | G37: High | H37: High | I37: high /Medium | J37: High | K37: High | L37: Medium | M37: Medium/low | N37: high /Medium | O37: High | P37: high /Medium | Q37: Medium/low | R37: High | S37: Low
A38: 17 | B38: anonymous | C38: High | D38: High | E38: High | F38: High | G38: High | H38: High | I38: Medium/low | J38: high /Medium | K38: high /Medium | L38: high /Medium | M38: Medium | N38: high /Medium | O38: high /Medium | P38: high /Medium | Q38: high /Medium | R38: high /Medium | S38: high /Medium
A39: Environmental impact
C40: South/equatorial Window | D40: North /non equatorial window | E40: East/west window | F40: Light tube | G40: Skilight | H40: Operable windows | I40: Solar chimneys | J40: Solar access | K40: PV on roofs | L40: PV on facades | M40: PV in neighborhood surfaces | N40: Semi-transparent PV | O40: PV/thermal technologies | P40: PV+heat pump | Q40: STC on Facades | R40: STC on roofs | S40: STC in neighborhoods
...

Sheet Existing MAIN
A1: Strategy | B1: Implementation in exisiting building and neighborhoods | C1: Feasibility: cost | D1: Feasibility: accessibility | E1: Environmental impact | F1: Acceptance | G1: Overall Score
A2: South/equatorial Window | B2: =D21 -> 7.2592593 | C2: =D39 -> 4 | D2: =D57 -> 8.4444444 | E2: =D75 -> 4.1481481 | F2: =D93 -> 8.962963 | G2: =(((B2*'User Interface'!$F$24)-(C2*'User Interface'!$F$25)+(D2*'User Interface'!$F$26)+(E2*'User Interface'!$F$27)+(F2*'User Interface'!$F$28))) -> 4.962963 | I2: =B2-C2+D2+E2+F2 -> 24.814815 | J2: =(I2/40)*10 -> 6.2037037
A3: North /non equatorial window | B3: =D22 -> 7.2592593 | C3: =D40 -> 4.0740741 | D3: =D58 -> 8.4444444 | E3: =D76 -> 3.9259259 | F3: =D94 -> 8.8148148 | G3: =(((B3*'User Interface'!$F$24)-(C3*'User Interface'!$F$25)+(D3*'User Interface'!$F$26)+(E3*'User Interface'!$F$27)+(F3*'User Interface'!$F$28))) -> 4.8740741
A4: East/west window | B4: =D23 -> 7.3333333 | C4: =D41 -> 4 | D4: =D59 -> 8.0740741 | E4: =D77 -> 4 | F4: =D95 -> 8.8148148 | G4: =(((B4*'User Interface'!$F$24)-(C4*'User Interface'!$F$25)+(D4*'User Interface'!$F$26)+(E4*'User Interface'!$F$27)+(F4*'User Interface'!$F$28))) -> 4.8444444
A5: Light tube | B5: =D24 -> 6.5925926 | C5: =D42 -> 5.2592593 | D5: =D60 -> 5.7037037 | E5: =D78 -> 4.1481481 | F5: =D96 -> 6.0740741 | G5: =(((B5*'User Interface'!$F$24)-(C5*'User Interface'!$F$25)+(D5*'User Interface'!$F$26)+(E5*'User Interface'!$F$27)+(F5*'User Interface'!$F$28))) -> 3.4518519
A6: Skylight | B6: =D25 -> 6.6666667 | C6: =D43 -> 5.4074074 | D6: =D61 -> 7.3333333 | E6: =D79 -> 4.5185185 | F6: =D97 -> 7.7777778 | G6: =(((B6*'User Interface'!$F$24)-(C6*'User Interface'!$F$25)+(D6*'User Interface'!$F$26)+(E6*'User Interface'!$F$27)+(F6*'User Interface'!$F$28))) -> 4.1777778
A7: Operable windows | B7: =D26 -> 8.5185185 | C7: =D44 -> 4.7407407 | D7: =D62 -> 8.2222222 | E7: =D80 -> 4.4444444 | F7: =D98 -> 8.2222222 | G7: =(((B7*'User Interface'!$F$24)-(C7*'User Interface'!$F$25)+(D7*'User Interface'!$F$26)+(E7*'User Interface'!$F$27)+(F7*'User Interface'!$F$28))) -> 4.9333333
A8: Solar chimneys | B8: =D27 -> 5.1111111 | C8: =D45 -> 6.8148148 | D8: =D63 -> 5.037037 | E8: =D81 -> 5.037037 | F8: =D99 -> 5.1111111 | G8: =(((B8*'User Interface'!$F$24)-(C8*'User Interface'!$F$25)+(D8*'User Interface'!$F$26)+(E8*'User Interface'!$F$27)+(F8*'User Interface'!$F$28))) -> 2.6962963
A9: Solar access | B9: =D28 -> 6.2222222 | C9: =D46 -> 4.5925926 | D9: =D64 -> 8.2222222 | E9: =D82 -> 4.2222222 | F9: =D100 -> 8.962963 | G9: =(((B9*'User Interface'!$F$24)-(C9*'User Interface'!$F$25)+(D9*'User Interface'!$F$26)+(E9*'User Interface'!$F$27)+(F9*'User Interface'!$F$28))) -> 4.6074074
A10: PV on roofs | B10: =D29 -> 8.6666667 | C10: =D47 -> 5.7777778 | D10: =D65 -> 7.6296296 | E10: =D83 -> 6.0740741 | F10: =D101 -> 8.2962963 | G10: =(((B10*'User Interface'!$F$24)-(C10*'User Interface'!$F$25)+(D10*'User Interface'!$F$26)+(E10*'User Interface'!$F$27)+(F10*'User Interface'!$F$28))) -> 4.9777778
A11: PV on facades | B11: =D30 -> 7.4074074 | C11: =D48 -> 6.5925926 | D11: =D66 -> 6.3703704 | E11: =D84 -> 6.5925926 | F11: =D102 -> 6.0740741 | G11: =(((B11*'User Interface'!$F$24)-(C11*'User Interface'!$F$25)+(D11*'User Interface'!$F$26)+(E11*'User Interface'!$F$27)+(F11*'User Interface'!$F$28))) -> 3.9703704
A12: PV in neighborhood surfaces | B12: =D31 -> 7.7777778 | C12: =D49 -> 6.1481481 | D12: =D67 -> 5.4814815 | E12: =D85 -> 6.3703704 | F12: =D103 -> 5.9259259 | G12: =(((B12*'User Interface'!$F$24)-(C12*'User Interface'!$F$25)+(D12*'User Interface'!$F$26)+(E12*'User Interface'!$F$27)+(F12*'User Interface'!$F$28))) -> 3.8814815
A13: Semi-transparent PV | B13: =D32 -> 7.6296296 | C13: =D50 -> 7.037037 | D13: =D68 -> 5.7037037 | E13: =D86 -> 6.5185185 | F13: =D104 -> 6.0740741 | G13: =(((B13*'User Interface'!$F$24)-(C13*'User Interface'!$F$25)+(D13*'User Interface'!$F$26)+(E13*'User Interface'!$F$27)+(F13*'User Interface'!$F$28))) -> 3.7777778
A14: PV/thermal technologies | B14: =D33 -> 8 | C14: =D51 -> 6.5185185 | D14: =D69 -> 6.6666667 | E14: =D87 -> 6.5185185 | F14: =D105 -> 6.5925926 | G14: =(((B14*'User Interface'!$F$24)-(C14*'User Interface'!$F$25)+(D14*'User Interface'!$F$26)+(E14*'User Interface'!$F$27)+(F14*'User Interface'!$F$28))) -> 4.2518519
... A18: STC in neighborhoods | B18: =D37 -> 6.962963 | C18: =D55 -> 6.5925926 | D18: =D73 -> 5.1851852 | E18: =D91 -> 6.5185185 | F18: =D109 -> 5.5555556 | G18: =(((B18*'User Interface'!$F$24)-(C18*'User Interface'!$F$25)+(D18*'User Interface'!$F$26)+(E18*'User Interface'!$F$27)+(F18*'User Interface'!$F$28))) -> 3.5259259
A20: Solar Strategy | B20: Outcome | C20: Rounded off Weighted Score | D20: Weighted Score | E20: Easy | F20: Need some renovation | G20: Need deep renovation | H20: Hard | I20: Not possible
A21: South/equatorial window | B21: =VLOOKUP(C21,Backend!$A$2:$B$9,2,FALSE) -> Need some/deep renovation | C21: =ROUND(D21,0) -> 7 | D21: =((E21*Backend!$I$2)+(F21*Backend!$I$4)+(G21*Backend!$I$6)+(H21*Backend!$I$8)+(I21*Backend!$I$10))/27 -> 7.2592593 | E21: =COUNTIF($J21:$AJ21,Backend!$B$2) -> 5 | F21: =COUNTIF($J21:$AJ21,Backend!$B$4) -> 11 | G21: =COUNTIF($J21:$AJ21,Backend!$B$6) -> 9 | H21: =COUNTIF($J21:$AJ21,Backend!$B$8) -> 1 | I21: =COUNTIF($J21:$AJ21,Backend!$B$9) -> 0 | J21: need deep renovation | K21: need some renovation | L21: need deep renovation | M21: easy | N21: need some renovation | O21: need deep renovation | P21: need some renovation | Q21: need deep renovation | R21: need some renovation | S21: need deep renovation | T21: need deep renovation | U21: need some renovation | V21: easy | W21: need deep renovation | X21: hard | Y21: need some renovation | Z21: easy | AA21: need deep renovation | AB21: need deep renovation | AC21: need some renovation | AD21: need some renovation | AE21: easy | AF21: need some renovation | AG21: need some renovation | AH21: need some renovation | AI21: easy
A22: North /non equatorial window | B22: =VLOOKUP(C22,Backend!$A$2:$B$9,2,FALSE) -> Need some/deep renovation | C22: =ROUND(D22,0) -> 7 | D22: =((E22*Backend!$I$2)+(F22*Backend!$I$4)+(G22*Backend!$I$6)+(H22*Backend!$I$8)+(I22*Backend!$I$10))/27 -> 7.2592593 | E22: =COUNTIF($J22:$AJ22,Backend!$B$2) -> 5 | F22: =COUNTIF($J22:$AJ22,Backend!$B$4) -> 11 | G22: =COUNTIF($J22:$AJ22,Backend!$B$6) -> 9 | H22: =COUNTIF($J22:$AJ22,Backend!$B$8) -> 1 | I22: =COUNTIF($J22:$AJ22,Backend!$B$9) -> 0 | J22: need deep renovation | K22: need some renovation | L22: need deep renovation | M22: easy | N22: need some renovation | O22: need deep renovation | P22: need some renovation | Q22: need deep renovation | R22: need some renovation | S22: need deep renovation | T22: need deep renovation | U22: need some renovation | V22: easy | W22: need deep renovation | X22: hard | Y22: need some renovation | Z22: easy | AA22: need deep renovation | AB22: need deep renovation | AC22: need some renovation | AD22: need some renovation | AE22: easy | AF22: need some renovation | AG22: need some renovation | AH22: need some renovation | AI22: easy
A23: East/west window | B23: =VLOOKUP(C23,Backend!$A$2:$B$9,2,FALSE) -> Need some/deep renovation | C23: =ROUND(D23,0) -> 7 | D23: =((E23*Backend!$I$2)+(F23*Backend!$I$4)+(G23*Backend!$I$6)+(H23*Backend!$I$8)+(I23*Backend!$I$10))/27 -> 7.3333333 | E23: =COUNTIF($J23:$AJ23,Backend!$B$2) -> 6 | F23: =COUNTIF($J23:$AJ23,Backend!$B$4) -> 10 | G23: =COUNTIF($J23:$AJ23,Backend!$B$6) -> 9 | H23: =COUNTIF($J23:$AJ23,Backend!$B$8) -> 1 | I23: =COUNTIF($J23:$AJ23,Backend!$B$9) -> 0 | J23: need deep renovation | K23: need some renovation | L23: need deep renovation | M23: easy | N23: need some renovation | O23: need deep renovation | P23: need some renovation | Q23: need deep renovation | R23: easy | S23: need deep renovation | T23: need deep renovation | U23: need some renovation | V23: easy | W23: need deep renovation | X23: hard | Y23: need some renovation | Z23: easy | AA23: need deep renovation | AB23: need deep renovation | AC23: need some renovation | AD23: need some renovation | AE23: easy | AF23: need some renovation | AG23: need some renovation | AH23: need some renovation | AI23: easy
A24: Light tube | B24: =VLOOKUP(C24,Backend!$A$2:$B$9,2,FALSE) -> Need some/deep renovation | C24: =ROUND(D24,0) -> 7 | D24: =((E24*Backend!$I$2)+(F24*Backend!$I$4)+(G24*Backend!$I$6)+(H24*Backend!$I$8)+(I24*Backend!$I$10))/27 -> 6.5925926 | E24: =COUNTIF($J24:$AJ24,Backend!$B$2) -> 6 | F24: =COUNTIF($J24:$AJ24,Backend!$B$4) -> 4 | G24: =COUNTIF($J24:$AJ24,Backend!$B$6) -> 9 | H24: =COUNTIF($J24:$AJ24,Backend!$B$8) -> 8 | I24: =COUNTIF($J24:$AJ24,Backend!$B$9) -> 0 | J24: need some renovation | K24: hard | L24: easy | M24: easy | N24: need deep renovation | O24: easy | P24: need deep renovation | Q24: need deep renovation | R24: hard | S24: hard | T24: need deep renovation | U24: hard | V24: need some renovation | W24: need some renovation | X24: hard | Y24: easy | Z24: need deep renovation | AA24: need deep renovation | AB24: hard | AC24: need deep renovation | AD24: hard | AE24: easy | AF24: easy | AG24: need deep renovation | AH24: hard | AI24: need some renovation | AJ24: need deep renovation
A25: Skylight | B25: =VLOOKUP(C25,Backend!$A$2:$B$9,2,FALSE) -> Need some/deep renovation | C25: =ROUND(D25,0) -> 7 | D25: =((E25*Backend!$I$2)+(F25*Backend!$I$4)+(G25*Backend!$I$6)+(H25*Backend!$I$8)+(I25*Backend!$I$10))/27 -> 6.6666667 | E25: =COUNTIF($J25:$AJ25,Backend!$B$2) -> 2 | F25: =COUNTIF($J25:$AJ25,Backend!$B$4) -> 11 | G25: =COUNTIF($J25:$AJ25,Backend!$B$6) -> 8 | H25: =COUNTIF($J25:$AJ25,Backend!$B$8) -> 6 | I25: =COUNTIF($J25:$AJ25,Backend!$B$9) -> 0 | J25: hard | K25: need deep renovation | L25: need some renovation | M25: need some renovation | N25: need deep renovation | O25: need some renovation | P25: need deep renovation | Q25: need deep renovation | R25: need some renovation | S25: hard | T25: need some renovation | U25: need deep renovation | V25: need some renovation | W25: need deep renovation | X25: hard | Y25: need some renovation | Z25: need some renovation | AA25: need deep renovation | AB25: need deep renovation | AC25: need some renovation | AD25: hard | AE25: need some renovation | AF25: easy | AG25: need some renovation | AH25: hard | AI25: easy | AJ25: hard
A26: Operable windows | B26: =VLOOKUP(C26,Backend!$A$2:$B$9,2,FALSE) -> Need some renovation/easy | C26: =ROUND(D26,0) -> 9 | D26: =((E26*Backend!$I$2)+(F26*Backend!$I$4)+(G26*Backend!$I$6)+(H26*Backend!$I$8)+(I26*Backend!$I$10))/27 -> 8.5185185 | E26: =COUNTIF($J26:$AJ26,Backend!$B$2) -> 10 | F26: =COUNTIF($J26:$AJ26,Backend!$B$4) -> 15 | G26: =COUNTIF($J26:$AJ26,Backend!$B$6) -> 1 | H26: =COUNTIF($J26:$AJ26,Backend!$B$8) -> 1 | I26: =COUNTIF($J26:$AJ26,Backend!$B$9) -> 0 | J26: need some renovation | K26: need some renovation | L26: need some renovation | M26: easy | N26: easy | O26: need some renovation | P26: need some renovation | Q26: need some renovation | R26: easy | S26: need deep renovation | T26: need some renovation | U26: need some renovation | V26: easy | W26: easy | X26: easy | Y26: need some renovation | Z26: easy | AA26: need some renovation | AB26: need some renovation | AC26: easy | AD26: need some renovation | AE26: need some renovation | AF26: easy | AG26: need some renovation | AH26: hard | AI26: easy | AJ26: need some renovation
A27: Solar chimneys | B27: =VLOOKUP(C27,Backend!$A$2:$B$9,2,FALSE) -> Need deep renovation/hard | C27: =ROUND(D27,0) -> 5 | D27: =((E27*Backend!$I$2)+(F27*Backend!$I$4)+(G27*Backend!$I$6)+(H27*Backend!$I$8)+(I27*Backend!$I$10))/27 -> 5.1111111 | E27: =COUNTIF($J27:$AJ27,Backend!$B$2) -> 0 | F27: =COUNTIF($J27:$AJ27,Backend!$B$4) -> 1 | G27: =COUNTIF($J27:$AJ27,Backend!$B$6) -> 13 | H27: =COUNTIF($J27:$AJ27,Backend!$B$8) -> 13 | I27: =COUNTIF($J27:$AJ27,Backend!$B$9) -> 0 | J27: hard | K27: hard | L27: hard | M27: need deep renovation | N27: need deep renovation | O27: need deep renovation | P27: need deep renovation | Q27: need deep renovation | R27: need deep renovation | S27: hard | T27: hard | U27: hard | V27: hard | W27: need deep renovation | X27: hard | Y27: hard | Z27: hard | AA27: need deep renovation | AB27: need deep renovation | AC27: need deep renovation | AD27: need deep renovation | AE27: need deep renovation | AF27: need deep renovation | AG27: need some renovation | AH27: hard | AI27: hard | AJ27: hard
A28: Solar access | B28: =VLOOKUP(C28,Backend!$A$2:$B$9,2,FALSE) -> Need deep renovation | C28: =ROUND(D28,0) -> 6 | D28: =((E28*Backend!$I$2)+(F28*Backend!$I$4)+(G28*Backend!$I$6)+(H28*Backend!$I$8)+(I28*Backend!$I$10))/27 -> 6.2222222 | E28: =COUNTIF($J28:$AJ28,Backend!$B$2) -> 3 | F28: =COUNTIF($J28:$AJ28,Backend!$B$4) -> 10 | G28: =COUNTIF($J28:$AJ28,Backend!$B$6) -> 4 | H28: =COUNTIF($J28:$AJ28,Backend!$B$8) -> 7 | I28: =COUNTIF($J28:$AJ28,Backend!$B$9) -> 3 | J28: hard | K28: need some renovation | L28: need deep renovation | M28: need some renovation | N28: not possible | O28: need some renovation | P28: easy | Q28: need deep renovation | R28: hard | S28: hard | T28: need some renovation | U28: hard | V28: not possible | W28: hard | X28: need deep renovation | Y28: need some renovation | Z28: need deep renovation | AA28: not possible | AB28: need some renovation | AC28: need some renovation | AD28: easy | AE28: need some renovation | AF28: need some renovation | AG28: need some renovation | AH28: hard | AI28: hard | AJ28: easy
A29: PV on roofs | B29: =VLOOKUP(C29,Backend!$A$2:$B$9,2,FALSE) -> Need some renovation/easy | C29: =ROUND(D29,0) -> 9 | D29: =((E29*Backend!$I$2)+(F29*Backend!$I$4)+(G29*Backend!$I$6)+(H29*Backend!$I$8)+(I29*Backend!$I$10))/27 -> 8.6666667 | E29: =COUNTIF($J29:$AJ29,Backend!$B$2) -> 14 | F29: =COUNTIF($J29:$AJ29,Backend!$B$4) -> 10 | G29: =COUNTIF($J29:$AJ29,Backend!$B$6) -> 1 | H29: =COUNTIF($J29:$AJ29,Backend!$B$8) -> 2 | I29: =COUNTIF($J29:$AJ29,Backend!$B$9) -> 0 | J29: hard | K29: need some renovation | L29: easy | M29: easy | N29: easy | O29: need some renovation | P29: need some renovation | Q29: easy | R29: need some renovation | S29: hard | T29: easy | U29: easy | V29: easy | W29: need some renovation | X29: easy | Y29: easy | Z29: need some renovation | AA29: need some renovation | AB29: need some renovation | AC29: easy | AD29: easy | AE29: need some renovation | AF29: easy | AG29: need some renovation | AH29: easy | AI29: easy | AJ29: need deep renovation
A30: PV on facades | B30: =VLOOKUP(C30,Backend!$A$2:$B$9,2,FALSE) -> Need some/deep renovation | C30: =ROUND(D30,0) -> 7 | D30: =((E30*Backend!$I$2)+(F30*Backend!$I$4)+(G30*Backend!$I$6)+(H30*Backend!$I$8)+(I30*Backend!$I$10))/27 -> 7.4074074 | E30: =COUNTIF($J30:$AJ30,Backend!$B$2) -> 4 | F30: =COUNTIF($J30:$AJ30,Backend!$B$4) -> 14 | G30: =COUNTIF($J30:$AJ30,Backend!$B$6) -> 6 | H30: =COUNTIF($J30:$AJ30,Backend!$B$8) -> 3 | I30: =COUNTIF($J30:$AJ30,Backend!$B$9) -> 0 | J30: hard | K30: need some renovation | L30: need some renovation | M30: easy | N30: need some renovation | O30: need deep renovation | P30: need some renovation | Q30: need deep renovation | R30: need deep renovation | S30: hard | T30: need some renovation | U30: need some renovation | V30: easy | W30: easy | X30: need some renovation | Y30: need some renovation | Z30: need deep renovation | AA30: need some renovation | AB30: need deep renovation | AC30: need some renovation | AD30: need some renovation | AE30: hard | AF30: need some renovation | AG30: need some renovation | AH30: need some renovation | AI30: easy | AJ30: need deep renovation
A31: PV in neighborhood surfaces | B31: =VLOOKUP(C31,Backend!$A$2:$B$9,2,FALSE) -> Need some renovation | C31: =ROUND(D31,0) -> 8 | D31: =((E31*Backend!$I$2)+(F31*Backend!$I$4)+(G31*Backend!$I$6)+(H31*Backend!$I$8)+(I31*Backend!$I$10))/27 -> 7.7777778 | E31: =COUNTIF($J31:$AJ31,Backend!$B$2) -> 10 | F31: =COUNTIF($J31:$AJ31,Backend!$B$4) -> 8 | G31: =COUNTIF($J31:$AJ31,Backend!$B$6) -> 5 | H31: =COUNTIF($J31:$AJ31,Backend!$B$8) -> 4 | I31: =COUNTIF($J31:$AJ31,Backend!$B$9) -> 0 | J31: hard | K31: need some renovation | L31: easy | M31: easy | N31: easy | O31: need deep renovation | P31: need some renovation | Q31: easy | R31: need some renovation | S31: hard | T31: easy | U31: need deep renovation | V31: easy | W31: easy | X31: hard | Y31: need deep renovation | Z31: need some renovation | AA31: need some renovation | AB31: hard | AC31: easy | AD31: need some renovation | AE31: need deep renovation | AF31: easy | AG31: need some renovation | AH31: need some renovation | AI31: easy | AJ31: need deep renovation
A32: Semi-transparent PV | B32: =VLOOKUP(C32,Backend!$A$2:$B$9,2,FALSE) -> Need some renovation | C32: =ROUND(D32,0) -> 8 | D32: =((E32*Backend!$I$2)+(F32*Backend!$I$4)+(G32*Backend!$I$6)+(H32*Backend!$I$8)+(I32*Backend!$I$10))/27 -> 7.6296296 | E32: =COUNTIF($J32:$AJ32,Backend!$B$2) -> 7 | F32: =COUNTIF($J32:$AJ32,Backend!$B$4) -> 13 | G32: =COUNTIF($J32:$AJ32,Backend!$B$6) -> 4 | H32: =COUNTIF($J32:$AJ32,Backend!$B$8) -> 2 | I32: =COUNTIF($J32:$AJ32,Backend!$B$9) -> 0 | J32: hard | K32: need some renovation | L32: easy | M32: easy | N32: need some renovation | O32: need deep renovation | P32: need some renovation | Q32: easy | R32: need some renovation | S32: need deep renovation | T32: need some renovation | U32: need deep renovation | W32: easy | X32: need some renovation | Y32: need some renovation | Z32: need some renovation | AA32: need some renovation | AB32: need some renovation | AC32: easy | AD32: hard | AE32: need some renovation | AF32: easy | AG32: need some renovation | AH32: easy | AI32: need some renovation | AJ32: need deep renovation
A33: PV/thermal technologies | B33: =VLOOKUP(C33,Backend!$A$2:$B$9,2,FALSE) -> Need some renovation | C33: =ROUND(D33,0) -> 8 | D33: =((E33*Backend!$I$2)+(F33*Backend!$I$4)+(G33*Backend!$I$6)+(H33*Backend!$I$8)+(I33*Backend!$I$10))/27 -> 8 | E33: =COUNTIF($J33:$AJ33,Backend!$B$2) -> 9 | F33: =COUNTIF($J33:$AJ33,Backend!$B$4) -> 10 | G33: =COUNTIF($J33:$AJ33,Backend!$B$6) -> 7 | H33: =COUNTIF($J33:$AJ33,Backend!$B$8) -> 1 | I33: =COUNTIF($J33:$AJ33,Backend!$B$9) -> 0 | J33: hard | K33: need some renovation | L33: easy | M33: easy | N33: need some renovation | O33: need some renovation | P33: need some renovation | Q33: easy | R33: need deep renovation | S33: need deep renovation | T33: easy | U33: need deep renovation | V33: need some renovation | W33: easy | X33: need some renovation | Y33: easy | Z33: easy | AA33: need deep renovation | AB33: need some renovation | AC33: need some renovation | AD33: need deep renovation | AE33: need some renovation | AF33: easy | AG33: need deep renovation | AH33: easy | AI33: need some renovation | AJ33: need deep renovation
A34: PV+heat pump | B34: =VLOOKUP(C34,Backend!$A$2:$B$9,2,FALSE) -> Need some/deep renovation | C34: =ROUND(D34,0) -> 7 | D34: =((E34*Backend!$I$2)+(F34*Backend!$I$4)+(G34*Backend!$I$6)+(H34*Backend!$I$8)+(I34*Backend!$I$10))/27 -> 7.1851852 | E34: =COUNTIF($J34:$AJ34,Backend!$B$2) -> 2 | F34: =COUNTIF($J34:$AJ34,Backend!$B$4) -> 13 | G34: =COUNTIF($J34:$AJ34,Backend!$B$6) -> 11 | H34: =COUNTIF($J34:$AJ34,Backend!$B$8) -> 1 | I34: =COUNTIF($J34:$AJ34,Backend!$B$9) -> 0 | J34: hard | K34: need some renovation | L34: need some renovation | M34: need some renovation | N34: need deep renovation | O34: need deep renovation | P34: need some renovation | Q34: need deep renovation | R34: need deep renovation | S34: need deep renovation | T34: need some renovation | U34: need some renovation | V34: need some renovation | W34: need some renovation | X34: easy | Y34: need deep renovation | Z34: easy | AA34: need deep renovation | AB34: need some renovation | AC34: need some renovation | AD34: need deep renovation | AE34: need deep renovation | AF34: need some renovation | AG34: need some renovation | AH34: need deep renovation | AI34: need some renovation | AJ34: need deep renovation
A35: STC on facades | B35: =VLOOKUP(C35,Backend!$A$2:$B$9,2,FALSE) -> Need deep renovation | C35: =ROUND(D35,0) -> 6 | D35: =((E35*Backend!$I$2)+(F35*Backend!$I$4)+(G35*Backend!$I$6)+(H35*Backend!$I$8)+(I35*Backend!$I$10))/27 -> 6.4444444 | E35: =COUNTIF($J35:$AJ35,Backend!$B$2) -> 2 | F35: =COUNTIF($J35:$AJ35,Backend!$B$4) -> 9 | G35: =COUNTIF($J35:$AJ35,Backend!$B$6) -> 10 | H35: =COUNTIF($J35:$AJ35,Backend!$B$8) -> 5 | I35: =COUNTIF($J35:$AJ35,Backend!$B$9) -> 1 | J35: hard | K35: need some renovation | L35: need some renovation | M35: easy | N35: need some renovation | O35: hard | P35: need some renovation | Q35: hard | R35: need some renovation | S35: hard | T35: need some renovation | U35: need deep renovation | V35: need deep renovation | W35: easy | X35: need deep renovation | Y35: need deep renovation | Z35: need some renovation | AA35: need deep renovation | AB35: need deep renovation | AC35: need deep renovation | AD35: hard | AE35: not possible | AF35: need some renovation | AG35: need deep renovation | AH35: need deep renovation | AI35: need some renovation | AJ35: need deep renovation
A36: STC on roofs | B36: =VLOOKUP(C36,Backend!$A$2:$B$9,2,FALSE) -> Need some renovation | C36: =ROUND(D36,0) -> 8 | D36: =((E36*Backend!$I$2)+(F36*Backend!$I$4)+(G36*Backend!$I$6)+(H36*Backend!$I$8)+(I36*Backend!$I$10))/27 -> 7.7037037 | E36: =COUNTIF($J36:$AJ36,Backend!$B$2) -> 6 | F36: =COUNTIF($J36:$AJ36,Backend!$B$4) -> 14 | G36: =COUNTIF($J36:$AJ36,Backend!$B$6) -> 4 | H36: =COUNTIF($J36:$AJ36,Backend!$B$8) -> 3 | I36: =COUNTIF($J36:$AJ36,Backend!$B$9) -> 0 | J36: hard | K36: need some renovation | L36: easy | M36: easy | N36: easy | O36: need some renovation | P36: need some renovation | Q36: need some renovation | R36: need some renovation | S36: hard | T36: easy | U36: need deep renovation | V36: need some renovation | W36: need some renovation | X36: need deep renovation | Y36: easy | Z36: need some renovation | AA36: need some renovation | AB36: need some renovation | AC36: need some renovation | AD36: hard | AE36: need some renovation | AF36: need some renovation | AG36: need deep renovation | AH36: easy | AI36: need some renovation | AJ36: need deep renovation
A37: STC in neighborhoods | B37: =VLOOKUP(C37,Backend!$A$2:$B$9,2,FALSE) -> Need some/deep renovation | C37: =ROUND(D37,0) -> 7 | D37: =((E37*Backend!$I$2)+(F37*Backend!$I$4)+(G37*Backend!$I$6)+(H37*Backend!$I$8)+(I37*Backend!$I$10))/27 -> 6.962963 | E37: =COUNTIF($J37:$AJ37,Backend!$B$2) -> 5 | F37: =COUNTIF($J37:$AJ37,Backend!$B$4) -> 11 | G37: =COUNTIF($J37:$AJ37,Backend!$B$6) -> 5 | H37: =COUNTIF($J37:$AJ37,Backend!$B$8) -> 5 | I37: =COUNTIF($J37:$AJ37,Backend!$B$9) -> 0 | J37: hard | K37: need some renovation | L37: easy | M37: easy | N37: easy | O37: need some renovation | P37: need some renovation | Q37: need some renovation | R37: need some renovation | S37: hard | T37: easy | U37: need deep renovation | V37: need some renovation | W37: easy | X37: hard | Y37: need some renovation | Z37: need deep renovation | AA37: need some renovation | AB37: hard | AC37: need deep renovation | AD37: hard | AE37: need deep renovation | AF37: need some renovation | AG37: need some renovation | AH37: need some renovation | AJ37: need deep renovation
A38: COST | B38: Majority | D38: Score | E38: High | F38: High/Medium | G38: Medium | H38: Medium/Low | I38: Low
A39: South/equatorial window | B39: =VLOOKUP(C39,Backend!$G$2:$H$10,2,FALSE) -> Medium/Low | C39: =ROUND(D39,0) -> 4 | D39: =((E39*Backend!$I$2)+(F39*Backend!$I$4)+(G39*Backend!$I$6)+(H39*Backend!$I$8)+(I39*Backend!$I$10))/27 -> 4 | E39: =COUNTIF($J39:$AJ39,Backend!$H$2) -> 1 | F39: =COUNTIF($J39:$AJ39,Backend!$H$4) -> 2 | G39: =COUNTIF($J39:$AJ39,Backend!$H$6) -> 5 | H39: =COUNTIF($J39:$AJ39,Backend!$H$8) -> 7 | I39: =COUNTIF($J39:$AJ39,Backend!$H$10) -> 12 | J39: Medium | K39: Medium/low | L39: Medium | M39: Low | N39: Medium/low | O39: Low | P39: Low | Q39: Medium | R39: Low | S39: Low | T39: Low | U39: Medium/low | V39: Medium/low | W39: Low | X39: Low | Y39: High | Z39: Low | AA39: high/medium | AB39: medium/low | AC39: low | AD39: low | AE39: high/medium | AF39: medium | AG39: medium/low | AH39: low | AI39: medium | AJ39: medium/low
A40: North /non equatorial window | B40: =VLOOKUP(C40,Backend!$G$2:$H$10,2,FALSE) -> Medium/Low | C40: =ROUND(D40,0) -> 4 | D40: =((E40*Backend!$I$2)+(F40*Backend!$I$4)+(G40*Backend!$I$6)+(H40*Backend!$I$8)+(I40*Backend!$I$10))/27 -> 4.0740741 | E40: =COUNTIF($J40:$AJ40,Backend!$H$2) -> 1 | F40: =COUNTIF($J40:$AJ40,Backend!$H$4) -> 2 | G40: =COUNTIF($J40:$AJ40,Backend!$H$6) -> 6 | H40: =COUNTIF($J40:$AJ40,Backend!$H$8) -> 6 | I40: =COUNTIF($J40:$AJ40,Backend!$H$10) -> 12 | J40: Medium | K40: Medium/low | L40: Medium | M40: Low | N40: Medium/low | O40: Low | P40: Low | Q40: Medium | R40: Low | S40: Low | T40: Low | U40: Medium/low | V40: Medium/low | W40: Low | X40: Low | Y40: High | Z40: Low | AA40: high/medium | AB40: medium/low | AC40: low | AD40: low | AE40: high/medium | AF40: medium | AG40: medium/low | AH40: low | AI40: medium | AJ40: medium
A41: East/west window | B41: =VLOOKUP(C41,Backend!$G$2:$H$10,2,FALSE) -> Medium/Low | C41: =ROUND(D41,0) -> 4 | D41: =((E41*Backend!$I$2)+(F41*Backend!$I$4)+(G41*Backend!$I$6)+(H41*Backend!$I$8)+(I41*Backend!$I$10))/27 -> 4 | E41: =COUNTIF($J41:$AJ41,Backend!$H$2) -> 1 | F41: =COUNTIF($J41:$AJ41,Backend!$H$4) -> 2 | G41: =COUNTIF($J41:$AJ41,Backend!$H$6) -> 5 | H41: =COUNTIF($J41:$AJ41,Backend!$H$8) -> 7 | I41: =COUNTIF($J41:$AJ41,Backend!$H$10) -> 12 | J41: Medium | K41: Medium/low | L41: Medium | M41: Low | N41: Medium/low | O41: Low | P41: Low | Q41: Medium | R41: Low | S41: Low | T41: Low | U41: Medium/low | V41: Medium/low | W41: Low | X41: Low | Y41: High | Z41: Low | AA41: high/medium | AB41: medium/low | AC41: low | AD41: low | AE41: high/medium | AF41: medium | AG41: medium/low | AH41: low | AI41: medium | AJ41: medium/low
A42: Light tube | B42: =VLOOKUP(C42,Backend!$G$2:$H$10,2,FALSE) -> Medium/Low | C42: =ROUND(D42,0) -> 5 | D42: =((E42*Backend!$I$2)+(F42*Backend!$I$4)+(G42*Backend!$I$6)+(H42*Backend!$I$8)+(I42*Backend!$I$10))/27 -> 5.2592593 | E42: =COUNTIF($J42:$AJ42,Backend!$H$2) -> 3 | F42: =COUNTIF($J42:$AJ42,Backend!$H$4) -> 5 | G42: =COUNTIF($J42:$AJ42,Backend!$H$6) -> 7 | H42: =COUNTIF($J42:$AJ42,Backend!$H$8) -> 6 | I42: =COUNTIF($J42:$AJ42,Backend!$H$10) -> 3 | J42: high/medium | K42: High | L42: Low | M42: Medium/low | O42: Low | P42: Medium | Q42: High | R42: Medium/low | S42: Medium/low | T42: high/medium | U42: high/medium | W42: Medium | X42: Medium/low | Y42: High | Z42: Medium | AA42: high/medium | AB42: medium | AC42: medium | AD42: medium | AF42: low | AG42: medium/low | AH42: high/medium | AI42: medium | AJ42: medium/low
A43: Skylight | B43: =VLOOKUP(C43,Backend!$G$2:$H$10,2,FALSE) -> Medium/Low | C43: =ROUND(D43,0) -> 5 | D43: =((E43*Backend!$I$2)+(F43*Backend!$I$4)+(G43*Backend!$I$6)+(H43*Backend!$I$8)+(I43*Backend!$I$10))/27 -> 5.4074074 | E43: =COUNTIF($J43:$AJ43,Backend!$H$2) -> 1 | F43: =COUNTIF($J43:$AJ43,Backend!$H$4) -> 8 | G43: =COUNTIF($J43:$AJ43,Backend!$H$6) -> 5 | H43: =COUNTIF($J43:$AJ43,Backend!$H$8) -> 9 | I43: =COUNTIF($J43:$AJ43,Backend!$H$10) -> 3 | J43: high/medium | K43: High | L43: Low | M43: high/medium | N43: Medium/low | O43: Low | P43: Medium/low | Q43: high/medium | R43: Medium/low | S43: Medium/low | T43: Medium | U43: Medium | V43: Medium | W43: Medium/low | X43: Medium/low | Y43: high/medium | Z43: Medium/low | AB43: medium/low | AC43: medium/low | AD43: high/medium | AE43: high/medium | AF43: low | AG43: medium | AH43: high/medium | AI43: medium | AJ43: high/medium
A44: Operable windows | B44: =VLOOKUP(C44,Backend!$G$2:$H$10,2,FALSE) -> Medium/Low | C44: =ROUND(D44,0) -> 5 | D44: =((E44*Backend!$I$2)+(F44*Backend!$I$4)+(G44*Backend!$I$6)+(H44*Backend!$I$8)+(I44*Backend!$I$10))/27 -> 4.7407407 | E44: =COUNTIF($J44:$AJ44,Backend!$H$2) -> 1 | F44: =COUNTIF($J44:$AJ44,Backend!$H$4) -> 6 | G44: =COUNTIF($J44:$AJ44,Backend!$H$6) -> 5 | H44: =COUNTIF($J44:$AJ44,Backend!$H$8) -> 5 | I44: =COUNTIF($J44:$AJ44,Backend!$H$10) -> 10 | J44: high/medium | K44: High | L44: Medium | M44: high/medium | N44: Low | O44: Low | P44: Low | Q44: Low | R44: Low | S44: high/medium | T44: Low | U44: Medium/low | V44: Medium/low | W44: Medium/low | X44: Low | Y44: high/medium | Z44: Low | AA44: high/medium | AB44: high/medium | AC44: low | AD44: low | AE44: medium | AF44: medium | AG44: medium/low | AH44: medium/low | AI44: medium | AJ44: medium
...

Sheet New MAIN
A1: Strategy | B1: Implementation in New building and neighborhoods | C1: Feasibility: cost | D1: Feasibility: accessibility | E1: Environmental impact | F1: Acceptance | G1: Overall Score
A2: South/equatorial Window | B2: =D21 -> 9.8518519 | C2: =D39 -> 4 | D2: =D57 -> 8.4444444 | E2: =D75 -> 4.1481481 | F2: =D93 -> 8.962963 | G2: =(((B2*'User Interface'!$F$24)-(C2*'User Interface'!$F$25)+(D2*'User Interface'!$F$26)+(E2*'User Interface'!$F$27)+(F2*'User Interface'!$F$28))) -> 5.4814815
A3: North /non equatorial window | B3: =D22 -> 9.7037037 | C3: =D40 -> 4.0740741 | D3: =D58 -> 8.4444444 | E3: =D76 -> 3.9259259 | F3: =D94 -> 8.8148148 | G3: =(((B3*'User Interface'!$F$24)-(C3*'User Interface'!$F$25)+(D3*'User Interface'!$F$26)+(E3*'User Interface'!$F$27)+(F3*'User Interface'!$F$28))) -> 5.362963
A4: East/west window | B4: =D23 -> 9.7037037 | C4: =D41 -> 4 | D4: =D59 -> 8.0740741 | E4: =D77 -> 4 | F4: =D95 -> 8.8148148 | G4: =(((B4*'User Interface'!$F$24)-(C4*'User Interface'!$F$25)+(D4*'User Interface'!$F$26)+(E4*'User Interface'!$F$27)+(F4*'User Interface'!$F$28))) -> 5.3185185
A5: Light tube | B5: =D24 -> 8.2222222 | C5: =D42 -> 5.2592593 | D5: =D60 -> 5.7037037 | E5: =D78 -> 4.1481481 | F5: =D96 -> 6.0740741 | G5: =(((B5*'User Interface'!$F$24)-(C5*'User Interface'!$F$25)+(D5*'User Interface'!$F$26)+(E5*'User Interface'!$F$27)+(F5*'User Interface'!$F$28))) -> 3.7777778
A6: Skylight | B6: =D25 -> 8.8888889 | C6: =D43 -> 5.4074074 | D6: =D61 -> 7.3333333 | E6: =D79 -> 4.5185185 | F6: =D97 -> 7.7777778 | G6: =(((B6*'User Interface'!$F$24)-(C6*'User Interface'!$F$25)+(D6*'User Interface'!$F$26)+(E6*'User Interface'!$F$27)+(F6*'User Interface'!$F$28))) -> 4.6222222
A7: Operable windows | B7: =D26 -> 9.3333333 | C7: =D44 -> 4.7407407 | D7: =D62 -> 8.2222222 | E7: =D80 -> 4.4444444 | F7: =D98 -> 8.2222222 | G7: =(((B7*'User Interface'!$F$24)-(C7*'User Interface'!$F$25)+(D7*'User Interface'!$F$26)+(E7*'User Interface'!$F$27)+(F7*'User Interface'!$F$28))) -> 5.0962963
A8: Solar chimneys | B8: =D27 -> 7.7037037 | C8: =D45 -> 6.8148148 | D8: =D63 -> 5.037037 | E8: =D81 -> 5.037037 | F8: =D99 -> 5.1111111 | G8: =(((B8*'User Interface'!$F$24)-(C8*'User Interface'!$F$25)+(D8*'User Interface'!$F$26)+(E8*'User Interface'!$F$27)+(F8*'User Interface'!$F$28))) -> 3.2148148
A9: Solar access | B9: =D28 -> 9.1851852 | C9: =D46 -> 4.5925926 | D9: =D64 -> 8.2222222 | E9: =D82 -> 4.2222222 | F9: =D100 -> 8.962963 | G9: =(((B9*'User Interface'!$F$24)-(C9*'User Interface'!$F$25)+(D9*'User Interface'!$F$26)+(E9*'User Interface'!$F$27)+(F9*'User Interface'!$F$28))) -> 5.2
A10: PV on roofs | B10: =D29 -> 9.1851852 | C10: =D47 -> 5.7777778 | D10: =D65 -> 7.6296296 | E10: =D83 -> 6.0740741 | F10: =D101 -> 8.2962963 | G10: =(((B10*'User Interface'!$F$24)-(C10*'User Interface'!$F$25)+(D10*'User Interface'!$F$26)+(E10*'User Interface'!$F$27)+(F10*'User Interface'!$F$28))) -> 5.0814815
A11: PV on facades | B11: =D30 -> 8.5185185 | C11: =D48 -> 6.5925926 | D11: =D66 -> 6.3703704 | E11: =D84 -> 6.5925926 | F11: =D102 -> 6.0740741 | G11: =(((B11*'User Interface'!$F$24)-(C11*'User Interface'!$F$25)+(D11*'User Interface'!$F$26)+(E11*'User Interface'!$F$27)+(F11*'User Interface'!$F$28))) -> 4.1925926
A12: PV in neighborhood surfaces | B12: =D31 -> 7.8518519 | C12: =D49 -> 6.1481481 | D12: =D67 -> 5.4814815 | E12: =D85 -> 6.3703704 | F12: =D103 -> 5.9259259 | G12: =(((B12*'User Interface'!$F$24)-(C12*'User Interface'!$F$25)+(D12*'User Interface'!$F$26)+(E12*'User Interface'!$F$27)+(F12*'User Interface'!$F$28))) -> 3.8962963
A13: Semi-transparent PV | B13: =D32 -> 8.0740741 | C13: =D50 -> 7.037037 | D13: =D68 -> 5.7037037 | E13: =D86 -> 6.5185185 | F13: =D104 -> 6.0740741 | G13: =(((B13*'User Interface'!$F$24)-(C13*'User Interface'!$F$25)+(D13*'User Interface'!$F$26)+(E13*'User Interface'!$F$27)+(F13*'User Interface'!$F$28))) -> 3.8666667
... A18: STC in neighborhoods | B18: =D37 -> 7.1851852 | C18: =D55 -> 6.5925926 | D18: =D73 -> 5.1851852 | E18: =D91 -> 6.5185185 | F18: =D109 -> 5.5555556 | G18: =(((B18*'User Interface'!$F$24)-(C18*'User Interface'!$F$25)+(D18*'User Interface'!$F$26)+(E18*'User Interface'!$F$27)+(F18*'User Interface'!$F$28))) -> 3.5703704
A20: Solar Strategy | B20: Outcome | C20: Rounded off Weighted Score | D20: Weighted Score | E20: Easy | F20: Easy, depending on other constraints (e.g. cost) | G20: Hard | H20: Not possible
A21: South/equatorial window | B21: =VLOOKUP(C21,Backend!$A$11:$B$19,2,FALSE) -> Easy | C21: =ROUND(D21,0) -> 10 | D21: =((E21*Backend!$C$11)+(F21*Backend!$C$13)+(G21*Backend!$C$17)+(H21*Backend!$C$19))/27 -> 9.8518519 | E21: =COUNTIF($J21:$AJ21,Backend!$B$11) -> 25 | F21: =COUNTIF($J21:$AJ21,Backend!$B$13) -> 2 | G21: =COUNTIF($J21:$AJ21,Backend!$B$17) -> 0 | H21: =COUNTIF($J21:$AJ21,Backend!$B$19) -> 0 | J21: easy | K21: easy | L21: easy | M21: easy | N21: easy, depending on other constraints (e.g. cost) | O21: easy | P21: easy | Q21: easy | R21: easy | S21: easy | T21: easy | U21: easy | V21: easy | W21: easy | X21: easy | Y21: easy | Z21: easy | AA21: easy, depending on other constraints (e.g. cost) | AB21: easy | AC21: easy | AD21: easy | AE21: easy | AF21: easy | AG21: easy | AH21: easy | AI21: easy | AJ21: easy
A22: North /non equatorial window | B22: =VLOOKUP(C22,Backend!$A$11:$B$19,2,FALSE) -> Easy | C22: =ROUND(D22,0) -> 10 | D22: =((E22*Backend!$C$11)+(F22*Backend!$C$13)+(G22*Backend!$C$17)+(H22*Backend!$C$19))/27 -> 9.7037037 | E22: =COUNTIF($J22:$AJ22,Backend!$B$11) -> 25 | F22: =COUNTIF($J22:$AJ22,Backend!$B$13) -> 1 | G22: =COUNTIF($J22:$AJ22,Backend!$B$17) -> 1 | H22: =COUNTIF($J22:$AJ22,Backend!$B$19) -> 0 | J22: easy | K22: easy | L22: easy | M22: easy | N22: easy, depending on other constraints (e.g. cost) | O22: easy | P22: easy | Q22: easy | R22: easy | S22: easy | T22: easy | U22: easy | V22: easy | W22: easy | X22: easy | Y22: easy | Z22: easy | AA22: hard | AB22: easy | AC22: easy | AD22: easy | AE22: easy | AF22: easy | AG22: easy | AH22: easy | AI22: easy | AJ22: easy
A23: East/west window | B23: =VLOOKUP(C23,Backend!$A$11:$B$19,2,FALSE) -> Easy | C23: =ROUND(D23,0) -> 10 | D23: =((E23*Backend!$C$11)+(F23*Backend!$C$13)+(G23*Backend!$C$17)+(H23*Backend!$C$19))/27 -> 9.7037037 | E23: =COUNTIF($J23:$AJ23,Backend!$B$11) -> 25 | F23: =COUNTIF($J23:$AJ23,Backend!$B$13) -> 1 | G23: =COUNTIF($J23:$AJ23,Backend!$B$17) -> 1 | H23: =COUNTIF($J23:$AJ23,Backend!$B$19) -> 0 | J23: easy | K23: easy | L23: easy | M23: easy | N23: easy, depending on other constraints (e.g. cost) | O23: easy | P23: easy | Q23: easy | R23: easy | S23: easy | T23: easy | U23: easy | V23: easy | W23: easy | X23: easy | Y23: easy | Z23: easy | AA23: hard | AB23: easy | AC23: easy | AD23: easy | AE23: easy | AF23: easy | AG23: easy | AH23: easy | AI23: easy | AJ23: easy
A24: Light tube | B24: =VLOOKUP(C24,Backend!$A$11:$B$19,2,FALSE) -> Easy, depending on other constraints (e.g. cost) | C24: =ROUND(D24,0) -> 8 | D24: =((E24*Backend!$C$11)+(F24*Backend!$C$13)+(G24*Backend!$C$17)+(H24*Backend!$C$19))/27 -> 8.2222222 | E24: =COUNTIF($J24:$AJ24,Backend!$B$11) -> 9 | F24: =COUNTIF($J24:$AJ24,Backend!$B$13) -> 15 | G24: =COUNTIF($J24:$AJ24,Backend!$B$17) -> 3 | H24: =COUNTIF($J24:$AJ24,Backend!$B$19) -> 0 | J24: easy, depending on other constraints (e.g. cost) | K24: hard | L24: easy | M24: easy | N24: easy, depending on other constraints (e.g. cost) | O24: easy | P24: easy | Q24: easy, depending on other constraints (e.g. cost) | R24: easy, depending on other constraints (e.g. cost) | S24: easy, depending on other constraints (e.g. cost) | T24: hard | U24: easy, depending on other constraints (e.g. cost) | V24: easy, depending on other constraints (e.g. cost) | W24: easy | X24: easy, depending on other constraints (e.g. cost) | Y24: easy | Z24: easy, depending on other constraints (e.g. cost) | AA24: easy, depending on other constraints (e.g. cost) | AB24: easy, depending on other constraints (e.g. cost) | AC24: easy, depending on other constraints (e.g. cost) | AD24: hard | AE24: easy | AF24: easy | AG24: easy, depending on other constraints (e.g. cost) | AH24: easy, depending on other constraints (e.g. cost) | AI24: easy | AJ24: easy, depending on other constraints (e.g. cost)
A25: Skylight | B25: =VLOOKUP(C25,Backend!$A$11:$B$19,2,FALSE) -> Easy/Easy, depending on other constraints (e.g. cost) | C25: =ROUND(D25,0) -> 9 | D25: =((E25*Backend!$C$11)+(F25*Backend!$C$13)+(G25*Backend!$C$17)+(H25*Backend!$C$19))/27 -> 8.8888889 | E25: =COUNTIF($J25:$AJ25,Backend!$B$11) -> 14 | F25: =COUNTIF($J25:$AJ25,Backend!$B$13) -> 12 | G25: =COUNTIF($J25:$AJ25,Backend!$B$17) -> 1 | H25: =COUNTIF($J25:$AJ25,Backend!$B$19) -> 0 | J25: easy, depending on other constraints (e.g. cost) | K25: easy | L25: easy | M25: easy | N25: easy, depending on other constraints (e.g. cost) | O25: easy | P25: easy | Q25: easy, depending on other constraints (e.g. cost) | R25: easy | S25: easy, depending on other constraints (e.g. cost) | T25: easy, depending on other constraints (e.g. cost) | U25: easy, depending on other constraints (e.g. cost) | V25: easy | W25: easy | X25: easy, depending on other constraints (e.g. cost) | Y25: easy | Z25: easy | AA25: hard | AB25: easy | AC25: easy, depending on other constraints (e.g. cost) | AD25: easy, depending on other constraints (e.g. cost) | AE25: easy | AF25: easy | AG25: easy, depending on other constraints (e.g. cost) | AH25: easy, depending on other constraints (e.g. cost) | AI25: easy | AJ25: easy, depending on other constraints (e.g. cost)
A26: Operable windows | B26: =VLOOKUP(C26,Backend!$A$11:$B$19,2,FALSE) -> Easy/Easy, depending on other constraints (e.g. cost) | C26: =ROUND(D26,0) -> 9 | D26: =((E26*Backend!$C$11)+(F26*Backend!$C$13)+(G26*Backend!$C$17)+(H26*Backend!$C$19))/27 -> 9.3333333 | E26: =COUNTIF($J26:$AJ26,Backend!$B$11) -> 18 | F26: =COUNTIF($J26:$AJ26,Backend!$B$13) -> 9 | G26: =COUNTIF($J26:$AJ26,Backend!$B$17) -> 0 | H26: =COUNTIF($J26:$AJ26,Backend!$B$19) -> 0 | J26: easy, depending on other constraints (e.g. cost) | K26: easy, depending on other constraints (e.g. cost) | L26: easy, depending on other constraints (e.g. cost) | M26: easy | N26: easy, depending on other constraints (e.g. cost) | O26: easy | P26: easy | Q26: easy | R26: easy | S26: easy, depending on other constraints (e.g. cost) | T26: easy | U26: easy | V26: easy | W26: easy | X26: easy | Y26: easy | Z26: easy | AA26: easy, depending on other constraints (e.g. cost) | AB26: easy, depending on other constraints (e.g. cost) | AC26: easy | AD26: easy | AE26: easy, depending on other constraints (e.g. cost) | AF26: easy | AG26: easy | AH26: easy, depending on other constraints (e.g. cost) | AI26: easy | AJ26: easy
A27: Solar chimneys | B27: =VLOOKUP(C27,Backend!$A$11:$B$19,2,FALSE) -> Easy, depending on other constraints (e.g. cost) | C27: =ROUND(D27,0) -> 8 | D27: =((E27*Backend!$C$11)+(F27*Backend!$C$13)+(G27*Backend!$C$17)+(H27*Backend!$C$19))/27 -> 7.7037037 | E27: =COUNTIF($J27:$AJ27,Backend!$B$11) -> 4 | F27: =COUNTIF($J27:$AJ27,Backend!$B$13) -> 19 | G27: =COUNTIF($J27:$AJ27,Backend!$B$17) -> 4 | H27: =COUNTIF($J27:$AJ27,Backend!$B$19) -> 0 | J27: easy, depending on other constraints (e.g. cost) | K27: hard | L27: easy | M27: easy | N27: easy, depending on other constraints (e.g. cost) | O27: easy, depending on other constraints (e.g. cost) | P27: easy, depending on other constraints (e.g. cost) | Q27: easy, depending on other constraints (e.g. cost) | R27: easy | S27: easy, depending on other constraints (e.g. cost) | T27: easy, depending on other constraints (e.g. cost) | U27: easy, depending on other constraints (e.g. cost) | V27: hard | W27: easy, depending on other constraints (e.g. cost) | X27: easy, depending on other constraints (e.g. cost) | Y27: easy, depending on other constraints (e.g. cost) | Z27: easy, depending on other constraints (e.g. cost) | AA27: hard | AB27: easy, depending on other constraints (e.g. cost) | AC27: easy, depending on other constraints (e.g. cost) | AD27: easy, depending on other constraints (e.g. cost) | AE27: easy, depending on other constraints (e.g. cost) | AF27: easy | AG27: easy, depending on other constraints (e.g. cost) | AH27: easy, depending on other constraints (e.g. cost) | AI27: hard | AJ27: easy, depending on other constraints (e.g. cost)
A28: Solar access | B28: =VLOOKUP(C28,Backend!$A$11:$B$19,2,FALSE) -> Easy/Easy, depending on other constraints (e.g. cost) | C28: =ROUND(D28,0) -> 9 | D28: =((E28*Backend!$C$11)+(F28*Backend!$C$13)+(G28*Backend!$C$17)+(H28*Backend!$C$19))/27 -> 9.1851852 | E28: =COUNTIF($J28:$AJ28,Backend!$B$11) -> 20 | F28: =COUNTIF($J28:$AJ28,Backend!$B$13) -> 5 | G28: =COUNTIF($J28:$AJ28,Backend!$B$17) -> 2 | H28: =COUNTIF($J28:$AJ28,Backend!$B$19) -> 0 | J28: easy, depending on other constraints (e.g. cost) | K28: easy | L28: easy | M28: easy | N28: easy, depending on other constraints (e.g. cost) | O28: easy | P28: easy | Q28: easy | R28: easy | S28: easy | T28: easy | U28: hard | V28: easy | W28: easy, depending on other constraints (e.g. cost) | X28: easy | Y28: easy | Z28: easy | AA28: hard | AB28: easy | AC28: easy, depending on other constraints (e.g. cost) | AD28: easy | AE28: easy | AF28: easy | AG28: easy | AH28: easy | AI28: easy, depending on other constraints (e.g. cost) | AJ28: easy
A29: PV on roofs | B29: =VLOOKUP(C29,Backend!$A$11:$B$19,2,FALSE) -> Easy/Easy, depending on other constraints (e.g. cost) | C29: =ROUND(D29,0) -> 9 | D29: =((E29*Backend!$C$11)+(F29*Backend!$C$13)+(G29*Backend!$C$17)+(H29*Backend!$C$19))/27 -> 9.1851852 | E29: =COUNTIF($J29:$AJ29,Backend!$B$11) -> 16 | F29: =COUNTIF($J29:$AJ29,Backend!$B$13) -> 11 | G29: =COUNTIF($J29:$AJ29,Backend!$B$17) -> 0 | H29: =COUNTIF($J29:$AJ29,Backend!$B$19) -> 0 | J29: easy, depending on other constraints (e.g. cost) | K29: easy | L29: easy, depending on other constraints (e.g. cost) | M29: easy | N29: easy, depending on other constraints (e.g. cost) | O29: easy | P29: easy, depending on other constraints (e.g. cost) | Q29: easy | R29: easy, depending on other constraints (e.g. cost) | S29: easy, depending on other constraints (e.g. cost) | T29: easy | U29: easy | V29: easy, depending on other constraints (e.g. cost) | W29: easy | X29: easy | Y29: easy | Z29: easy | AA29: easy, depending on other constraints (e.g. cost) | AB29: easy, depending on other constraints (e.g. cost) | AC29: easy | AD29: easy | AE29: easy | AF29: easy | AG29: easy, depending on other constraints (e.g. cost) | AH29: easy | AI29: easy | AJ29: easy, depending on other constraints (e.g. cost)
A30: PV on facades | B30: =VLOOKUP(C30,Backend!$A$11:$B$19,2,FALSE) -> Easy/Easy, depending on other constraints (e.g. cost) | C30: =ROUND(D30,0) -> 9 | D30: =((E30*Backend!$C$11)+(F30*Backend!$C$13)+(G30*Backend!$C$17)+(H30*Backend!$C$19))/27 -> 8.5185185 | E30: =COUNTIF($J30:$AJ30,Backend!$B$11) -> 7 | F30: =COUNTIF($J30:$AJ30,Backend!$B$13) -> 20 | G30: =COUNTIF($J30:$AJ30,Backend!$B$17) -> 0 | H30: =COUNTIF($J30:$AJ30,Backend!$B$19) -> 0 | J30: easy, depending on other constraints (e.g. cost) | K30: easy | L30: easy, depending on other constraints (e.g. cost) | M30: easy | N30: easy, depending on other constraints (e.g. cost) | O30: easy, depending on other constraints (e.g. cost) | P30: easy, depending on other constraints (e.g. cost) | Q30: easy, depending on other constraints (e.g. cost) | R30: easy, depending on other constraints (e.g. cost) | S30: easy, depending on other constraints (e.g. cost) | T30: easy, depending on other constraints (e.g. cost) | U30: easy, depending on other constraints (e.g. cost) | V30: easy, depending on other constraints (e.g. cost) | W30: easy, depending on other constraints (e.g. cost) | X30: easy | Y30: easy, depending on other constraints (e.g. cost) | Z30: easy | AA30: easy, depending on other constraints (e.g. cost) | AB30: easy, depending on other constraints (e.g. cost) | AC30: easy, depending on other constraints (e.g. cost) | AD30: easy, depending on other constraints (e.g. cost) | AE30: easy, depending on other constraints (e.g. cost) | AF30: easy | AG30: easy, depending on other constraints (e.g. cost) | AH30: easy | AI30: easy | AJ30: easy, depending on other constraints (e.g. cost)
A31: PV in neighborhood surfaces | B31: =VLOOKUP(C31,Backend!$A$11:$B$19,2,FALSE) -> Easy, depending on other constraints (e.g. cost) | C31: =ROUND(D31,0) -> 8 | D31: =((E31*Backend!$C$11)+(F31*Backend!$C$13)+(G31*Backend!$C$17)+(H31*Backend!$C$19))/27 -> 7.8518519 | E31: =COUNTIF($J31:$AJ31,Backend!$B$11) -> 6 | F31: =COUNTIF($J31:$AJ31,Backend!$B$13) -> 17 | G31: =COUNTIF($J31:$AJ31,Backend!$B$17) -> 4 | H31: =COUNTIF($J31:$AJ31,Backend!$B$19) -> 0 | J31: easy, depending on other constraints (e.g. cost) | K31: easy | L31: easy, depending on other constraints (e.g. cost) | M31: easy | N31: easy, depending on other constraints (e.g. cost) | O31: hard | P31: easy, depending on other constraints (e.g. cost) | Q31: easy | R31: easy, depending on other constraints (e.g. cost) | S31: easy, depending on other constraints (e.g. cost) | T31: easy, depending on other constraints (e.g. cost) | U31: easy, depending on other constraints (e.g. cost) | V31: easy, depending on other constraints (e.g. cost) | W31: easy, depending on other constraints (e.g. cost) | X31: easy, depending on other constraints (e.g. cost) | Y31: hard | Z31: easy | AA31: easy, depending on other constraints (e.g. cost) | AB31: hard | AC31: hard | AD31: easy, depending on other constraints (e.g. cost) | AE31: easy, depending on other constraints (e.g. cost) | AF31: easy, depending on other constraints (e.g. cost) | AG31: easy, depending on other constraints (e.g. cost) | AH31: easy | AI31: easy | AJ31: easy, depending on other constraints (e.g. cost)
A32: Semi-transparent PV | B32: =VLOOKUP(C32,Backend!$A$11:$B$19,2,FALSE) -> Easy, depending on other constraints (e.g. cost) | C32: =ROUND(D32,0) -> 8 | D32: =((E32*Backend!$C$11)+(F32*Backend!$C$13)+(G32*Backend!$C$17)+(H32*Backend!$C$19))/27 -> 8.0740741 | E32: =COUNTIF($J32:$AJ32,Backend!$B$11) -> 7 | F32: =COUNTIF($J32:$AJ32,Backend!$B$13) -> 17 | G32: =COUNTIF($J32:$AJ32,Backend!$B$17) -> 3 | H32: =COUNTIF($J32:$AJ32,Backend!$B$19) -> 0 | J32: easy, depending on other constraints (e.g. cost) | K32: easy | L32: easy, depending on other constraints (e.g. cost) | M32: easy | N32: easy, depending on other constraints (e.g. cost) | O32: easy, depending on other constraints (e.g. cost) | P32: easy, depending on other constraints (e.g. cost) | Q32: easy, depending on other constraints (e.g. cost) | R32: easy, depending on other constraints (e.g. cost) | S32: easy, depending on other constraints (e.g. cost) | T32: easy, depending on other constraints (e.g. cost) | U32: hard | V32: hard | W32: easy, depending on other constraints (e.g. cost) | X32: easy, depending on other constraints (e.g. cost) | Y32: easy | Z32: easy | AA32: easy, depending on other constraints (e.g. cost) | AB32: easy, depending on other constraints (e.g. cost) | AC32: easy, depending on other constraints (e.g. cost) | AD32: hard | AE32: easy, depending on other constraints (e.g. cost) | AF32: easy | AG32: easy, depending on other constraints (e.g. cost) | AH32: easy | AI32: easy | AJ32: easy, depending on other constraints (e.g. cost)
... A37: STC in neighborhoods | B37: =VLOOKUP(C37,Backend!$A$11:$B$19,2,FALSE) -> Moderate/Easy, depending on other constraints (e.g. cost) | C37: =ROUND(D37,0) -> 7 | D37: =((E37*Backend!$C$11)+(F37*Backend!$C$13)+(G37*Backend!$C$17)+(H37*Backend!$C$19))/27 -> 7.1851852 | E37: =COUNTIF($J37:$AJ37,Backend!$B$11) -> 5 | F37: =COUNTIF($J37:$AJ37,Backend!$B$13) -> 14 | G37: =COUNTIF($J37:$AJ37,Backend!$B$17) -> 8 | H37: =COUNTIF($J37:$AJ37,Backend!$B$19) -> 0 | J37: easy, depending on other constraints (e.g. cost) | K37: easy | L37: easy, depending on other constraints (e.g. cost) | M37: easy | N37: easy, depending on other constraints (e.g. cost) | O37: hard | P37: easy, depending on other constraints (e.g. cost) | Q37: easy, depending on other constraints (e.g. cost) | R37: easy, depending on other constraints (e.g. cost) | S37: easy, depending on other constraints (e.g. cost) | T37: easy, depending on other constraints (e.g. cost) | U37: hard | V37: easy, depending on other constraints (e.g. cost) | W37: easy, depending on other constraints (e.g. cost) | X37: hard | Y37: hard | Z37: easy | AA37: easy, depending on other constraints (e.g. cost) | AB37: hard | AC37: easy, depending on other constraints (e.g. cost) | AD37: hard | AE37: hard | AF37: easy | AG37: easy | AH37: easy, depending on other constraints (e.g. cost) | AI37: hard | AJ37: easy, depending on other constraints (e.g. cost)
